BEGIN:VCALENDAR
VERSION:2.0
PRODID:-//Harrison Bounds - ECPv6.15.12.2//NONSGML v1.0//EN
CALSCALE:GREGORIAN
METHOD:PUBLISH
X-WR-CALNAME:Harrison Bounds
X-ORIGINAL-URL:https://harrisonbounds.com
X-WR-CALDESC:Events for Harrison Bounds
REFRESH-INTERVAL;VALUE=DURATION:PT1H
X-Robots-Tag:noindex
X-PUBLISHED-TTL:PT1H
BEGIN:VTIMEZONE
TZID:UTC
BEGIN:STANDARD
TZOFFSETFROM:+0000
TZOFFSETTO:+0000
TZNAME:UTC
DTSTART:20140101T000000
END:STANDARD
END:VTIMEZONE
BEGIN:VEVENT
DTSTART;TZID=UTC:20151213T110000
DTEND;TZID=UTC:20151213T150000
DTSTAMP:20260422T091326
CREATED:20151208T105916Z
LAST-MODIFIED:20151208T105916Z
UID:715-1450004400-1450018800@harrisonbounds.com
SUMMARY:Lunasea Brunch
DESCRIPTION:
URL:https://harrisonbounds.com/event/lunasea-brunch-2/
LOCATION:Lunasea\, 206 22nd street\, Virginia Beach \, VA\, United States
END:VEVENT
BEGIN:VEVENT
DTSTART;TZID=UTC:20151209T200000
DTEND;TZID=UTC:20151209T220000
DTSTAMP:20260422T091326
CREATED:20151208T114857Z
LAST-MODIFIED:20151208T114857Z
UID:722-1449691200-1449698400@harrisonbounds.com
SUMMARY:Duck Call with LiQUiD and Ponch
DESCRIPTION:
URL:https://harrisonbounds.com/event/duck-call-with-liquid-and-ponch/
LOCATION:Back Bay Brewery\, 614 Norfolk Ave\, Virginia Beach\, VA\, 23452\, United States
END:VEVENT
BEGIN:VEVENT
DTSTART;TZID=UTC:20151206T110000
DTEND;TZID=UTC:20151206T150000
DTSTAMP:20260422T091326
CREATED:20151114T121010Z
LAST-MODIFIED:20151114T121010Z
UID:712-1449399600-1449414000@harrisonbounds.com
SUMMARY:Lunasea Brunch
DESCRIPTION:
URL:https://harrisonbounds.com/event/lunasea-brunch/
LOCATION:Lunasea\, 206 22nd street\, Virginia Beach \, VA\, United States
END:VEVENT
BEGIN:VEVENT
DTSTART;TZID=UTC:20151205T210000
DTEND;TZID=UTC:20151206T010000
DTSTAMP:20260422T091326
CREATED:20151110T055856Z
LAST-MODIFIED:20151110T055856Z
UID:704-1449349200-1449363600@harrisonbounds.com
SUMMARY:Live at Chix Sea Grille
DESCRIPTION:
URL:https://harrisonbounds.com/event/live-at-chix-sea-grille/
LOCATION:Chix Sea Grille\, 7th and Atlantic Ave\, Virginia Beach\, United States
END:VEVENT
BEGIN:VEVENT
DTSTART;TZID=UTC:20151129T080000
DTEND;TZID=UTC:20151129T170000
DTSTAMP:20260422T091326
CREATED:20151004T054705Z
LAST-MODIFIED:20151004T054705Z
UID:636-1448784000-1448816400@harrisonbounds.com
SUMMARY:Stan and Joes Annapolis MD with Shawn Owen
DESCRIPTION:
URL:https://harrisonbounds.com/event/stan-and-joes-annapolis-md-with-shawn-owen-2/
LOCATION:VA
END:VEVENT
BEGIN:VEVENT
DTSTART;TZID=UTC:20151128T193000
DTEND;TZID=UTC:20151128T233000
DTSTAMP:20260422T091326
CREATED:20151027T063509Z
LAST-MODIFIED:20151027T063509Z
UID:702-1448739000-1448753400@harrisonbounds.com
SUMMARY:The Fiddlehead
DESCRIPTION:
URL:https://harrisonbounds.com/event/the-fiddlehead/
LOCATION:The Fiddlehead\, Snowshoe\, WV\, United States
END:VEVENT
BEGIN:VEVENT
DTSTART;TZID=UTC:20151127T210000
DTEND;TZID=UTC:20151127T210000
DTSTAMP:20260422T091326
CREATED:20151027T063411Z
LAST-MODIFIED:20151027T063411Z
UID:701-1448658000-1448658000@harrisonbounds.com
SUMMARY:Tubby's Tavern
DESCRIPTION:
URL:https://harrisonbounds.com/event/tubbys-tavern-3/
LOCATION:VA
END:VEVENT
BEGIN:VEVENT
DTSTART;VALUE=DATE:20151121
DTEND;VALUE=DATE:20151122
DTSTAMP:20260422T091326
CREATED:20151004T054648Z
LAST-MODIFIED:20151004T054648Z
UID:634-1448064000-1448150399@harrisonbounds.com
SUMMARY:Cadence Festival- The Special Guests open for Manchester Orchestra
DESCRIPTION:
URL:https://harrisonbounds.com/event/cadence-festival-the-special-guests-open-for-manchester-orchestra/
LOCATION:VA
END:VEVENT
BEGIN:VEVENT
DTSTART;TZID=UTC:20151115T160000
DTEND;TZID=UTC:20151115T200000
DTSTAMP:20260422T091326
CREATED:20151027T063235Z
LAST-MODIFIED:20151027T063235Z
UID:699-1447603200-1447617600@harrisonbounds.com
SUMMARY:Private Party
DESCRIPTION:
URL:https://harrisonbounds.com/event/private-party/
LOCATION:VA
END:VEVENT
BEGIN:VEVENT
DTSTART;TZID=UTC:20151114T210000
DTEND;TZID=UTC:20151115T000000
DTSTAMP:20260422T091326
CREATED:20151004T054602Z
LAST-MODIFIED:20151004T054602Z
UID:632-1447534800-1447545600@harrisonbounds.com
SUMMARY:Barrel Room
DESCRIPTION:
URL:https://harrisonbounds.com/event/barrel-room/
LOCATION:The Barrel Room\, Norfolk
END:VEVENT
BEGIN:VEVENT
DTSTART;TZID=UTC:20151107T220000
DTEND;TZID=UTC:20151108T013000
DTSTAMP:20260422T091326
CREATED:20151004T054510Z
LAST-MODIFIED:20151027T072510Z
UID:630-1446933600-1446946200@harrisonbounds.com
SUMMARY:Cary St. Cafe with The Special Guests
DESCRIPTION:
URL:https://harrisonbounds.com/event/cary-st-cafe-with-tsg/
LOCATION:Carry Street Cafe\, Richmond\, VA\, United States
END:VEVENT
BEGIN:VEVENT
DTSTART;TZID=UTC:20151101T080000
DTEND;TZID=UTC:20151101T170000
DTSTAMP:20260422T091326
CREATED:20151004T054428Z
LAST-MODIFIED:20151004T054428Z
UID:629-1446364800-1446397200@harrisonbounds.com
SUMMARY:Stan and Joes Annapolis MD with Shawn Owen
DESCRIPTION:
URL:https://harrisonbounds.com/event/stan-and-joes-annapolis-md-with-shawn-owen/
LOCATION:VA
END:VEVENT
BEGIN:VEVENT
DTSTART;TZID=UTC:20151031T200000
DTEND;TZID=UTC:20151031T233500
DTSTAMP:20260422T091326
CREATED:20151004T054358Z
LAST-MODIFIED:20151027T063538Z
UID:628-1446321600-1446334500@harrisonbounds.com
SUMMARY:ECU Halloween Party with The Special Guests
DESCRIPTION:
URL:https://harrisonbounds.com/event/ecu-halloween-party-with-whales-and-the-special-guests/
LOCATION:VA
END:VEVENT
BEGIN:VEVENT
DTSTART;TZID=UTC:20151030T213000
DTEND;TZID=UTC:20151031T003000
DTSTAMP:20260422T091326
CREATED:20151004T054303Z
LAST-MODIFIED:20151004T054303Z
UID:627-1446240600-1446251400@harrisonbounds.com
SUMMARY:Tubby's Tavern
DESCRIPTION:
URL:https://harrisonbounds.com/event/tubbys-tavern-2/
LOCATION:Tubby’s Tavern
END:VEVENT
BEGIN:VEVENT
DTSTART;TZID=UTC:20151028T200000
DTEND;TZID=UTC:20151028T220000
DTSTAMP:20260422T091326
CREATED:20151004T054210Z
LAST-MODIFIED:20151004T054210Z
UID:625-1446062400-1446069600@harrisonbounds.com
SUMMARY:Duck Call
DESCRIPTION:
URL:https://harrisonbounds.com/event/duck-call/
LOCATION:Five 01 City Grill\, 501 Birdneck Road North\, Virginia Beach\, United States
END:VEVENT
BEGIN:VEVENT
DTSTART;TZID=UTC:20151024T130000
DTEND;TZID=UTC:20151024T141500
DTSTAMP:20260422T091326
CREATED:20151004T054100Z
LAST-MODIFIED:20151004T054100Z
UID:622-1445691600-1445696100@harrisonbounds.com
SUMMARY:Arts and Drafts 2015
DESCRIPTION:
URL:https://harrisonbounds.com/event/arts-and-drafts-2015/
LOCATION:The Sandler Center
END:VEVENT
BEGIN:VEVENT
DTSTART;TZID=UTC:20151021T200000
DTEND;TZID=UTC:20151021T220000
DTSTAMP:20260422T091326
CREATED:20151004T054010Z
LAST-MODIFIED:20151004T054010Z
UID:621-1445457600-1445464800@harrisonbounds.com
SUMMARY:Duck Call at Back Bay Brewing
DESCRIPTION:
URL:https://harrisonbounds.com/event/duck-call-at-back-bay-brewing/
LOCATION:VA
END:VEVENT
BEGIN:VEVENT
DTSTART;TZID=UTC:20151017T190000
DTEND;TZID=UTC:20151017T210000
DTSTAMP:20260422T091326
CREATED:20151004T053919Z
LAST-MODIFIED:20151004T053932Z
UID:620-1445108400-1445115600@harrisonbounds.com
SUMMARY:YVBC with The Special Guests
DESCRIPTION:
URL:https://harrisonbounds.com/event/yvbc-with-the-special-guests/
LOCATION:VA
CATEGORIES:The Special Guests
END:VEVENT
BEGIN:VEVENT
DTSTART;TZID=UTC:20151014T200000
DTEND;TZID=UTC:20151014T220000
DTSTAMP:20260422T091326
CREATED:20151004T053837Z
LAST-MODIFIED:20151004T053837Z
UID:619-1444852800-1444860000@harrisonbounds.com
SUMMARY:Duck Call with Chris Cesare
DESCRIPTION:
URL:https://harrisonbounds.com/event/duck-call-with-chris-cesare/
LOCATION:VA
END:VEVENT
BEGIN:VEVENT
DTSTART;TZID=UTC:20151013T233000
DTEND;TZID=UTC:20151014T013000
DTSTAMP:20260422T091326
CREATED:20151004T053802Z
LAST-MODIFIED:20151004T053802Z
UID:618-1444779000-1444786200@harrisonbounds.com
SUMMARY:Virginia Pilot/Pilot Media Picnic
DESCRIPTION:
URL:https://harrisonbounds.com/event/virginia-pilotpilot-media-picnic/
LOCATION:VA
END:VEVENT
BEGIN:VEVENT
DTSTART;TZID=UTC:20151010T190000
DTEND;TZID=UTC:20151010T220000
DTSTAMP:20260422T091326
CREATED:20151004T053700Z
LAST-MODIFIED:20151004T053700Z
UID:616-1444503600-1444514400@harrisonbounds.com
SUMMARY:The Fiddlehead- Snowshoe
DESCRIPTION:
URL:https://harrisonbounds.com/event/the-fiddlehead-snowshoe/
LOCATION:The Fiddlehead\, Snowshoe\, WV\, United States
END:VEVENT
BEGIN:VEVENT
DTSTART;TZID=UTC:20151009T213000
DTEND;TZID=UTC:20151010T003000
DTSTAMP:20260422T091326
CREATED:20151002T124004Z
LAST-MODIFIED:20151002T124204Z
UID:572-1444426200-1444437000@harrisonbounds.com
SUMMARY:Tubbys Tavern
DESCRIPTION:
URL:https://harrisonbounds.com/event/tubbys-tavern/
LOCATION:Tubby’s Tavern
CATEGORIES:Harrison Bounds
END:VEVENT
BEGIN:VEVENT
DTSTART;TZID=UTC:20151007T200000
DTEND;TZID=UTC:20151007T220000
DTSTAMP:20260422T091326
CREATED:20151005T092004Z
LAST-MODIFIED:20151005T092004Z
UID:681-1444248000-1444255200@harrisonbounds.com
SUMMARY:Duck Call with Courtney and Monicka
DESCRIPTION:Acoustic tunes at Back Bay Brewery with special guests Courtney and Monicka
URL:https://harrisonbounds.com/event/duck-call-with-courtney-and-monicka/
LOCATION:Five 01 City Grill\, 501 Birdneck Road North\, Virginia Beach\, United States
END:VEVENT
END:VCALENDAR