BEGIN:VCALENDAR
VERSION:2.0
PRODID:-//Harrison Bounds - ECPv6.15.12.2//NONSGML v1.0//EN
CALSCALE:GREGORIAN
METHOD:PUBLISH
X-WR-CALNAME:Harrison Bounds
X-ORIGINAL-URL:https://harrisonbounds.com
X-WR-CALDESC:Events for Harrison Bounds
REFRESH-INTERVAL;VALUE=DURATION:PT1H
X-Robots-Tag:noindex
X-PUBLISHED-TTL:PT1H
BEGIN:VTIMEZONE
TZID:UTC
BEGIN:STANDARD
TZOFFSETFROM:+0000
TZOFFSETTO:+0000
TZNAME:UTC
DTSTART:20150101T000000
END:STANDARD
END:VTIMEZONE
BEGIN:VEVENT
DTSTART;TZID=UTC:20160413T200000
DTEND;TZID=UTC:20160413T220000
DTSTAMP:20260422T081039
CREATED:20160323T075943Z
LAST-MODIFIED:20160323T075957Z
UID:804-1460577600-1460584800@harrisonbounds.com
SUMMARY:Duck Call with Mike Gombas Jr.
DESCRIPTION:
URL:https://harrisonbounds.com/event/duck-call-with-mike-gombas-jr/
LOCATION:Back Bay Brewery\, 614 Norfolk Ave\, Virginia Beach\, VA\, 23452\, United States
END:VEVENT
BEGIN:VEVENT
DTSTART;TZID=UTC:20160412T210000
DTEND;TZID=UTC:20160412T235500
DTSTAMP:20260422T081039
CREATED:20160323T075646Z
LAST-MODIFIED:20160323T075646Z
UID:802-1460494800-1460505300@harrisonbounds.com
SUMMARY:Taco Tuesday at Nat's on Mediterranean
DESCRIPTION:
URL:https://harrisonbounds.com/event/taco-tuesday-at-nats-on-mediterranean/
LOCATION:Nat’s on Mediterranean\, 1706 Mediterranean Avenue\, Virginia Beach\, VA\, 23451\, United States
END:VEVENT
BEGIN:VEVENT
DTSTART;TZID=UTC:20160410T110000
DTEND;TZID=UTC:20160410T150000
DTSTAMP:20260422T081039
CREATED:20160201T052854Z
LAST-MODIFIED:20160201T052854Z
UID:779-1460286000-1460300400@harrisonbounds.com
SUMMARY:Lunasea Brunch
DESCRIPTION:
URL:https://harrisonbounds.com/event/lunasea-brunch-5/
LOCATION:Lunasea\, 206 22nd street\, Virginia Beach \, VA\, United States
END:VEVENT
BEGIN:VEVENT
DTSTART;TZID=UTC:20160406T200000
DTEND;TZID=UTC:20160406T220000
DTSTAMP:20260422T081039
CREATED:20160310T083759Z
LAST-MODIFIED:20160310T083759Z
UID:796-1459972800-1459980000@harrisonbounds.com
SUMMARY:Duck Call with Clint Ologist
DESCRIPTION:
URL:https://harrisonbounds.com/event/duck-call-with-clint-ologist/
END:VEVENT
BEGIN:VEVENT
DTSTART;TZID=UTC:20160403T160000
DTEND;TZID=UTC:20160403T180000
DTSTAMP:20260422T081039
CREATED:20160323T080609Z
LAST-MODIFIED:20160323T080609Z
UID:808-1459699200-1459706400@harrisonbounds.com
SUMMARY:Coelecanth Brewery
DESCRIPTION:
URL:https://harrisonbounds.com/event/coelecanth-brewery/
END:VEVENT
BEGIN:VEVENT
DTSTART;TZID=UTC:20160401T170000
DTEND;TZID=UTC:20160401T210000
DTSTAMP:20260422T081039
CREATED:20160323T080402Z
LAST-MODIFIED:20160323T080402Z
UID:806-1459530000-1459544400@harrisonbounds.com
SUMMARY:Onie Tonie Art Show at Studio 17
DESCRIPTION:
URL:https://harrisonbounds.com/event/onie-tonie-art-show-at-studio-17/
LOCATION:Studio 17 VB\, 536 Virginia Beach Blvd\, 23451
END:VEVENT
BEGIN:VEVENT
DTSTART;TZID=UTC:20160330T200000
DTEND;TZID=UTC:20160330T220000
DTSTAMP:20260422T081039
CREATED:20160310T083713Z
LAST-MODIFIED:20160310T083713Z
UID:795-1459368000-1459375200@harrisonbounds.com
SUMMARY:Duck Call with Kyle Folsom
DESCRIPTION:
URL:https://harrisonbounds.com/event/duck-call-with-kyle-folsom/
LOCATION:Back Bay Brewery\, 614 Norfolk Ave\, Virginia Beach\, VA\, 23452\, United States
END:VEVENT
BEGIN:VEVENT
DTSTART;TZID=UTC:20160326T200000
DTEND;TZID=UTC:20160326T230000
DTSTAMP:20260422T081039
CREATED:20160223T143421Z
LAST-MODIFIED:20160223T143421Z
UID:789-1459022400-1459033200@harrisonbounds.com
SUMMARY:Private Party
DESCRIPTION:
URL:https://harrisonbounds.com/event/private-party-2/
END:VEVENT
BEGIN:VEVENT
DTSTART;TZID=UTC:20160325T210000
DTEND;TZID=UTC:20160325T235500
DTSTAMP:20260422T081039
CREATED:20160201T052823Z
LAST-MODIFIED:20160201T052823Z
UID:777-1458939600-1458950100@harrisonbounds.com
SUMMARY:Live at Agave Shore Drive
DESCRIPTION:
URL:https://harrisonbounds.com/event/live-at-agave-shore-drive/
LOCATION:Agave\, 2957 Shore Drive\, Virginia Beach\, 23451\, United States
END:VEVENT
BEGIN:VEVENT
DTSTART;TZID=UTC:20160323T200000
DTEND;TZID=UTC:20160323T220000
DTSTAMP:20260422T081039
CREATED:20160310T083638Z
LAST-MODIFIED:20160310T083638Z
UID:794-1458763200-1458770400@harrisonbounds.com
SUMMARY:Duck Call with Artis and Steele
DESCRIPTION:
URL:https://harrisonbounds.com/event/duck-call-with-artis-and-steele-2/
LOCATION:Back Bay Brewery\, 614 Norfolk Ave\, Virginia Beach\, VA\, 23452\, United States
END:VEVENT
BEGIN:VEVENT
DTSTART;TZID=UTC:20160319T210000
DTEND;TZID=UTC:20160319T210000
DTSTAMP:20260422T081039
CREATED:20160127T065303Z
LAST-MODIFIED:20160127T065303Z
UID:773-1458421200-1458421200@harrisonbounds.com
SUMMARY:Tubby's Tavern
DESCRIPTION:
URL:https://harrisonbounds.com/event/tubbys-tavern-5/
LOCATION:Tubby’s Tavern
END:VEVENT
BEGIN:VEVENT
DTSTART;TZID=UTC:20160319T150000
DTEND;TZID=UTC:20160319T180000
DTSTAMP:20260422T081039
CREATED:20160127T065210Z
LAST-MODIFIED:20160127T065210Z
UID:772-1458399600-1458410400@harrisonbounds.com
SUMMARY:The Special Guests at Wasserhund
DESCRIPTION:Enjoy an afternoon set of The Special Guests from 3-6 for Wasserhund’s Fruhling fest
URL:https://harrisonbounds.com/event/the-special-guests-at-wasserhund/
LOCATION:Wasserhund Brewing Company\, 1805 Laskin road Suite #102\, Virginia Beach\, VA\, 23454\, United States
END:VEVENT
BEGIN:VEVENT
DTSTART;TZID=UTC:20160318T210000
DTEND;TZID=UTC:20160318T230000
DTSTAMP:20260422T081039
CREATED:20160310T084000Z
LAST-MODIFIED:20160310T084000Z
UID:797-1458334800-1458342000@harrisonbounds.com
SUMMARY:Rockfish St. Patty's Celebration
DESCRIPTION:
URL:https://harrisonbounds.com/event/rockfish-st-pattys-celebration/
LOCATION:Rockfish Boardwalk Bar and Sea Grille\, 1601 Atlantic Avenue\, Virginia Beach\, VA\, 23451\, United States
END:VEVENT
BEGIN:VEVENT
DTSTART;TZID=UTC:20160316T200000
DTEND;TZID=UTC:20160316T220000
DTSTAMP:20260422T081039
CREATED:20160310T083531Z
LAST-MODIFIED:20160310T083531Z
UID:793-1458158400-1458165600@harrisonbounds.com
SUMMARY:Duck Call with Matt Mason
DESCRIPTION:
URL:https://harrisonbounds.com/event/duck-call-with-matt-mason/
LOCATION:Back Bay Brewery\, 614 Norfolk Ave\, Virginia Beach\, VA\, 23452\, United States
END:VEVENT
BEGIN:VEVENT
DTSTART;TZID=UTC:20160312T210000
DTEND;TZID=UTC:20160312T210000
DTSTAMP:20260422T081039
CREATED:20160112T091309Z
LAST-MODIFIED:20160112T091309Z
UID:751-1457816400-1457816400@harrisonbounds.com
SUMMARY:Chix Sea Grille
DESCRIPTION:
URL:https://harrisonbounds.com/event/chix-sea-grille/
LOCATION:Chix Sea Grille\, 7th and Atlantic Ave\, Virginia Beach\, United States
END:VEVENT
BEGIN:VEVENT
DTSTART;TZID=UTC:20160311T200000
DTEND;TZID=UTC:20160311T220000
DTSTAMP:20260422T081039
CREATED:20160217T055643Z
LAST-MODIFIED:20160217T062319Z
UID:788-1457726400-1457733600@harrisonbounds.com
SUMMARY:Cogan's North
DESCRIPTION:
URL:https://harrisonbounds.com/event/cogans-north/
LOCATION:Cogan’s North\, 4311 Colley Avenue\, Norfolk\, VA\, United States
END:VEVENT
BEGIN:VEVENT
DTSTART;TZID=UTC:20160309T200000
DTEND;TZID=UTC:20160309T220000
DTSTAMP:20260422T081039
CREATED:20160310T083446Z
LAST-MODIFIED:20160310T083446Z
UID:792-1457553600-1457560800@harrisonbounds.com
SUMMARY:Duck Call with Amy Kaus
DESCRIPTION:
URL:https://harrisonbounds.com/event/duck-call-with-amy-kaus/
LOCATION:Back Bay Brewery\, 614 Norfolk Ave\, Virginia Beach\, VA\, 23452\, United States
END:VEVENT
BEGIN:VEVENT
DTSTART;TZID=UTC:20160306T110000
DTEND;TZID=UTC:20160306T150000
DTSTAMP:20260422T081039
CREATED:20160201T052653Z
LAST-MODIFIED:20160201T052653Z
UID:776-1457262000-1457276400@harrisonbounds.com
SUMMARY:Lunasea Brunch
DESCRIPTION:
URL:https://harrisonbounds.com/event/lunasea-brunch-4/
LOCATION:Lunasea\, 206 22nd street\, Virginia Beach \, VA\, United States
END:VEVENT
BEGIN:VEVENT
DTSTART;TZID=UTC:20160227T200000
DTEND;TZID=UTC:20160227T230000
DTSTAMP:20260422T081039
CREATED:20160127T061257Z
LAST-MODIFIED:20160127T061257Z
UID:770-1456603200-1456614000@harrisonbounds.com
SUMMARY:Live at The Fiddlehead
DESCRIPTION:
URL:https://harrisonbounds.com/event/live-at-the-fiddlehead-2/
LOCATION:The Fiddlehead\, Snowshoe\, WV\, United States
END:VEVENT
BEGIN:VEVENT
DTSTART;TZID=UTC:20160226T190000
DTEND;TZID=UTC:20160226T210000
DTSTAMP:20260422T081039
CREATED:20160112T091912Z
LAST-MODIFIED:20160112T091912Z
UID:755-1456513200-1456520400@harrisonbounds.com
SUMMARY:Corduroy Inn- Snowshoe
DESCRIPTION:
URL:https://harrisonbounds.com/event/corduroy-inn-snowshoe/
LOCATION:Corduroy Inn\, 5811 Snowshoe Drive\, Snowshoe\, WV\, United States
END:VEVENT
BEGIN:VEVENT
DTSTART;TZID=UTC:20160224T200000
DTEND;TZID=UTC:20160224T220000
DTSTAMP:20260422T081039
CREATED:20160201T064903Z
LAST-MODIFIED:20160201T064903Z
UID:782-1456344000-1456351200@harrisonbounds.com
SUMMARY:Duck Call with Mike Gombas
DESCRIPTION:
URL:https://harrisonbounds.com/event/duck-call-with-mike-gombas/
LOCATION:Back Bay Brewery\, 614 Norfolk Ave\, Virginia Beach\, VA\, 23452\, United States
END:VEVENT
BEGIN:VEVENT
DTSTART;TZID=UTC:20160219T190000
DTEND;TZID=UTC:20160219T220000
DTSTAMP:20260422T081039
CREATED:20160201T052613Z
LAST-MODIFIED:20160201T052613Z
UID:775-1455908400-1455919200@harrisonbounds.com
SUMMARY:Live at Wasserhund
DESCRIPTION:
URL:https://harrisonbounds.com/event/live-at-wasserhund/
LOCATION:Wasserhund Brewing Company\, 1805 Laskin road Suite #102\, Virginia Beach\, VA\, 23454\, United States
END:VEVENT
BEGIN:VEVENT
DTSTART;TZID=UTC:20160217T200000
DTEND;TZID=UTC:20160217T220000
DTSTAMP:20260422T081039
CREATED:20160113T095323Z
LAST-MODIFIED:20160127T065410Z
UID:763-1455739200-1455746400@harrisonbounds.com
SUMMARY:Duck Call with Sam Burchfield
DESCRIPTION:
URL:https://harrisonbounds.com/event/duck-call-with-artis-and-steele/
LOCATION:Back Bay Brewery\, 614 Norfolk Ave\, Virginia Beach\, VA\, 23452\, United States
CATEGORIES:Harrison Bounds
END:VEVENT
BEGIN:VEVENT
DTSTART;TZID=UTC:20160215T190000
DTEND;TZID=UTC:20160215T210000
DTSTAMP:20260422T081039
CREATED:20160201T064800Z
LAST-MODIFIED:20160201T064800Z
UID:780-1455562800-1455570000@harrisonbounds.com
SUMMARY:Chichos with Mike Gombas
DESCRIPTION:
URL:https://harrisonbounds.com/event/chichos-with-mike-gombas/
LOCATION:Chichos 29th Street\, 2820 Pacific Avenue\, Virginia Beach\, 23451
END:VEVENT
BEGIN:VEVENT
DTSTART;TZID=UTC:20160213T210000
DTEND;TZID=UTC:20160213T210000
DTSTAMP:20260422T081039
CREATED:20151212T041827Z
LAST-MODIFIED:20151212T041827Z
UID:734-1455397200-1455397200@harrisonbounds.com
SUMMARY:Live at Chix Sea Grille
DESCRIPTION:
URL:https://harrisonbounds.com/event/live-at-chix-sea-grille-3/
LOCATION:Chix Sea Grille\, 7th and Atlantic Ave\, Virginia Beach\, United States
END:VEVENT
BEGIN:VEVENT
DTSTART;TZID=UTC:20160210T200000
DTEND;TZID=UTC:20160210T230000
DTSTAMP:20260422T081039
CREATED:20160112T064135Z
LAST-MODIFIED:20160112T064135Z
UID:750-1455134400-1455145200@harrisonbounds.com
SUMMARY:Five 01 City Grill
DESCRIPTION:
URL:https://harrisonbounds.com/event/five-01-city-grill/
END:VEVENT
BEGIN:VEVENT
DTSTART;TZID=UTC:20160206T173000
DTEND;TZID=UTC:20160206T190000
DTSTAMP:20260422T081039
CREATED:20160203T103516Z
LAST-MODIFIED:20160203T103516Z
UID:783-1454779800-1454785200@harrisonbounds.com
SUMMARY:New Belgium & Lynnhaven Pub Sour Celebration
DESCRIPTION:“Lost in the Woods” series celebration tasting multiple Sour’s at the Lynnhave Pub- details on event page \nhttps://www.facebook.com/events/154175841626978/
URL:https://harrisonbounds.com/event/new-belgium-lynnhaven-pub-sour-celebration/
LOCATION:Lynnhaven Pub\, 2236 West Great Neck Road\, Virginia Beach\, VA\, United States
END:VEVENT
BEGIN:VEVENT
DTSTART;TZID=UTC:20160205T210000
DTEND;TZID=UTC:20160205T210000
DTSTAMP:20260422T081039
CREATED:20151208T111533Z
LAST-MODIFIED:20151208T111533Z
UID:721-1454706000-1454706000@harrisonbounds.com
SUMMARY:The Special Guests at Work Release
DESCRIPTION:
URL:https://harrisonbounds.com/event/the-special-guests-at-work-release/
END:VEVENT
BEGIN:VEVENT
DTSTART;TZID=UTC:20160203T200000
DTEND;TZID=UTC:20160203T220000
DTSTAMP:20260422T081039
CREATED:20160113T095521Z
LAST-MODIFIED:20160113T095521Z
UID:764-1454529600-1454536800@harrisonbounds.com
SUMMARY:Duck Call with Eayes
DESCRIPTION:
URL:https://harrisonbounds.com/event/duck-call-with-eayes/
LOCATION:Back Bay Brewery\, 614 Norfolk Ave\, Virginia Beach\, VA\, 23452\, United States
END:VEVENT
BEGIN:VEVENT
DTSTART;TZID=UTC:20160130T190000
DTEND;TZID=UTC:20160130T220000
DTSTAMP:20260422T081039
CREATED:20160112T062650Z
LAST-MODIFIED:20160112T062650Z
UID:747-1454180400-1454191200@harrisonbounds.com
SUMMARY:Acoustic at Wasserhund Brewery
DESCRIPTION:
URL:https://harrisonbounds.com/event/acoustic-at-wasserhund-brewery/
LOCATION:Wasserhund Brewing Company\, 1805 Laskin road Suite #102\, Virginia Beach\, VA\, 23454\, United States
END:VEVENT
END:VCALENDAR