BEGIN:VCALENDAR
VERSION:2.0
PRODID:-//Harrison Bounds - ECPv6.15.12.2//NONSGML v1.0//EN
CALSCALE:GREGORIAN
METHOD:PUBLISH
X-WR-CALNAME:Harrison Bounds
X-ORIGINAL-URL:https://harrisonbounds.com
X-WR-CALDESC:Events for Harrison Bounds
REFRESH-INTERVAL;VALUE=DURATION:PT1H
X-Robots-Tag:noindex
X-PUBLISHED-TTL:PT1H
BEGIN:VTIMEZONE
TZID:Pacific/Norfolk
BEGIN:DAYLIGHT
TZOFFSETFROM:+1100
TZOFFSETTO:+1200
TZNAME:+12
DTSTART:20191005T150000
END:DAYLIGHT
BEGIN:STANDARD
TZOFFSETFROM:+1200
TZOFFSETTO:+1100
TZNAME:+11
DTSTART:20200404T150000
END:STANDARD
BEGIN:DAYLIGHT
TZOFFSETFROM:+1100
TZOFFSETTO:+1200
TZNAME:+12
DTSTART:20201003T150000
END:DAYLIGHT
BEGIN:STANDARD
TZOFFSETFROM:+1200
TZOFFSETTO:+1100
TZNAME:+11
DTSTART:20210403T150000
END:STANDARD
BEGIN:DAYLIGHT
TZOFFSETFROM:+1100
TZOFFSETTO:+1200
TZNAME:+12
DTSTART:20211002T150000
END:DAYLIGHT
END:VTIMEZONE
BEGIN:VEVENT
DTSTART;TZID=Pacific/Norfolk:20200807T210000
DTEND;TZID=Pacific/Norfolk:20200807T233000
DTSTAMP:20260422T081024
CREATED:20200208T214041Z
LAST-MODIFIED:20200208T214041Z
UID:2644-1596834000-1596843000@harrisonbounds.com
SUMMARY:All That at Froggies
DESCRIPTION:
URL:https://harrisonbounds.com/event/all-that-at-froggies-2/
END:VEVENT
BEGIN:VEVENT
DTSTART;TZID=Pacific/Norfolk:20200730T190000
DTEND;TZID=Pacific/Norfolk:20200730T213000
DTSTAMP:20260422T081024
CREATED:20200313T005829Z
LAST-MODIFIED:20200722T021330Z
UID:2674-1596135600-1596144600@harrisonbounds.com
SUMMARY:Vibrant Shore Brewing
DESCRIPTION:
URL:https://harrisonbounds.com/event/central-shore-2/
END:VEVENT
BEGIN:VEVENT
DTSTART;TZID=Pacific/Norfolk:20200724T180000
DTEND;TZID=Pacific/Norfolk:20200724T210000
DTSTAMP:20260422T081024
CREATED:20200306T183701Z
LAST-MODIFIED:20200722T020840Z
UID:2666-1595613600-1595624400@harrisonbounds.com
SUMMARY:Waterside Market Stage Acoustic
DESCRIPTION:
URL:https://harrisonbounds.com/event/real-watersports-2/
END:VEVENT
BEGIN:VEVENT
DTSTART;TZID=Pacific/Norfolk:20200718T180000
DTEND;TZID=Pacific/Norfolk:20200718T220000
DTSTAMP:20260422T081024
CREATED:20200618T123811Z
LAST-MODIFIED:20200618T123811Z
UID:2686-1595095200-1595109600@harrisonbounds.com
SUMMARY:Private Party
DESCRIPTION:
URL:https://harrisonbounds.com/event/private-party-12/
END:VEVENT
BEGIN:VEVENT
DTSTART;TZID=Pacific/Norfolk:20200711T210000
DTEND;TZID=Pacific/Norfolk:20200711T233000
DTSTAMP:20260422T081024
CREATED:20200102T012212Z
LAST-MODIFIED:20200102T012212Z
UID:2600-1594501200-1594510200@harrisonbounds.com
SUMMARY:Acoustic at New River Taphouse
DESCRIPTION:
URL:https://harrisonbounds.com/event/acoustic-at-new-river-taphouse-2/
END:VEVENT
BEGIN:VEVENT
DTSTART;TZID=Pacific/Norfolk:20200625T180000
DTEND;TZID=Pacific/Norfolk:20200625T220000
DTSTAMP:20260422T081024
CREATED:20200617T174948Z
LAST-MODIFIED:20200617T174948Z
UID:2684-1593108000-1593122400@harrisonbounds.com
SUMMARY:Grain
DESCRIPTION:
URL:https://harrisonbounds.com/event/grain/
END:VEVENT
BEGIN:VEVENT
DTSTART;TZID=Pacific/Norfolk:20200620T170000
DTEND;TZID=Pacific/Norfolk:20200620T200000
DTSTAMP:20260422T081024
CREATED:20190924T202626Z
LAST-MODIFIED:20200617T175313Z
UID:2362-1592672400-1592683200@harrisonbounds.com
SUMMARY:Private Event
DESCRIPTION:
URL:https://harrisonbounds.com/event/private-event-5/
END:VEVENT
BEGIN:VEVENT
DTSTART;TZID=Pacific/Norfolk:20200618T170000
DTEND;TZID=Pacific/Norfolk:20200618T210000
DTSTAMP:20260422T081024
CREATED:20200617T174820Z
LAST-MODIFIED:20200617T174820Z
UID:2682-1592499600-1592514000@harrisonbounds.com
SUMMARY:Calypso
DESCRIPTION:
URL:https://harrisonbounds.com/event/calypso-3/
END:VEVENT
BEGIN:VEVENT
DTSTART;TZID=Pacific/Norfolk:20200617T170000
DTEND;TZID=Pacific/Norfolk:20200617T210000
DTSTAMP:20260422T081024
CREATED:20200615T200227Z
LAST-MODIFIED:20200615T200227Z
UID:2680-1592413200-1592427600@harrisonbounds.com
SUMMARY:Ballyhoo's
DESCRIPTION:
URL:https://harrisonbounds.com/event/ballyhoos/
END:VEVENT
BEGIN:VEVENT
DTSTART;TZID=Pacific/Norfolk:20200613T113000
DTEND;TZID=Pacific/Norfolk:20200613T143000
DTSTAMP:20260422T081024
CREATED:20200217T223749Z
LAST-MODIFIED:20200217T223749Z
UID:2651-1592047800-1592058600@harrisonbounds.com
SUMMARY:Paradise Ocean Club Acoustic
DESCRIPTION:
URL:https://harrisonbounds.com/event/paradise-ocean-club-acoustic/
END:VEVENT
BEGIN:VEVENT
DTSTART;TZID=Pacific/Norfolk:20200606T210000
DTEND;TZID=Pacific/Norfolk:20200606T233000
DTSTAMP:20260422T081024
CREATED:20190924T204514Z
LAST-MODIFIED:20190924T204514Z
UID:2372-1591477200-1591486200@harrisonbounds.com
SUMMARY:All That at BCBC
DESCRIPTION:
URL:https://harrisonbounds.com/event/all-that-at-bcbc/
END:VEVENT
BEGIN:VEVENT
DTSTART;TZID=Pacific/Norfolk:20200605T210000
DTEND;TZID=Pacific/Norfolk:20200605T233000
DTSTAMP:20260422T081024
CREATED:20200208T213957Z
LAST-MODIFIED:20200208T213957Z
UID:2642-1591390800-1591399800@harrisonbounds.com
SUMMARY:All That at Froggies
DESCRIPTION:
URL:https://harrisonbounds.com/event/all-that-at-froggies/
END:VEVENT
BEGIN:VEVENT
DTSTART;TZID=Pacific/Norfolk:20200522T180000
DTEND;TZID=Pacific/Norfolk:20200522T210000
DTSTAMP:20260422T081024
CREATED:20200306T183619Z
LAST-MODIFIED:20200306T183619Z
UID:2664-1590170400-1590181200@harrisonbounds.com
SUMMARY:REAL Watersports
DESCRIPTION:
URL:https://harrisonbounds.com/event/real-watersports/
END:VEVENT
BEGIN:VEVENT
DTSTART;TZID=Pacific/Norfolk:20200516T210000
DTEND;TZID=Pacific/Norfolk:20200516T233000
DTSTAMP:20260422T081024
CREATED:20200102T012137Z
LAST-MODIFIED:20200102T012137Z
UID:2598-1589662800-1589671800@harrisonbounds.com
SUMMARY:Acoustic at New River Taphouse
DESCRIPTION:
URL:https://harrisonbounds.com/event/acoustic-at-new-river-taphouse/
END:VEVENT
BEGIN:VEVENT
DTSTART;TZID=Pacific/Norfolk:20200516T150000
DTEND;TZID=Pacific/Norfolk:20200516T190000
DTSTAMP:20260422T081024
CREATED:20200127T175301Z
LAST-MODIFIED:20200127T175301Z
UID:2625-1589641200-1589655600@harrisonbounds.com
SUMMARY:All That at Paradise Ocean Club
DESCRIPTION:
URL:https://harrisonbounds.com/event/all-that-at-paradise-ocean-club/
END:VEVENT
BEGIN:VEVENT
DTSTART;TZID=Pacific/Norfolk:20200514T200000
DTEND;TZID=Pacific/Norfolk:20200514T233000
DTSTAMP:20260422T081024
CREATED:20200313T005207Z
LAST-MODIFIED:20200313T005207Z
UID:2672-1589486400-1589499000@harrisonbounds.com
SUMMARY:Central Shore
DESCRIPTION:
URL:https://harrisonbounds.com/event/central-shore/
END:VEVENT
BEGIN:VEVENT
DTSTART;TZID=Pacific/Norfolk:20200513T190000
DTEND;TZID=Pacific/Norfolk:20200513T220000
DTSTAMP:20260422T081024
CREATED:20190924T204611Z
LAST-MODIFIED:20190924T204611Z
UID:2374-1589396400-1589407200@harrisonbounds.com
SUMMARY:Acoustic at BCBC
DESCRIPTION:
URL:https://harrisonbounds.com/event/acoustic-at-bcbc-3/
END:VEVENT
BEGIN:VEVENT
DTSTART;TZID=Pacific/Norfolk:20200501T190000
DTEND;TZID=Pacific/Norfolk:20200501T230000
DTSTAMP:20260422T081024
CREATED:20200227T144510Z
LAST-MODIFIED:20200227T144510Z
UID:2657-1588359600-1588374000@harrisonbounds.com
SUMMARY:All That at 7th Street Stage
DESCRIPTION:
URL:https://harrisonbounds.com/event/all-that-at-7th-street-stage/
END:VEVENT
BEGIN:VEVENT
DTSTART;TZID=Pacific/Norfolk:20200424T180000
DTEND;TZID=Pacific/Norfolk:20200424T220000
DTSTAMP:20260422T081024
CREATED:20200227T144323Z
LAST-MODIFIED:20200227T144323Z
UID:2655-1587751200-1587765600@harrisonbounds.com
SUMMARY:Acoustic at Chick's Shore Drive
DESCRIPTION:
URL:https://harrisonbounds.com/event/acoustic-at-chicks-shore-drive/
END:VEVENT
BEGIN:VEVENT
DTSTART;TZID=Pacific/Norfolk:20200422T180000
DTEND;TZID=Pacific/Norfolk:20200422T210000
DTSTAMP:20260422T081024
CREATED:20200110T011123Z
LAST-MODIFIED:20200110T011123Z
UID:2606-1587578400-1587589200@harrisonbounds.com
SUMMARY:Acoustic at REAL Watersports
DESCRIPTION:
URL:https://harrisonbounds.com/event/acoustic-at-real-watersports/
END:VEVENT
BEGIN:VEVENT
DTSTART;TZID=Pacific/Norfolk:20200403T213000
DTEND;TZID=Pacific/Norfolk:20200403T233000
DTSTAMP:20260422T081024
CREATED:20200116T131446Z
LAST-MODIFIED:20200116T131446Z
UID:2615-1585949400-1585956600@harrisonbounds.com
SUMMARY:All That at Watermans
DESCRIPTION:
URL:https://harrisonbounds.com/event/all-that-at-watermans/
END:VEVENT
BEGIN:VEVENT
DTSTART;TZID=Pacific/Norfolk:20200402T200000
DTEND;TZID=Pacific/Norfolk:20200402T230000
DTSTAMP:20260422T081024
CREATED:20200208T164733Z
LAST-MODIFIED:20200208T164733Z
UID:2638-1585857600-1585868400@harrisonbounds.com
SUMMARY:Froggie's Acoustic
DESCRIPTION:
URL:https://harrisonbounds.com/event/froggies-acoustic/
END:VEVENT
BEGIN:VEVENT
DTSTART;TZID=Pacific/Norfolk:20200327T180000
DTEND;TZID=Pacific/Norfolk:20200327T210000
DTSTAMP:20260422T081024
CREATED:20200214T004627Z
LAST-MODIFIED:20200306T181222Z
UID:2649-1585332000-1585342800@harrisonbounds.com
SUMMARY:REAL Watersports
DESCRIPTION:
URL:https://harrisonbounds.com/event/the-green-turtle-hampton-acoustic/
END:VEVENT
BEGIN:VEVENT
DTSTART;TZID=Pacific/Norfolk:20200318T190000
DTEND;TZID=Pacific/Norfolk:20200318T230000
DTSTAMP:20260422T081024
CREATED:20200213T183225Z
LAST-MODIFIED:20200213T183225Z
UID:2647-1584558000-1584572400@harrisonbounds.com
SUMMARY:Grain Acoustic
DESCRIPTION:
URL:https://harrisonbounds.com/event/grain-acoustic/
END:VEVENT
BEGIN:VEVENT
DTSTART;TZID=Pacific/Norfolk:20200314T123000
DTEND;TZID=Pacific/Norfolk:20200314T160000
DTSTAMP:20260422T081024
CREATED:20200114T152532Z
LAST-MODIFIED:20200114T152532Z
UID:2608-1584189000-1584201600@harrisonbounds.com
SUMMARY:Keagans Irish Pub Acoustic
DESCRIPTION:
URL:https://harrisonbounds.com/event/keagans-irish-pub-acoustic-2/
END:VEVENT
BEGIN:VEVENT
DTSTART;TZID=Pacific/Norfolk:20200311T190000
DTEND;TZID=Pacific/Norfolk:20200311T220000
DTSTAMP:20260422T081024
CREATED:20190924T203818Z
LAST-MODIFIED:20190924T203818Z
UID:2368-1583953200-1583964000@harrisonbounds.com
SUMMARY:Acoustic at BCBC
DESCRIPTION:
URL:https://harrisonbounds.com/event/acoustic-at-bcbc-2/
END:VEVENT
BEGIN:VEVENT
DTSTART;TZID=Pacific/Norfolk:20200307T213000
DTEND;TZID=Pacific/Norfolk:20200307T233000
DTSTAMP:20260422T081024
CREATED:20200127T175608Z
LAST-MODIFIED:20200127T175608Z
UID:2629-1583616600-1583623800@harrisonbounds.com
SUMMARY:Acoustic at The Bier Garden Portsmouth
DESCRIPTION:
URL:https://harrisonbounds.com/event/acoustic-at-the-bier-garden-portsmouth/
END:VEVENT
BEGIN:VEVENT
DTSTART;TZID=Pacific/Norfolk:20200307T183000
DTEND;TZID=Pacific/Norfolk:20200307T200000
DTSTAMP:20260422T081024
CREATED:20200127T175528Z
LAST-MODIFIED:20200127T175528Z
UID:2627-1583605800-1583611200@harrisonbounds.com
SUMMARY:All That at Smartmouth Brewery Norfolk
DESCRIPTION:
URL:https://harrisonbounds.com/event/all-that-at-smartmouth-brewery-norfolk/
END:VEVENT
BEGIN:VEVENT
DTSTART;TZID=Pacific/Norfolk:20200306T220000
DTEND;TZID=Pacific/Norfolk:20200306T233000
DTSTAMP:20260422T081024
CREATED:20200206T235415Z
LAST-MODIFIED:20200208T165136Z
UID:2636-1583532000-1583537400@harrisonbounds.com
SUMMARY:All That at HK on the Bay
DESCRIPTION:
URL:https://harrisonbounds.com/event/all-that-at-hk-on-the-bay-3/
END:VEVENT
BEGIN:VEVENT
DTSTART;TZID=Pacific/Norfolk:20200305T190000
DTEND;TZID=Pacific/Norfolk:20200305T213000
DTSTAMP:20260422T081024
CREATED:20200206T235333Z
LAST-MODIFIED:20200208T165310Z
UID:2634-1583434800-1583443800@harrisonbounds.com
SUMMARY:Vibrant Shores Brewing Acoustic
DESCRIPTION:
URL:https://harrisonbounds.com/event/vibrant-shores-brewing-acoustic-2/
END:VEVENT
END:VCALENDAR