BEGIN:VCALENDAR
VERSION:2.0
PRODID:-//Harrison Bounds - ECPv6.15.12.2//NONSGML v1.0//EN
CALSCALE:GREGORIAN
METHOD:PUBLISH
X-WR-CALNAME:Harrison Bounds
X-ORIGINAL-URL:https://harrisonbounds.com
X-WR-CALDESC:Events for Harrison Bounds
REFRESH-INTERVAL;VALUE=DURATION:PT1H
X-Robots-Tag:noindex
X-PUBLISHED-TTL:PT1H
BEGIN:VTIMEZONE
TZID:UTC
BEGIN:STANDARD
TZOFFSETFROM:+0000
TZOFFSETTO:+0000
TZNAME:UTC
DTSTART:20150101T000000
END:STANDARD
END:VTIMEZONE
BEGIN:VEVENT
DTSTART;TZID=UTC:20160702T093000
DTEND;TZID=UTC:20160702T123000
DTSTAMP:20260422T132301
CREATED:20160615T041735Z
LAST-MODIFIED:20160615T041735Z
UID:901-1467451800-1467462600@harrisonbounds.com
SUMMARY:Java Surf
DESCRIPTION:
URL:https://harrisonbounds.com/event/java-surf/
LOCATION:Java Surf Vibe District\, 1807 Mediterranean Avenue\, Virginia Beach\, 23451
END:VEVENT
BEGIN:VEVENT
DTSTART;TZID=UTC:20160701T200000
DTEND;TZID=UTC:20160701T230000
DTSTAMP:20260422T132301
CREATED:20160407T044854Z
LAST-MODIFIED:20160407T044854Z
UID:837-1467403200-1467414000@harrisonbounds.com
SUMMARY:Shorebreak Pizza and Taphouse
DESCRIPTION:
URL:https://harrisonbounds.com/event/shorebreak-pizza-and-taphouse/
LOCATION:Shorebreak Pizza and Taphouse\, 2941 Shore Drive\, Virginia Beach\, 23451
END:VEVENT
BEGIN:VEVENT
DTSTART;TZID=UTC:20160628T180000
DTEND;TZID=UTC:20160628T210000
DTSTAMP:20260422T132301
CREATED:20160329T142212Z
LAST-MODIFIED:20160329T142212Z
UID:830-1467136800-1467147600@harrisonbounds.com
SUMMARY:Tubby's Tavern
DESCRIPTION:
URL:https://harrisonbounds.com/event/tubbys-tavern-8/
END:VEVENT
BEGIN:VEVENT
DTSTART;TZID=UTC:20160625T193000
DTEND;TZID=UTC:20160625T223000
DTSTAMP:20260422T132301
CREATED:20160414T154459Z
LAST-MODIFIED:20160612T112004Z
UID:840-1466883000-1466893800@harrisonbounds.com
SUMMARY:Rockfish
DESCRIPTION:
URL:https://harrisonbounds.com/event/coelecanth-brewing/
LOCATION:Rockfish Boardwalk Bar and Sea Grille\, 1601 Atlantic Avenue\, Virginia Beach\, VA\, 23451\, United States
END:VEVENT
BEGIN:VEVENT
DTSTART;TZID=UTC:20160624T170000
DTEND;TZID=UTC:20160624T200000
DTSTAMP:20260422T132301
CREATED:20160510T104022Z
LAST-MODIFIED:20160510T104022Z
UID:858-1466787600-1466798400@harrisonbounds.com
SUMMARY:Broad Bay Country Club
DESCRIPTION:
URL:https://harrisonbounds.com/event/broad-bay-country-club-2/
LOCATION:Broad Bay Country Club\, 2120 Lords Landing\, Virginia Beach\, VA\, 23454\, United States
END:VEVENT
BEGIN:VEVENT
DTSTART;TZID=UTC:20160623T200000
DTEND;TZID=UTC:20160623T230000
DTSTAMP:20260422T132301
CREATED:20160607T094113Z
LAST-MODIFIED:20160607T094113Z
UID:897-1466712000-1466722800@harrisonbounds.com
SUMMARY:Private Event
DESCRIPTION:
URL:https://harrisonbounds.com/event/private-event/
END:VEVENT
BEGIN:VEVENT
DTSTART;TZID=UTC:20160622T193000
DTEND;TZID=UTC:20160622T223000
DTSTAMP:20260422T132301
CREATED:20160511T172929Z
LAST-MODIFIED:20160511T172929Z
UID:865-1466623800-1466634600@harrisonbounds.com
SUMMARY:Five 01 City Grill
DESCRIPTION:
URL:https://harrisonbounds.com/event/five-01-city-grill-3/
LOCATION:Five 01 City Grill\, 501 Birdneck Road North\, Virginia Beach\, United States
END:VEVENT
BEGIN:VEVENT
DTSTART;TZID=UTC:20160621T200000
DTEND;TZID=UTC:20160621T230000
DTSTAMP:20260422T132301
CREATED:20160523T080837Z
LAST-MODIFIED:20160523T080855Z
UID:889-1466539200-1466550000@harrisonbounds.com
SUMMARY:Rockfish Taco Tuesday
DESCRIPTION:
URL:https://harrisonbounds.com/event/rockfish-taco-tuesday-4/
LOCATION:Rockfish Boardwalk Bar and Sea Grille\, 1601 Atlantic Avenue\, Virginia Beach\, VA\, 23451\, United States
END:VEVENT
BEGIN:VEVENT
DTSTART;TZID=UTC:20160618T213000
DTEND;TZID=UTC:20160619T003000
DTSTAMP:20260422T132301
CREATED:20160515T132350Z
LAST-MODIFIED:20160515T132350Z
UID:880-1466285400-1466296200@harrisonbounds.com
SUMMARY:New Belmont House of Smoke with Brock Bittner
DESCRIPTION:
URL:https://harrisonbounds.com/event/new-belmont-house-smoke-brock-bittner/
LOCATION:Belmont House of Smoke\, 2117 Colonial Avenue\, Norfolk\, VA\, United States
END:VEVENT
BEGIN:VEVENT
DTSTART;TZID=UTC:20160618T170000
DTEND;TZID=UTC:20160618T200000
DTSTAMP:20260422T132301
CREATED:20160531T075737Z
LAST-MODIFIED:20160531T075737Z
UID:892-1466269200-1466280000@harrisonbounds.com
SUMMARY:Backyard Party
DESCRIPTION:
URL:https://harrisonbounds.com/event/backyard-party/
END:VEVENT
BEGIN:VEVENT
DTSTART;TZID=UTC:20160617T180000
DTEND;TZID=UTC:20160617T200000
DTSTAMP:20260422T132301
CREATED:20160512T074054Z
LAST-MODIFIED:20160512T074054Z
UID:872-1466186400-1466193600@harrisonbounds.com
SUMMARY:CP Shucker's Oceanfront
DESCRIPTION:
URL:https://harrisonbounds.com/event/cp-shuckers-oceanfront/
LOCATION:CP Shuckers Oceanfront\, 2407 Pacific Avenue\, Virginia Beach\, 23451
END:VEVENT
BEGIN:VEVENT
DTSTART;TZID=UTC:20160614T200000
DTEND;TZID=UTC:20160614T230000
DTSTAMP:20260422T132301
CREATED:20160523T080743Z
LAST-MODIFIED:20160523T080743Z
UID:888-1465934400-1465945200@harrisonbounds.com
SUMMARY:Rockfish Taco Tuesday
DESCRIPTION:
URL:https://harrisonbounds.com/event/rockfish-taco-tuesday-3/
LOCATION:Rockfish Boardwalk Bar and Sea Grille\, 1601 Atlantic Avenue\, Virginia Beach\, VA\, 23451\, United States
END:VEVENT
BEGIN:VEVENT
DTSTART;TZID=UTC:20160613T180000
DTEND;TZID=UTC:20160613T220000
DTSTAMP:20260422T132301
CREATED:20160607T093710Z
LAST-MODIFIED:20160607T093710Z
UID:893-1465840800-1465855200@harrisonbounds.com
SUMMARY:Calypso
DESCRIPTION:
URL:https://harrisonbounds.com/event/calypso/
LOCATION:Calypso Bar and Grill\, 1101 Atlantic Avenue\, Virginia Beach\, 23451
END:VEVENT
BEGIN:VEVENT
DTSTART;TZID=UTC:20160611T203000
DTEND;TZID=UTC:20160611T233000
DTSTAMP:20260422T132301
CREATED:20160511T172846Z
LAST-MODIFIED:20160511T172846Z
UID:864-1465677000-1465687800@harrisonbounds.com
SUMMARY:Five 01 City Grill
DESCRIPTION:
URL:https://harrisonbounds.com/event/five-01-city-grill-2/
LOCATION:Five 01 City Grill\, 501 Birdneck Road North\, Virginia Beach\, United States
END:VEVENT
BEGIN:VEVENT
DTSTART;TZID=UTC:20160611T180000
DTEND;TZID=UTC:20160611T200000
DTSTAMP:20260422T132301
CREATED:20160517T063323Z
LAST-MODIFIED:20160517T063323Z
UID:881-1465668000-1465675200@harrisonbounds.com
SUMMARY:CP Shucker's Shore Drive
DESCRIPTION:
URL:https://harrisonbounds.com/event/cp-shuckers-shore-drive-3/
LOCATION:CP Shucker’s Shore Drive\, 3232 Shore Drive \, 23451
END:VEVENT
BEGIN:VEVENT
DTSTART;TZID=UTC:20160607T200000
DTEND;TZID=UTC:20160607T230000
DTSTAMP:20260422T132301
CREATED:20160523T080701Z
LAST-MODIFIED:20160523T080701Z
UID:887-1465329600-1465340400@harrisonbounds.com
SUMMARY:Rockfish Taco Tuesday
DESCRIPTION:
URL:https://harrisonbounds.com/event/rockfish-taco-tuesday-2/
LOCATION:Rockfish Boardwalk Bar and Sea Grille\, 1601 Atlantic Avenue\, Virginia Beach\, VA\, 23451\, United States
END:VEVENT
BEGIN:VEVENT
DTSTART;TZID=UTC:20160605T160000
DTEND;TZID=UTC:20160605T190000
DTSTAMP:20260422T132301
CREATED:20160324T074434Z
LAST-MODIFIED:20160324T074434Z
UID:818-1465142400-1465153200@harrisonbounds.com
SUMMARY:11th st Taphouse Acoustic
DESCRIPTION:
URL:https://harrisonbounds.com/event/11th-st-taphouse-acoustic/
LOCATION:11th street Taphouse\, 1011 Atlantic avenue\, Virginia Beach\, VA\, VA\, United States
END:VEVENT
BEGIN:VEVENT
DTSTART;TZID=UTC:20160604T190000
DTEND;TZID=UTC:20160604T220000
DTSTAMP:20260422T132301
CREATED:20160323T083017Z
LAST-MODIFIED:20160323T083017Z
UID:810-1465066800-1465077600@harrisonbounds.com
SUMMARY:Wasserhund
DESCRIPTION:
URL:https://harrisonbounds.com/event/wasserhund/
LOCATION:Wasserhund Brewing Company\, 1805 Laskin road Suite #102\, Virginia Beach\, VA\, 23454\, United States
END:VEVENT
BEGIN:VEVENT
DTSTART;TZID=UTC:20160602T203000
DTEND;TZID=UTC:20160602T235500
DTSTAMP:20260422T132301
CREATED:20160423T110136Z
LAST-MODIFIED:20160423T110136Z
UID:854-1464899400-1464911700@harrisonbounds.com
SUMMARY:Scotty Quixx East
DESCRIPTION:
URL:https://harrisonbounds.com/event/scotty-quixx-east/
LOCATION:Scotty Quixx East\, 525 Birdneck Rd N\, Virginia Beach\, VA\, United States
END:VEVENT
BEGIN:VEVENT
DTSTART;TZID=UTC:20160531T200000
DTEND;TZID=UTC:20160531T230000
DTSTAMP:20260422T132301
CREATED:20160523T075210Z
LAST-MODIFIED:20160523T075210Z
UID:886-1464724800-1464735600@harrisonbounds.com
SUMMARY:Rockfish Taco Tuesday
DESCRIPTION:
URL:https://harrisonbounds.com/event/rockfish-taco-tuesday/
LOCATION:Rockfish Boardwalk Bar and Sea Grille\, 1601 Atlantic Avenue\, Virginia Beach\, VA\, 23451\, United States
END:VEVENT
BEGIN:VEVENT
DTSTART;TZID=UTC:20160529T190000
DTEND;TZID=UTC:20160529T220000
DTSTAMP:20260422T132301
CREATED:20160418T073857Z
LAST-MODIFIED:20160418T073857Z
UID:844-1464548400-1464559200@harrisonbounds.com
SUMMARY:Chicho's 29th street
DESCRIPTION:
URL:https://harrisonbounds.com/event/chichos-29th-street/
LOCATION:Chichos 29th Street\, 2820 Pacific Avenue\, Virginia Beach\, 23451
END:VEVENT
BEGIN:VEVENT
DTSTART;TZID=UTC:20160528T200000
DTEND;TZID=UTC:20160528T230000
DTSTAMP:20260422T132301
CREATED:20160523T045912Z
LAST-MODIFIED:20160523T045912Z
UID:885-1464465600-1464476400@harrisonbounds.com
SUMMARY:Rockfish
DESCRIPTION:
URL:https://harrisonbounds.com/event/rockfish/
LOCATION:Rockfish Boardwalk Bar and Sea Grille\, 1601 Atlantic Avenue\, Virginia Beach\, VA\, 23451\, United States
END:VEVENT
BEGIN:VEVENT
DTSTART;TZID=UTC:20160528T120000
DTEND;TZID=UTC:20160528T150000
DTSTAMP:20260422T132301
CREATED:20160523T045736Z
LAST-MODIFIED:20160523T045827Z
UID:883-1464436800-1464447600@harrisonbounds.com
SUMMARY:Java Surf Cafe
DESCRIPTION:
URL:https://harrisonbounds.com/event/java-surf-cafe/
LOCATION:Java Surf Vibe District\, 1807 Mediterranean Avenue\, Virginia Beach\, 23451
END:VEVENT
BEGIN:VEVENT
DTSTART;TZID=UTC:20160527T170000
DTEND;TZID=UTC:20160527T200000
DTSTAMP:20260422T132301
CREATED:20160510T103939Z
LAST-MODIFIED:20160510T103939Z
UID:857-1464368400-1464379200@harrisonbounds.com
SUMMARY:Broad Bay Country Club
DESCRIPTION:
URL:https://harrisonbounds.com/event/broad-bay-country-club/
LOCATION:Broad Bay Country Club\, 2120 Lords Landing\, Virginia Beach\, VA\, 23454\, United States
END:VEVENT
BEGIN:VEVENT
DTSTART;TZID=UTC:20160522T160000
DTEND;TZID=UTC:20160522T190000
DTSTAMP:20260422T132301
CREATED:20160326T170311Z
LAST-MODIFIED:20160326T170311Z
UID:826-1463932800-1463943600@harrisonbounds.com
SUMMARY:11th street Taphouse Acoustic
DESCRIPTION:
URL:https://harrisonbounds.com/event/11th-street-taphouse-acoustic-3/
LOCATION:11th street Taphouse\, 1011 Atlantic avenue\, Virginia Beach\, VA\, VA\, United States
END:VEVENT
BEGIN:VEVENT
DTSTART;TZID=UTC:20160522T110000
DTEND;TZID=UTC:20160522T140000
DTSTAMP:20260422T132301
CREATED:20160510T104345Z
LAST-MODIFIED:20160510T104345Z
UID:862-1463914800-1463925600@harrisonbounds.com
SUMMARY:Top Golf Brunch
DESCRIPTION:
URL:https://harrisonbounds.com/event/top-golf-brunch/
LOCATION:Top Golf\, 5444 Greenwich Road\, Virginia Beach\, 23462
END:VEVENT
BEGIN:VEVENT
DTSTART;TZID=UTC:20160520T170000
DTEND;TZID=UTC:20160520T200000
DTSTAMP:20260422T132301
CREATED:20160323T084109Z
LAST-MODIFIED:20160323T084109Z
UID:812-1463763600-1463774400@harrisonbounds.com
SUMMARY:Private Party
DESCRIPTION:
URL:https://harrisonbounds.com/event/private-party-3/
LOCATION:Lunasea\, 206 22nd street\, Virginia Beach \, VA\, United States
END:VEVENT
BEGIN:VEVENT
DTSTART;TZID=UTC:20160518T200000
DTEND;TZID=UTC:20160518T220000
DTSTAMP:20260422T132301
CREATED:20160403T130404Z
LAST-MODIFIED:20160418T074037Z
UID:835-1463601600-1463608800@harrisonbounds.com
SUMMARY:Duck Call with Trevor DeGroat
DESCRIPTION:
URL:https://harrisonbounds.com/event/duck-call-with-trevor-degroat/
LOCATION:Back Bay Brewery\, 614 Norfolk Ave\, Virginia Beach\, VA\, 23452\, United States
END:VEVENT
BEGIN:VEVENT
DTSTART;TZID=UTC:20160516T173000
DTEND;TZID=UTC:20160516T190000
DTSTAMP:20260422T132301
CREATED:20160421T031053Z
LAST-MODIFIED:20160421T031053Z
UID:848-1463419800-1463425200@harrisonbounds.com
SUMMARY:Sentara Virginia Beach Auxiliary 3rd Annual Golf Tournament
DESCRIPTION:
URL:https://harrisonbounds.com/event/sentara-virginia-beach-auxiliary-3rd-annual-golf-tournament/
LOCATION:Broad Bay Country Club\, 2120 Lords Landing\, Virginia Beach\, VA\, 23454\, United States
END:VEVENT
BEGIN:VEVENT
DTSTART;TZID=UTC:20160514T210000
DTEND;TZID=UTC:20160514T235500
DTSTAMP:20260422T132301
CREATED:20160323T085137Z
LAST-MODIFIED:20160323T085137Z
UID:813-1463259600-1463270100@harrisonbounds.com
SUMMARY:O'Connors Brewing After Party
DESCRIPTION:
URL:https://harrisonbounds.com/event/oconnors-brewing-after-party/
LOCATION:O’Connor Brewing Co.\, 211 w 24th st.\, Norfolk\, VA\, United States
END:VEVENT
END:VCALENDAR