BEGIN:VCALENDAR
VERSION:2.0
PRODID:-//Harrison Bounds - ECPv6.15.12.2//NONSGML v1.0//EN
CALSCALE:GREGORIAN
METHOD:PUBLISH
X-WR-CALNAME:Harrison Bounds
X-ORIGINAL-URL:https://harrisonbounds.com
X-WR-CALDESC:Events for Harrison Bounds
REFRESH-INTERVAL;VALUE=DURATION:PT1H
X-Robots-Tag:noindex
X-PUBLISHED-TTL:PT1H
BEGIN:VTIMEZONE
TZID:UTC
BEGIN:STANDARD
TZOFFSETFROM:+0000
TZOFFSETTO:+0000
TZNAME:UTC
DTSTART:20150101T000000
END:STANDARD
END:VTIMEZONE
BEGIN:VEVENT
DTSTART;TZID=UTC:20160813T203000
DTEND;TZID=UTC:20160813T233000
DTSTAMP:20260422T123102
CREATED:20160511T173144Z
LAST-MODIFIED:20160511T173144Z
UID:868-1471120200-1471131000@harrisonbounds.com
SUMMARY:Five 01 City Grill
DESCRIPTION:
URL:https://harrisonbounds.com/event/five-01-city-grill-6/
LOCATION:Five 01 City Grill\, 501 Birdneck Road North\, Virginia Beach\, United States
END:VEVENT
BEGIN:VEVENT
DTSTART;TZID=UTC:20160813T160000
DTEND;TZID=UTC:20160813T190000
DTSTAMP:20260422T123102
CREATED:20160725T045020Z
LAST-MODIFIED:20160725T045020Z
UID:950-1471104000-1471114800@harrisonbounds.com
SUMMARY:Private Party
DESCRIPTION:
URL:https://harrisonbounds.com/event/private-party-4/
END:VEVENT
BEGIN:VEVENT
DTSTART;TZID=UTC:20160813T100000
DTEND;TZID=UTC:20160813T130000
DTSTAMP:20260422T123102
CREATED:20160725T043842Z
LAST-MODIFIED:20160725T043842Z
UID:939-1471082400-1471093200@harrisonbounds.com
SUMMARY:Java Surf
DESCRIPTION:
URL:https://harrisonbounds.com/event/java-surf-3/
LOCATION:Java Surf Vibe District\, 1807 Mediterranean Avenue\, Virginia Beach\, 23451
END:VEVENT
BEGIN:VEVENT
DTSTART;TZID=UTC:20160812T170000
DTEND;TZID=UTC:20160812T200000
DTSTAMP:20260422T123102
CREATED:20160624T060347Z
LAST-MODIFIED:20160812T061948Z
UID:906-1471021200-1471032000@harrisonbounds.com
SUMMARY:Broad Bay Country Club
DESCRIPTION:
URL:https://harrisonbounds.com/event/rockfish-6/
LOCATION:Broad Bay Country Club\, 2120 Lords Landing\, Virginia Beach\, VA\, 23454\, United States
END:VEVENT
BEGIN:VEVENT
DTSTART;TZID=UTC:20160811T180000
DTEND;TZID=UTC:20160811T210000
DTSTAMP:20260422T123102
CREATED:20160801T054119Z
LAST-MODIFIED:20160801T054119Z
UID:954-1470938400-1470949200@harrisonbounds.com
SUMMARY:American Brew
DESCRIPTION:
URL:https://harrisonbounds.com/event/american-brew-2/
LOCATION:American Brew\, 3700 Shore Drive\, Virginia Beach\, 23455
END:VEVENT
BEGIN:VEVENT
DTSTART;TZID=UTC:20160810T180000
DTEND;TZID=UTC:20160810T220000
DTSTAMP:20260422T123102
CREATED:20160607T093920Z
LAST-MODIFIED:20160607T093920Z
UID:895-1470852000-1470866400@harrisonbounds.com
SUMMARY:Hair of the Dog ODU
DESCRIPTION:
URL:https://harrisonbounds.com/event/hair-dog-odu/
LOCATION:Hair of the Dog ODU\, 4820 Hampton Blvd\, Norfolk\, 23508
END:VEVENT
BEGIN:VEVENT
DTSTART;TZID=UTC:20160805T210000
DTEND;TZID=UTC:20160805T235500
DTSTAMP:20260422T123102
CREATED:20160716T090327Z
LAST-MODIFIED:20160716T090327Z
UID:927-1470430800-1470441300@harrisonbounds.com
SUMMARY:Tubby's Tavern
DESCRIPTION:
URL:https://harrisonbounds.com/event/tubbys-tavern-10/
LOCATION:Tubby’s Tavern
END:VEVENT
BEGIN:VEVENT
DTSTART;TZID=UTC:20160805T170000
DTEND;TZID=UTC:20160805T200000
DTSTAMP:20260422T123102
CREATED:20160624T061446Z
LAST-MODIFIED:20160624T061446Z
UID:911-1470416400-1470427200@harrisonbounds.com
SUMMARY:Broad Bay Country Club
DESCRIPTION:
URL:https://harrisonbounds.com/event/broad-bay-country-club-6/
END:VEVENT
BEGIN:VEVENT
DTSTART;TZID=UTC:20160804T180000
DTEND;TZID=UTC:20160804T210000
DTSTAMP:20260422T123102
CREATED:20160801T054042Z
LAST-MODIFIED:20160801T054042Z
UID:952-1470333600-1470344400@harrisonbounds.com
SUMMARY:American Brew
DESCRIPTION:
URL:https://harrisonbounds.com/event/american-brew/
LOCATION:American Brew\, 3700 Shore Drive\, Virginia Beach\, 23455
END:VEVENT
BEGIN:VEVENT
DTSTART;TZID=UTC:20160803T203000
DTEND;TZID=UTC:20160803T203000
DTSTAMP:20260422T123102
CREATED:20160702T073049Z
LAST-MODIFIED:20160702T073049Z
UID:916-1470256200-1470256200@harrisonbounds.com
SUMMARY:Woody McGee's Barstro
DESCRIPTION:
URL:https://harrisonbounds.com/event/woody-mcgees-barstro/
LOCATION:Woody McGees Barstro\, 4356 Holland Road\, Virginia Beach\, 23452
END:VEVENT
BEGIN:VEVENT
DTSTART;TZID=UTC:20160731T110000
DTEND;TZID=UTC:20160731T140000
DTSTAMP:20260422T123102
CREATED:20160708T091117Z
LAST-MODIFIED:20160708T091117Z
UID:923-1469962800-1469973600@harrisonbounds.com
SUMMARY:Top Golf Brunch
DESCRIPTION:
URL:https://harrisonbounds.com/event/top-golf-brunch-3/
LOCATION:Top Golf\, 5444 Greenwich Road\, Virginia Beach\, 23462
END:VEVENT
BEGIN:VEVENT
DTSTART;TZID=UTC:20160730T200000
DTEND;TZID=UTC:20160730T230000
DTSTAMP:20260422T123102
CREATED:20160512T033816Z
LAST-MODIFIED:20160512T033816Z
UID:870-1469908800-1469919600@harrisonbounds.com
SUMMARY:Buoy 44
DESCRIPTION:
URL:https://harrisonbounds.com/event/buoy-44/
LOCATION:Buoy 44\, 4536 Ocean View Avenue\, Virginia Beach\, 23455
END:VEVENT
BEGIN:VEVENT
DTSTART;TZID=UTC:20160730T100000
DTEND;TZID=UTC:20160730T130000
DTSTAMP:20260422T123102
CREATED:20160725T043805Z
LAST-MODIFIED:20160725T043805Z
UID:938-1469872800-1469883600@harrisonbounds.com
SUMMARY:Java Surf
DESCRIPTION:
URL:https://harrisonbounds.com/event/java-surf-2/
LOCATION:Java Surf Vibe District\, 1807 Mediterranean Avenue\, Virginia Beach\, 23451
END:VEVENT
BEGIN:VEVENT
DTSTART;TZID=UTC:20160729T170000
DTEND;TZID=UTC:20160729T200000
DTSTAMP:20260422T123102
CREATED:20160624T061313Z
LAST-MODIFIED:20160624T061313Z
UID:910-1469811600-1469822400@harrisonbounds.com
SUMMARY:Broad Bay
DESCRIPTION:
URL:https://harrisonbounds.com/event/broad-bay/
LOCATION:Broad Bay Country Club\, 2120 Lords Landing\, Virginia Beach\, VA\, 23454\, United States
END:VEVENT
BEGIN:VEVENT
DTSTART;TZID=UTC:20160728T190000
DTEND;TZID=UTC:20160728T220000
DTSTAMP:20260422T123102
CREATED:20160624T060233Z
LAST-MODIFIED:20160624T060233Z
UID:905-1469732400-1469743200@harrisonbounds.com
SUMMARY:Rockfish
DESCRIPTION:
URL:https://harrisonbounds.com/event/rockfish-5/
LOCATION:Rockfish Boardwalk Bar and Sea Grille\, 1601 Atlantic Avenue\, Virginia Beach\, VA\, 23451\, United States
END:VEVENT
BEGIN:VEVENT
DTSTART;TZID=UTC:20160727T193000
DTEND;TZID=UTC:20160727T223000
DTSTAMP:20260422T123102
CREATED:20160511T173056Z
LAST-MODIFIED:20160511T173056Z
UID:867-1469647800-1469658600@harrisonbounds.com
SUMMARY:Five 01 City Grill
DESCRIPTION:
URL:https://harrisonbounds.com/event/five-01-city-grill-5/
LOCATION:Five 01 City Grill\, 501 Birdneck Road North\, Virginia Beach\, United States
END:VEVENT
BEGIN:VEVENT
DTSTART;TZID=UTC:20160724T200000
DTEND;TZID=UTC:20160724T230000
DTSTAMP:20260422T123102
CREATED:20160607T094136Z
LAST-MODIFIED:20160607T094136Z
UID:898-1469390400-1469401200@harrisonbounds.com
SUMMARY:Private Event
DESCRIPTION:
URL:https://harrisonbounds.com/event/private-event-2/
END:VEVENT
BEGIN:VEVENT
DTSTART;TZID=UTC:20160724T150000
DTEND;TZID=UTC:20160724T180000
DTSTAMP:20260422T123102
CREATED:20160711T020021Z
LAST-MODIFIED:20160711T020021Z
UID:925-1469372400-1469383200@harrisonbounds.com
SUMMARY:Tubby's Tavern
DESCRIPTION:
URL:https://harrisonbounds.com/event/tubbys-tavern-9/
LOCATION:Tubby’s Tavern
END:VEVENT
BEGIN:VEVENT
DTSTART;TZID=UTC:20160723T180000
DTEND;TZID=UTC:20160723T220000
DTSTAMP:20260422T123102
CREATED:20160705T093440Z
LAST-MODIFIED:20160705T093440Z
UID:918-1469296800-1469311200@harrisonbounds.com
SUMMARY:Lunasea
DESCRIPTION:
URL:https://harrisonbounds.com/event/lunasea/
LOCATION:Lunasea\, 206 22nd street\, Virginia Beach \, VA\, United States
END:VEVENT
BEGIN:VEVENT
DTSTART;TZID=UTC:20160722T170000
DTEND;TZID=UTC:20160722T200000
DTSTAMP:20260422T123102
CREATED:20160510T104053Z
LAST-MODIFIED:20160510T104053Z
UID:859-1469206800-1469217600@harrisonbounds.com
SUMMARY:Broad Bay Country Club
DESCRIPTION:
URL:https://harrisonbounds.com/event/broad-bay-country-club-3/
LOCATION:Broad Bay Country Club\, 2120 Lords Landing\, Virginia Beach\, VA\, 23454\, United States
END:VEVENT
BEGIN:VEVENT
DTSTART;TZID=UTC:20160721T190000
DTEND;TZID=UTC:20160721T220000
DTSTAMP:20260422T123102
CREATED:20160624T060147Z
LAST-MODIFIED:20160624T060147Z
UID:904-1469127600-1469138400@harrisonbounds.com
SUMMARY:Rockfish
DESCRIPTION:
URL:https://harrisonbounds.com/event/rockfish-4/
LOCATION:Rockfish Boardwalk Bar and Sea Grille\, 1601 Atlantic Avenue\, Virginia Beach\, VA\, 23451\, United States
END:VEVENT
BEGIN:VEVENT
DTSTART;TZID=UTC:20160717T160000
DTEND;TZID=UTC:20160717T190000
DTSTAMP:20260422T123102
CREATED:20160324T074522Z
LAST-MODIFIED:20160324T074522Z
UID:819-1468771200-1468782000@harrisonbounds.com
SUMMARY:11th st Taphouse Acoustic
DESCRIPTION:
URL:https://harrisonbounds.com/event/11th-st-taphouse-acoustic-2/
LOCATION:11th street Taphouse\, 1011 Atlantic avenue\, Virginia Beach\, VA\, VA\, United States
END:VEVENT
BEGIN:VEVENT
DTSTART;TZID=UTC:20160716T190000
DTEND;TZID=UTC:20160716T220000
DTSTAMP:20260422T123102
CREATED:20160323T083043Z
LAST-MODIFIED:20160323T083043Z
UID:811-1468695600-1468706400@harrisonbounds.com
SUMMARY:Wasserhund
DESCRIPTION:
URL:https://harrisonbounds.com/event/wasserhund-2/
END:VEVENT
BEGIN:VEVENT
DTSTART;TZID=UTC:20160715T170000
DTEND;TZID=UTC:20160715T200000
DTSTAMP:20260422T123102
CREATED:20160624T061133Z
LAST-MODIFIED:20160624T061230Z
UID:909-1468602000-1468612800@harrisonbounds.com
SUMMARY:Broad Bay
DESCRIPTION:
URL:https://harrisonbounds.com/event/borad-bay/
LOCATION:Broad Bay Country Club\, 2120 Lords Landing\, Virginia Beach\, VA\, 23454\, United States
END:VEVENT
BEGIN:VEVENT
DTSTART;TZID=UTC:20160714T173000
DTEND;TZID=UTC:20160714T213000
DTSTAMP:20260422T123102
CREATED:20160705T103624Z
LAST-MODIFIED:20160705T103624Z
UID:920-1468517400-1468531800@harrisonbounds.com
SUMMARY:Bay Local
DESCRIPTION:
URL:https://harrisonbounds.com/event/bay-local/
LOCATION:Bay Local\, 2917 Shore Drive\, Virginia Beach\, 23451
END:VEVENT
BEGIN:VEVENT
DTSTART;TZID=UTC:20160710T110000
DTEND;TZID=UTC:20160710T140000
DTSTAMP:20260422T123102
CREATED:20160629T064901Z
LAST-MODIFIED:20160629T064901Z
UID:913-1468148400-1468159200@harrisonbounds.com
SUMMARY:Top Golf Brunch
DESCRIPTION:
URL:https://harrisonbounds.com/event/top-golf-brunch-2/
LOCATION:Top Golf\, 5444 Greenwich Road\, Virginia Beach\, 23462
END:VEVENT
BEGIN:VEVENT
DTSTART;TZID=UTC:20160709T203000
DTEND;TZID=UTC:20160709T233000
DTSTAMP:20260422T123102
CREATED:20160511T173012Z
LAST-MODIFIED:20160511T173012Z
UID:866-1468096200-1468107000@harrisonbounds.com
SUMMARY:Five 01 City Grill
DESCRIPTION:
URL:https://harrisonbounds.com/event/five-01-city-grill-4/
LOCATION:Five 01 City Grill\, 501 Birdneck Road North\, Virginia Beach\, United States
END:VEVENT
BEGIN:VEVENT
DTSTART;TZID=UTC:20160707T190000
DTEND;TZID=UTC:20160707T220000
DTSTAMP:20260422T123102
CREATED:20160624T060009Z
LAST-MODIFIED:20160624T060009Z
UID:902-1467918000-1467928800@harrisonbounds.com
SUMMARY:Rockfish
DESCRIPTION:
URL:https://harrisonbounds.com/event/rockfish-2/
LOCATION:Rockfish Boardwalk Bar and Sea Grille\, 1601 Atlantic Avenue\, Virginia Beach\, VA\, 23451\, United States
END:VEVENT
BEGIN:VEVENT
DTSTART;TZID=UTC:20160703T180000
DTEND;TZID=UTC:20160703T210000
DTSTAMP:20260422T123102
CREATED:20160419T122413Z
LAST-MODIFIED:20160419T122413Z
UID:847-1467568800-1467579600@harrisonbounds.com
SUMMARY:Rockfish Americon
DESCRIPTION:
URL:https://harrisonbounds.com/event/rockfish-americon/
LOCATION:Rockfish Boardwalk Bar and Sea Grille\, 1601 Atlantic Avenue\, Virginia Beach\, VA\, 23451\, United States
END:VEVENT
BEGIN:VEVENT
DTSTART;TZID=UTC:20160702T180000
DTEND;TZID=UTC:20160702T200000
DTSTAMP:20260422T123102
CREATED:20160512T082532Z
LAST-MODIFIED:20160512T082532Z
UID:876-1467482400-1467489600@harrisonbounds.com
SUMMARY:CP Shucker's Shore Drive
DESCRIPTION:
URL:https://harrisonbounds.com/event/cp-shuckers-shore-drive/
LOCATION:CP Shucker’s Shore Drive\, 3232 Shore Drive \, 23451
END:VEVENT
END:VCALENDAR