BEGIN:VCALENDAR
VERSION:2.0
PRODID:-//Harrison Bounds - ECPv6.15.12.2//NONSGML v1.0//EN
CALSCALE:GREGORIAN
METHOD:PUBLISH
X-WR-CALNAME:Harrison Bounds
X-ORIGINAL-URL:https://harrisonbounds.com
X-WR-CALDESC:Events for Harrison Bounds
REFRESH-INTERVAL;VALUE=DURATION:PT1H
X-Robots-Tag:noindex
X-PUBLISHED-TTL:PT1H
BEGIN:VTIMEZONE
TZID:UTC
BEGIN:STANDARD
TZOFFSETFROM:+0000
TZOFFSETTO:+0000
TZNAME:UTC
DTSTART:20150101T000000
END:STANDARD
END:VTIMEZONE
BEGIN:VEVENT
DTSTART;TZID=UTC:20161008T193000
DTEND;TZID=UTC:20161008T223000
DTSTAMP:20260422T033509
CREATED:20160921T134849Z
LAST-MODIFIED:20160921T134849Z
UID:982-1475955000-1475965800@harrisonbounds.com
SUMMARY:Casby's
DESCRIPTION:
URL:https://harrisonbounds.com/event/casbys/
LOCATION:Casby’s\, 1336 N Great Neck Road\, Virginia Beach\, 23454
END:VEVENT
BEGIN:VEVENT
DTSTART;TZID=UTC:20161008T100000
DTEND;TZID=UTC:20161008T130000
DTSTAMP:20260422T033509
CREATED:20160725T044143Z
LAST-MODIFIED:20160725T044143Z
UID:943-1475920800-1475931600@harrisonbounds.com
SUMMARY:Java Surf
DESCRIPTION:
URL:https://harrisonbounds.com/event/java-surf-7/
LOCATION:Java Surf Vibe District\, 1807 Mediterranean Avenue\, Virginia Beach\, 23451
END:VEVENT
BEGIN:VEVENT
DTSTART;TZID=UTC:20161007T170000
DTEND;TZID=UTC:20161007T200000
DTSTAMP:20260422T033509
CREATED:20160908T085420Z
LAST-MODIFIED:20160908T085420Z
UID:973-1475859600-1475870400@harrisonbounds.com
SUMMARY:Broad Bay
DESCRIPTION:
URL:https://harrisonbounds.com/event/broad-bay-2/
LOCATION:Broad Bay Country Club\, 2120 Lords Landing\, Virginia Beach\, VA\, 23454\, United States
END:VEVENT
BEGIN:VEVENT
DTSTART;TZID=UTC:20160924T100000
DTEND;TZID=UTC:20160924T130000
DTSTAMP:20260422T033509
CREATED:20160725T044057Z
LAST-MODIFIED:20160725T044057Z
UID:942-1474711200-1474722000@harrisonbounds.com
SUMMARY:Java Surf
DESCRIPTION:
URL:https://harrisonbounds.com/event/java-surf-6/
LOCATION:Java Surf Vibe District\, 1807 Mediterranean Avenue\, Virginia Beach\, 23451
END:VEVENT
BEGIN:VEVENT
DTSTART;TZID=UTC:20160924T063000
DTEND;TZID=UTC:20160924T213000
DTSTAMP:20260422T033509
CREATED:20160908T085254Z
LAST-MODIFIED:20160908T085254Z
UID:972-1474698600-1474752600@harrisonbounds.com
SUMMARY:Dockside
DESCRIPTION:
URL:https://harrisonbounds.com/event/dockside-2/
LOCATION:Dockside\, 3311 Shore Drive\, Virginia Beach\, 23451
END:VEVENT
BEGIN:VEVENT
DTSTART;TZID=UTC:20160923T170000
DTEND;TZID=UTC:20160923T200000
DTSTAMP:20260422T033509
CREATED:20160819T091640Z
LAST-MODIFIED:20160819T091640Z
UID:971-1474650000-1474660800@harrisonbounds.com
SUMMARY:Broad Bay Country Club
DESCRIPTION:
URL:https://harrisonbounds.com/event/broad-bay-country-club-9/
LOCATION:Broad Bay Country Club\, 2120 Lords Landing\, Virginia Beach\, VA\, 23454\, United States
END:VEVENT
BEGIN:VEVENT
DTSTART;TZID=UTC:20160922T080000
DTEND;TZID=UTC:20160922T170000
DTSTAMP:20260422T033509
CREATED:20160815T054842Z
LAST-MODIFIED:20160815T054842Z
UID:964-1474531200-1474563600@harrisonbounds.com
SUMMARY:American Brew
DESCRIPTION:
URL:https://harrisonbounds.com/event/american-brew-4/
LOCATION:American Brew\, 3700 Shore Drive\, Virginia Beach\, 23455
END:VEVENT
BEGIN:VEVENT
DTSTART;TZID=UTC:20160917T180000
DTEND;TZID=UTC:20160917T210000
DTSTAMP:20260422T033509
CREATED:20160810T074837Z
LAST-MODIFIED:20160810T074837Z
UID:960-1474135200-1474146000@harrisonbounds.com
SUMMARY:The Special Guests at O'Connor's
DESCRIPTION:
URL:https://harrisonbounds.com/event/special-guests-oconnors/
LOCATION:O’Connor Brewing Co.\, 211 w 24th st.\, Norfolk\, VA\, United States
END:VEVENT
BEGIN:VEVENT
DTSTART;TZID=UTC:20160916T170000
DTEND;TZID=UTC:20160916T200000
DTSTAMP:20260422T033509
CREATED:20160510T104158Z
LAST-MODIFIED:20160510T104158Z
UID:861-1474045200-1474056000@harrisonbounds.com
SUMMARY:Broad Bay Country Club
DESCRIPTION:
URL:https://harrisonbounds.com/event/broad-bay-country-club-5/
LOCATION:Broad Bay Country Club\, 2120 Lords Landing\, Virginia Beach\, VA\, 23454\, United States
END:VEVENT
BEGIN:VEVENT
DTSTART;TZID=UTC:20160915T190000
DTEND;TZID=UTC:20160915T220000
DTSTAMP:20260422T033509
CREATED:20160716T090503Z
LAST-MODIFIED:20160716T092223Z
UID:929-1473966000-1473976800@harrisonbounds.com
SUMMARY:Tubby's Tavern
DESCRIPTION:
URL:https://harrisonbounds.com/event/tubbys-tavern-12/
LOCATION:Tubby’s Tavern
END:VEVENT
BEGIN:VEVENT
DTSTART;TZID=UTC:20160910T100000
DTEND;TZID=UTC:20160910T130000
DTSTAMP:20260422T033509
CREATED:20160725T044018Z
LAST-MODIFIED:20160725T044018Z
UID:941-1473501600-1473512400@harrisonbounds.com
SUMMARY:Java Surf
DESCRIPTION:
URL:https://harrisonbounds.com/event/java-surf-5/
LOCATION:Java Surf Vibe District\, 1807 Mediterranean Avenue\, Virginia Beach\, 23451
END:VEVENT
BEGIN:VEVENT
DTSTART;TZID=UTC:20160909T220000
DTEND;TZID=UTC:20160909T220000
DTSTAMP:20260422T033509
CREATED:20160810T074758Z
LAST-MODIFIED:20160810T074758Z
UID:958-1473458400-1473458400@harrisonbounds.com
SUMMARY:The Special Guests at Vertigo
DESCRIPTION:
URL:https://harrisonbounds.com/event/special-guests-vertigo/
LOCATION:Vertigo Bar\, 904 Lynnhaven Pkwy\, Virginia Beach\, 23452
END:VEVENT
BEGIN:VEVENT
DTSTART;TZID=UTC:20160909T170000
DTEND;TZID=UTC:20160909T200000
DTSTAMP:20260422T033509
CREATED:20160810T075009Z
LAST-MODIFIED:20160810T075009Z
UID:962-1473440400-1473451200@harrisonbounds.com
SUMMARY:Broad Bay Country Club
DESCRIPTION:
URL:https://harrisonbounds.com/event/broad-bay-country-club-8/
LOCATION:Broad Bay Country Club\, 2120 Lords Landing\, Virginia Beach\, VA\, 23454\, United States
END:VEVENT
BEGIN:VEVENT
DTSTART;TZID=UTC:20160908T180000
DTEND;TZID=UTC:20160908T210000
DTSTAMP:20260422T033509
CREATED:20160815T054816Z
LAST-MODIFIED:20160815T054816Z
UID:963-1473357600-1473368400@harrisonbounds.com
SUMMARY:American Brew
DESCRIPTION:
URL:https://harrisonbounds.com/event/american-brew-3/
LOCATION:American Brew\, 3700 Shore Drive\, Virginia Beach\, 23455
END:VEVENT
BEGIN:VEVENT
DTSTART;TZID=UTC:20160904T160000
DTEND;TZID=UTC:20160904T190000
DTSTAMP:20260422T033509
CREATED:20160325T113222Z
LAST-MODIFIED:20160325T113222Z
UID:822-1473004800-1473015600@harrisonbounds.com
SUMMARY:11th street Taphouse Acoustic
DESCRIPTION:
URL:https://harrisonbounds.com/event/11th-street-taphouse-acoustic-2/
LOCATION:11th street Taphouse\, 1011 Atlantic avenue\, Virginia Beach\, VA\, VA\, United States
END:VEVENT
BEGIN:VEVENT
DTSTART;TZID=UTC:20160903T210000
DTEND;TZID=UTC:20160903T235500
DTSTAMP:20260422T033509
CREATED:20160716T090414Z
LAST-MODIFIED:20160716T090414Z
UID:928-1472936400-1472946900@harrisonbounds.com
SUMMARY:Tubby's Tavern
DESCRIPTION:
URL:https://harrisonbounds.com/event/tubbys-tavern-11/
LOCATION:Tubby’s Tavern
END:VEVENT
BEGIN:VEVENT
DTSTART;TZID=UTC:20160902T220000
DTEND;TZID=UTC:20160902T220000
DTSTAMP:20260422T033509
CREATED:20160819T091202Z
LAST-MODIFIED:20160819T091523Z
UID:970-1472853600-1472853600@harrisonbounds.com
SUMMARY:Chicho's 29th with Aaron James
DESCRIPTION:
URL:https://harrisonbounds.com/event/chichos-29th-aaron-james/
LOCATION:Chichos 29th Street\, 2820 Pacific Avenue\, Virginia Beach\, 23451
END:VEVENT
BEGIN:VEVENT
DTSTART;TZID=UTC:20160902T170000
DTEND;TZID=UTC:20160902T200000
DTSTAMP:20260422T033509
CREATED:20160810T074914Z
LAST-MODIFIED:20160810T074914Z
UID:961-1472835600-1472846400@harrisonbounds.com
SUMMARY:Broad Bay Country Club
DESCRIPTION:
URL:https://harrisonbounds.com/event/broad-bay-country-club-7/
END:VEVENT
BEGIN:VEVENT
DTSTART;TZID=UTC:20160827T180000
DTEND;TZID=UTC:20160827T200000
DTSTAMP:20260422T033509
CREATED:20160512T082635Z
LAST-MODIFIED:20160512T082635Z
UID:878-1472320800-1472328000@harrisonbounds.com
SUMMARY:CP Shucker's Shore Drive
DESCRIPTION:
URL:https://harrisonbounds.com/event/cp-shuckers-shore-drive-2/
LOCATION:CP Shucker’s Shore Drive\, 3232 Shore Drive \, 23451
END:VEVENT
BEGIN:VEVENT
DTSTART;TZID=UTC:20160827T100000
DTEND;TZID=UTC:20160827T130000
DTSTAMP:20260422T033509
CREATED:20160725T043920Z
LAST-MODIFIED:20160725T043920Z
UID:940-1472292000-1472302800@harrisonbounds.com
SUMMARY:Java Surf
DESCRIPTION:
URL:https://harrisonbounds.com/event/java-surf-4/
LOCATION:Java Surf Vibe District\, 1807 Mediterranean Avenue\, Virginia Beach\, 23451
END:VEVENT
BEGIN:VEVENT
DTSTART;TZID=UTC:20160826T170000
DTEND;TZID=UTC:20160826T200000
DTSTAMP:20260422T033509
CREATED:20160510T104126Z
LAST-MODIFIED:20160510T104126Z
UID:860-1472230800-1472241600@harrisonbounds.com
SUMMARY:Broad Bay Country Club
DESCRIPTION:
URL:https://harrisonbounds.com/event/broad-bay-country-club-4/
LOCATION:Broad Bay Country Club\, 2120 Lords Landing\, Virginia Beach\, VA\, 23454\, United States
END:VEVENT
BEGIN:VEVENT
DTSTART;TZID=UTC:20160825T190000
DTEND;TZID=UTC:20160825T220000
DTSTAMP:20260422T033509
CREATED:20160624T060500Z
LAST-MODIFIED:20160624T060500Z
UID:908-1472151600-1472162400@harrisonbounds.com
SUMMARY:Rockfish
DESCRIPTION:
URL:https://harrisonbounds.com/event/rockfish-8/
LOCATION:Rockfish Boardwalk Bar and Sea Grille\, 1601 Atlantic Avenue\, Virginia Beach\, VA\, 23451\, United States
END:VEVENT
BEGIN:VEVENT
DTSTART;TZID=UTC:20160824T190000
DTEND;TZID=UTC:20160824T220000
DTSTAMP:20260422T033509
CREATED:20160819T090944Z
LAST-MODIFIED:20160819T090944Z
UID:968-1472065200-1472076000@harrisonbounds.com
SUMMARY:Dockside
DESCRIPTION:
URL:https://harrisonbounds.com/event/dockside/
LOCATION:Dockside\, 3311 Shore Drive\, Virginia Beach\, 23451
END:VEVENT
BEGIN:VEVENT
DTSTART;TZID=UTC:20160821T160000
DTEND;TZID=UTC:20160821T190000
DTSTAMP:20260422T033509
CREATED:20160324T074614Z
LAST-MODIFIED:20160324T074614Z
UID:820-1471795200-1471806000@harrisonbounds.com
SUMMARY:11th st Taphouse Acoustic
DESCRIPTION:
URL:https://harrisonbounds.com/event/11th-st-taphouse-acoustic-3/
LOCATION:11th street Taphouse\, 1011 Atlantic avenue\, Virginia Beach\, VA\, VA\, United States
END:VEVENT
BEGIN:VEVENT
DTSTART;TZID=UTC:20160821T110000
DTEND;TZID=UTC:20160821T140000
DTSTAMP:20260422T033509
CREATED:20160708T091146Z
LAST-MODIFIED:20160708T091146Z
UID:924-1471777200-1471788000@harrisonbounds.com
SUMMARY:Top Golf Brunch
DESCRIPTION:
URL:https://harrisonbounds.com/event/top-golf-brunch-4/
LOCATION:Top Golf\, 5444 Greenwich Road\, Virginia Beach\, 23462
END:VEVENT
BEGIN:VEVENT
DTSTART;TZID=UTC:20160820T180000
DTEND;TZID=UTC:20160820T215000
DTSTAMP:20260422T033509
CREATED:20160527T090702Z
LAST-MODIFIED:20160725T045355Z
UID:890-1471716000-1471729800@harrisonbounds.com
SUMMARY:Private Party
DESCRIPTION:
URL:https://harrisonbounds.com/event/local-cheers/
END:VEVENT
BEGIN:VEVENT
DTSTART;TZID=UTC:20160820T100000
DTEND;TZID=UTC:20160820T130000
DTSTAMP:20260422T033509
CREATED:20160801T055014Z
LAST-MODIFIED:20160801T055014Z
UID:955-1471687200-1471698000@harrisonbounds.com
SUMMARY:Java Surf Promenade
DESCRIPTION:
URL:https://harrisonbounds.com/event/java-surf-promenade/
LOCATION:Java Surf Promenade\, 1860 Laskin Road #122\, Virginia Beach\, 23454
END:VEVENT
BEGIN:VEVENT
DTSTART;TZID=UTC:20160819T180000
DTEND;TZID=UTC:20160819T200000
DTSTAMP:20260422T033509
CREATED:20160512T082350Z
LAST-MODIFIED:20160512T082350Z
UID:875-1471629600-1471636800@harrisonbounds.com
SUMMARY:CP Shucker's Oceanfront
DESCRIPTION:
URL:https://harrisonbounds.com/event/cp-shuckers-oceanfront-3/
LOCATION:CP Shuckers Oceanfront\, 2407 Pacific Avenue\, Virginia Beach\, 23451
END:VEVENT
BEGIN:VEVENT
DTSTART;TZID=UTC:20160818T190000
DTEND;TZID=UTC:20160818T220000
DTSTAMP:20260422T033509
CREATED:20160624T060419Z
LAST-MODIFIED:20160624T060419Z
UID:907-1471546800-1471557600@harrisonbounds.com
SUMMARY:Rockfish
DESCRIPTION:
URL:https://harrisonbounds.com/event/rockfish-7/
LOCATION:Rockfish Boardwalk Bar and Sea Grille\, 1601 Atlantic Avenue\, Virginia Beach\, VA\, 23451\, United States
END:VEVENT
BEGIN:VEVENT
DTSTART;TZID=UTC:20160816T113000
DTEND;TZID=UTC:20160816T133000
DTSTAMP:20260422T033509
CREATED:20160816T030316Z
LAST-MODIFIED:20160816T030316Z
UID:965-1471347000-1471354200@harrisonbounds.com
SUMMARY:Luncheon on base
DESCRIPTION:
URL:https://harrisonbounds.com/event/luncheon-on-base/
END:VEVENT
END:VCALENDAR