BEGIN:VCALENDAR
VERSION:2.0
PRODID:-//Harrison Bounds - ECPv6.15.12.2//NONSGML v1.0//EN
CALSCALE:GREGORIAN
METHOD:PUBLISH
X-WR-CALNAME:Harrison Bounds
X-ORIGINAL-URL:https://harrisonbounds.com
X-WR-CALDESC:Events for Harrison Bounds
REFRESH-INTERVAL;VALUE=DURATION:PT1H
X-Robots-Tag:noindex
X-PUBLISHED-TTL:PT1H
BEGIN:VTIMEZONE
TZID:UTC
BEGIN:STANDARD
TZOFFSETFROM:+0000
TZOFFSETTO:+0000
TZNAME:UTC
DTSTART:20160101T000000
END:STANDARD
END:VTIMEZONE
BEGIN:VEVENT
DTSTART;TZID=UTC:20170412T203000
DTEND;TZID=UTC:20170412T233000
DTSTAMP:20260422T020921
CREATED:20170131T150319Z
LAST-MODIFIED:20170131T150319Z
UID:1098-1492029000-1492039800@harrisonbounds.com
SUMMARY:Scotty Quixx
DESCRIPTION:
URL:https://harrisonbounds.com/event/scotty-quixx/
LOCATION:Scotty Quixx East\, 525 Birdneck Rd N\, Virginia Beach\, VA\, United States
END:VEVENT
BEGIN:VEVENT
DTSTART;TZID=UTC:20170407T170000
DTEND;TZID=UTC:20170407T203000
DTSTAMP:20260422T020921
CREATED:20170209T092151Z
LAST-MODIFIED:20170209T092151Z
UID:1119-1491584400-1491597000@harrisonbounds.com
SUMMARY:First Friday's Featuring The Special Guests
DESCRIPTION:
URL:https://harrisonbounds.com/event/first-fridays-featuring-special-guests/
END:VEVENT
BEGIN:VEVENT
DTSTART;TZID=UTC:20170402T160000
DTEND;TZID=UTC:20170402T190000
DTSTAMP:20260422T020921
CREATED:20170322T090249Z
LAST-MODIFIED:20170322T090249Z
UID:1234-1491148800-1491159600@harrisonbounds.com
SUMMARY:School of Rock Staff Show
DESCRIPTION:
URL:https://harrisonbounds.com/event/school-rock-staff-show/
LOCATION:Eagles Nest Virginia Beach\, 600 Nevan Road\, Virginia Beach\, VA\, United States
END:VEVENT
BEGIN:VEVENT
DTSTART;TZID=UTC:20170402T110000
DTEND;TZID=UTC:20170402T150000
DTSTAMP:20260422T020921
CREATED:20170118T032503Z
LAST-MODIFIED:20170118T032503Z
UID:1077-1491130800-1491145200@harrisonbounds.com
SUMMARY:Lunasea Brunch
DESCRIPTION:
URL:https://harrisonbounds.com/event/lunasea-brunch-11/
LOCATION:Lunasea\, 206 22nd street\, Virginia Beach \, VA\, United States
END:VEVENT
BEGIN:VEVENT
DTSTART;TZID=UTC:20170401T100000
DTEND;TZID=UTC:20170401T130000
DTSTAMP:20260422T020921
CREATED:20170303T084213Z
LAST-MODIFIED:20170303T084213Z
UID:1174-1491040800-1491051600@harrisonbounds.com
SUMMARY:Java Surf- Vibe District
DESCRIPTION:
URL:https://harrisonbounds.com/event/java-surf-vibe-district/
LOCATION:Java Surf Vibe District\, 1807 Mediterranean Avenue\, Virginia Beach\, 23451
END:VEVENT
BEGIN:VEVENT
DTSTART;TZID=UTC:20170331T210000
DTEND;TZID=UTC:20170331T235500
DTSTAMP:20260422T020921
CREATED:20161211T110409Z
LAST-MODIFIED:20161211T110409Z
UID:1037-1490994000-1491004500@harrisonbounds.com
SUMMARY:Tubby's Tavern
DESCRIPTION:
URL:https://harrisonbounds.com/event/tubbys-tavern-28/
LOCATION:Tubby’s Tavern
END:VEVENT
BEGIN:VEVENT
DTSTART;TZID=UTC:20170330T190000
DTEND;TZID=UTC:20170330T220000
DTSTAMP:20260422T020921
CREATED:20170222T071632Z
LAST-MODIFIED:20170222T071632Z
UID:1140-1490900400-1490911200@harrisonbounds.com
SUMMARY:American Brew
DESCRIPTION:
URL:https://harrisonbounds.com/event/american-brew-11/
END:VEVENT
BEGIN:VEVENT
DTSTART;TZID=UTC:20170329T203000
DTEND;TZID=UTC:20170329T233000
DTSTAMP:20260422T020921
CREATED:20170209T092004Z
LAST-MODIFIED:20170209T092004Z
UID:1115-1490819400-1490830200@harrisonbounds.com
SUMMARY:Scotty Quixx
DESCRIPTION:
URL:https://harrisonbounds.com/event/scotty-quixx-9/
LOCATION:Scotty Quixx East\, 525 Birdneck Rd N\, Virginia Beach\, VA\, United States
END:VEVENT
BEGIN:VEVENT
DTSTART;TZID=UTC:20170325T200000
DTEND;TZID=UTC:20170325T230000
DTSTAMP:20260422T020921
CREATED:20170303T043010Z
LAST-MODIFIED:20170303T043010Z
UID:1171-1490472000-1490482800@harrisonbounds.com
SUMMARY:Fiddlehead End of Season Party
DESCRIPTION:
URL:https://harrisonbounds.com/event/fiddlehead-end-season-party/
LOCATION:The Fiddlehead\, Snowshoe\, WV\, United States
END:VEVENT
BEGIN:VEVENT
DTSTART;TZID=UTC:20170324T210000
DTEND;TZID=UTC:20170324T233000
DTSTAMP:20260422T020921
CREATED:20170209T092545Z
LAST-MODIFIED:20170209T092545Z
UID:1121-1490389200-1490398200@harrisonbounds.com
SUMMARY:The Asylum Lewisburg
DESCRIPTION:
URL:https://harrisonbounds.com/event/the-asylum-lewisburg/
LOCATION:The Asylum Lewisburg\, 399 Randolph Street East\, Lewisburg\, West Virginia\, 24901
END:VEVENT
BEGIN:VEVENT
DTSTART;TZID=UTC:20170322T090000
DTEND;TZID=UTC:20170322T233000
DTSTAMP:20260422T020921
CREATED:20170131T052504Z
LAST-MODIFIED:20170131T134901Z
UID:1095-1490173200-1490225400@harrisonbounds.com
SUMMARY:Scotty Quixx East
DESCRIPTION:
URL:https://harrisonbounds.com/event/woody-mcgees-3/
LOCATION:Scotty Quixx East\, 525 Birdneck Rd N\, Virginia Beach\, VA\, United States
END:VEVENT
BEGIN:VEVENT
DTSTART;TZID=UTC:20170317T163000
DTEND;TZID=UTC:20170317T203000
DTSTAMP:20260422T020921
CREATED:20170209T092100Z
LAST-MODIFIED:20170209T092100Z
UID:1117-1489768200-1489782600@harrisonbounds.com
SUMMARY:Broad Bay Country Club
DESCRIPTION:
URL:https://harrisonbounds.com/event/broad-bay-country-club-11/
LOCATION:Broad Bay Country Club\, 2120 Lords Landing\, Virginia Beach\, VA\, 23454\, United States
END:VEVENT
BEGIN:VEVENT
DTSTART;TZID=UTC:20170316T210000
DTEND;TZID=UTC:20170316T235500
DTSTAMP:20260422T020921
CREATED:20161211T110327Z
LAST-MODIFIED:20170130T122647Z
UID:1036-1489698000-1489708500@harrisonbounds.com
SUMMARY:Tubby's Tavern
DESCRIPTION:
URL:https://harrisonbounds.com/event/tubbys-tavern-27/
LOCATION:Tubby’s Tavern
END:VEVENT
BEGIN:VEVENT
DTSTART;TZID=UTC:20170312T200000
DTEND;TZID=UTC:20170312T230000
DTSTAMP:20260422T020921
CREATED:20170303T033434Z
LAST-MODIFIED:20170303T033434Z
UID:1168-1489348800-1489359600@harrisonbounds.com
SUMMARY:Battle of the Bands- Nate Sacks and The Lifehacks at Shaka's
DESCRIPTION:
URL:https://harrisonbounds.com/event/battle-bands-nate-sacks-lifehacks-shakas/
LOCATION:Shakas\, 2014 Atlantic Avenue\, Virginia Beach\, VA\, 23451\, United States
END:VEVENT
BEGIN:VEVENT
DTSTART;TZID=UTC:20170308T210000
DTEND;TZID=UTC:20170308T235500
DTSTAMP:20260422T020921
CREATED:20161126T093135Z
LAST-MODIFIED:20170130T114739Z
UID:1011-1489006800-1489017300@harrisonbounds.com
SUMMARY:Scotty Quixx East
DESCRIPTION:
URL:https://harrisonbounds.com/event/woody-mcgees-2/
LOCATION:Scotty Quixx East\, 525 Birdneck Rd N\, Virginia Beach\, VA\, United States
END:VEVENT
BEGIN:VEVENT
DTSTART;TZID=UTC:20170301T183000
DTEND;TZID=UTC:20170301T213000
DTSTAMP:20260422T020921
CREATED:20170227T141108Z
LAST-MODIFIED:20170227T141108Z
UID:1163-1488393000-1488403800@harrisonbounds.com
SUMMARY:Duck Call with Kyle Folsom
DESCRIPTION:
URL:https://harrisonbounds.com/event/duck-call-kyle-folsom/
LOCATION:Back Bay Brewery\, 614 Norfolk Ave\, Virginia Beach\, VA\, 23452\, United States
END:VEVENT
BEGIN:VEVENT
DTSTART;TZID=UTC:20170222T210000
DTEND;TZID=UTC:20170222T210000
DTSTAMP:20260422T020921
CREATED:20160921T135012Z
LAST-MODIFIED:20161011T110121Z
UID:985-1487797200-1487797200@harrisonbounds.com
SUMMARY:Scotty Quixx East
DESCRIPTION:
URL:https://harrisonbounds.com/event/scotty-quixx-east-2/
LOCATION:Scotty Quixx East\, 525 Birdneck Rd N\, Virginia Beach\, VA\, United States
END:VEVENT
BEGIN:VEVENT
DTSTART;TZID=UTC:20170219T120000
DTEND;TZID=UTC:20170219T150000
DTSTAMP:20260422T020921
CREATED:20170212T094234Z
LAST-MODIFIED:20170212T094234Z
UID:1134-1487505600-1487516400@harrisonbounds.com
SUMMARY:Fiddlehead Brunch
DESCRIPTION:
URL:https://harrisonbounds.com/event/fiddlehead-brunch-2/
LOCATION:The Fiddlehead\, Snowshoe\, WV\, United States
END:VEVENT
BEGIN:VEVENT
DTSTART;TZID=UTC:20170218T200000
DTEND;TZID=UTC:20170218T230000
DTSTAMP:20260422T020921
CREATED:20170212T094150Z
LAST-MODIFIED:20170212T094150Z
UID:1132-1487448000-1487458800@harrisonbounds.com
SUMMARY:Fiddlehead
DESCRIPTION:
URL:https://harrisonbounds.com/event/fiddlehead/
LOCATION:The Fiddlehead\, Snowshoe\, WV\, United States
END:VEVENT
BEGIN:VEVENT
DTSTART;TZID=UTC:20170214T190000
DTEND;TZID=UTC:20170214T220000
DTSTAMP:20260422T020921
CREATED:20170212T101655Z
LAST-MODIFIED:20170212T101655Z
UID:1136-1487098800-1487109600@harrisonbounds.com
SUMMARY:Tubby's Taco Tuesday
DESCRIPTION:
URL:https://harrisonbounds.com/event/tubbys-taco-tuesday/
LOCATION:Tubby’s Tavern
END:VEVENT
BEGIN:VEVENT
DTSTART;TZID=UTC:20170210T210000
DTEND;TZID=UTC:20170210T235500
DTSTAMP:20260422T020921
CREATED:20161211T110101Z
LAST-MODIFIED:20161211T110101Z
UID:1033-1486760400-1486770900@harrisonbounds.com
SUMMARY:Tubby's Tavern
DESCRIPTION:
URL:https://harrisonbounds.com/event/tubbys-tavern-24/
LOCATION:Tubby’s Tavern
END:VEVENT
BEGIN:VEVENT
DTSTART;TZID=UTC:20170209T183000
DTEND;TZID=UTC:20170209T213000
DTSTAMP:20260422T020921
CREATED:20161130T133159Z
LAST-MODIFIED:20161130T133159Z
UID:1015-1486665000-1486675800@harrisonbounds.com
SUMMARY:American Brew
DESCRIPTION:
URL:https://harrisonbounds.com/event/american-brew-10/
LOCATION:American Brew\, 3700 Shore Drive\, Virginia Beach\, 23455
END:VEVENT
BEGIN:VEVENT
DTSTART;TZID=UTC:20170205T113000
DTEND;TZID=UTC:20170205T143000
DTSTAMP:20260422T020921
CREATED:20161228T124649Z
LAST-MODIFIED:20170118T031529Z
UID:1042-1486294200-1486305000@harrisonbounds.com
SUMMARY:Fiddlehead Brunch
DESCRIPTION:
URL:https://harrisonbounds.com/event/fiddlehead-brunch/
LOCATION:The Fiddlehead\, Snowshoe\, WV\, United States
END:VEVENT
BEGIN:VEVENT
DTSTART;TZID=UTC:20170204T210000
DTEND;TZID=UTC:20170204T230000
DTSTAMP:20260422T020921
CREATED:20170118T032318Z
LAST-MODIFIED:20170118T032318Z
UID:1071-1486242000-1486249200@harrisonbounds.com
SUMMARY:Wolfe Street Brewing
DESCRIPTION:
URL:https://harrisonbounds.com/event/wolfe-street-brewing-2/
LOCATION:Wolf Street Brewing\, 120 W Wolfe Street\, Harrisonburg \, VA
END:VEVENT
BEGIN:VEVENT
DTSTART;TZID=UTC:20170202T190000
DTEND;TZID=UTC:20170202T220000
DTSTAMP:20260422T020921
CREATED:20161211T110023Z
LAST-MODIFIED:20170124T130356Z
UID:1032-1486062000-1486072800@harrisonbounds.com
SUMMARY:Tubby's Tavern
DESCRIPTION:
URL:https://harrisonbounds.com/event/tubbys-tavern-23/
LOCATION:Tubby’s Tavern
END:VEVENT
BEGIN:VEVENT
DTSTART;TZID=UTC:20170201T180000
DTEND;TZID=UTC:20170201T210000
DTSTAMP:20260422T020921
CREATED:20170124T130501Z
LAST-MODIFIED:20170124T130501Z
UID:1083-1485972000-1485982800@harrisonbounds.com
SUMMARY:Duck Call with Nate Sacks
DESCRIPTION:
URL:https://harrisonbounds.com/event/duck-call-nate-sacks/
LOCATION:Back Bay Brewery\, 614 Norfolk Ave\, Virginia Beach\, VA\, 23452\, United States
END:VEVENT
BEGIN:VEVENT
DTSTART;TZID=UTC:20170130T190000
DTEND;TZID=UTC:20170130T210000
DTSTAMP:20260422T020921
CREATED:20170124T130608Z
LAST-MODIFIED:20170124T130608Z
UID:1085-1485802800-1485810000@harrisonbounds.com
SUMMARY:Chicho's with Mike Gombas
DESCRIPTION:
URL:https://harrisonbounds.com/event/chichos-mike-gombas/
LOCATION:Chichos 29th Street\, 2820 Pacific Avenue\, Virginia Beach\, 23451
END:VEVENT
BEGIN:VEVENT
DTSTART;TZID=UTC:20170129T110000
DTEND;TZID=UTC:20170129T150000
DTSTAMP:20260422T020921
CREATED:20170118T032353Z
LAST-MODIFIED:20170118T032353Z
UID:1073-1485687600-1485702000@harrisonbounds.com
SUMMARY:Lunasea Brunch
DESCRIPTION:
URL:https://harrisonbounds.com/event/lunasea-brunch-8/
LOCATION:Lunasea\, 206 22nd street\, Virginia Beach \, VA\, United States
END:VEVENT
BEGIN:VEVENT
DTSTART;TZID=UTC:20170128T210000
DTEND;TZID=UTC:20170128T235500
DTSTAMP:20260422T020921
CREATED:20161211T105944Z
LAST-MODIFIED:20161211T105944Z
UID:1031-1485637200-1485647700@harrisonbounds.com
SUMMARY:Tubby's Tavern
DESCRIPTION:
URL:https://harrisonbounds.com/event/tubbys-tavern-22/
LOCATION:Tubby’s Tavern
END:VEVENT
BEGIN:VEVENT
DTSTART;TZID=UTC:20170126T183000
DTEND;TZID=UTC:20170126T213000
DTSTAMP:20260422T020921
CREATED:20161130T133124Z
LAST-MODIFIED:20161130T133124Z
UID:1014-1485455400-1485466200@harrisonbounds.com
SUMMARY:American Brew
DESCRIPTION:
URL:https://harrisonbounds.com/event/american-brew-9/
LOCATION:American Brew\, 3700 Shore Drive\, Virginia Beach\, 23455
END:VEVENT
END:VCALENDAR