BEGIN:VCALENDAR
VERSION:2.0
PRODID:-//Harrison Bounds - ECPv6.15.12.2//NONSGML v1.0//EN
CALSCALE:GREGORIAN
METHOD:PUBLISH
X-WR-CALNAME:Harrison Bounds
X-ORIGINAL-URL:https://harrisonbounds.com
X-WR-CALDESC:Events for Harrison Bounds
REFRESH-INTERVAL;VALUE=DURATION:PT1H
X-Robots-Tag:noindex
X-PUBLISHED-TTL:PT1H
BEGIN:VTIMEZONE
TZID:UTC
BEGIN:STANDARD
TZOFFSETFROM:+0000
TZOFFSETTO:+0000
TZNAME:UTC
DTSTART:20160101T000000
END:STANDARD
END:VTIMEZONE
BEGIN:VEVENT
DTSTART;TZID=UTC:20170610T210000
DTEND;TZID=UTC:20170610T233000
DTSTAMP:20260422T081923
CREATED:20170322T115035Z
LAST-MODIFIED:20170322T115035Z
UID:1243-1497128400-1497137400@harrisonbounds.com
SUMMARY:Mojo Bones OV
DESCRIPTION:
URL:https://harrisonbounds.com/event/mojo-bones-ov/
END:VEVENT
BEGIN:VEVENT
DTSTART;TZID=UTC:20170610T180000
DTEND;TZID=UTC:20170610T200000
DTSTAMP:20260422T081923
CREATED:20170607T134217Z
LAST-MODIFIED:20170607T134217Z
UID:1314-1497117600-1497124800@harrisonbounds.com
SUMMARY:CP Shuckers Shore Drive
DESCRIPTION:
URL:https://harrisonbounds.com/event/cp-shuckers-shore-drive-4/
LOCATION:CP Shucker’s Shore Drive\, 3232 Shore Drive \, 23451
END:VEVENT
BEGIN:VEVENT
DTSTART;TZID=UTC:20170610T100000
DTEND;TZID=UTC:20170610T130000
DTSTAMP:20260422T081923
CREATED:20170303T084903Z
LAST-MODIFIED:20170303T084903Z
UID:1184-1497088800-1497099600@harrisonbounds.com
SUMMARY:Java Surf- Vibe
DESCRIPTION:
URL:https://harrisonbounds.com/event/java-surf-vibe-2/
END:VEVENT
BEGIN:VEVENT
DTSTART;TZID=UTC:20170608T180000
DTEND;TZID=UTC:20170608T210000
DTSTAMP:20260422T081923
CREATED:20170523T165312Z
LAST-MODIFIED:20170523T165312Z
UID:1295-1496944800-1496955600@harrisonbounds.com
SUMMARY:Scotty Quixx- Blvd (weather dependent)
DESCRIPTION:
URL:https://harrisonbounds.com/event/scotty-quixx-blvd-weather-dependent/
END:VEVENT
BEGIN:VEVENT
DTSTART;TZID=UTC:20170604T180000
DTEND;TZID=UTC:20170604T200000
DTSTAMP:20260422T081923
CREATED:20170607T103520Z
LAST-MODIFIED:20170607T103520Z
UID:1311-1496599200-1496606400@harrisonbounds.com
SUMMARY:CP Shuckers Oceanfront
DESCRIPTION:
URL:https://harrisonbounds.com/event/cp-shuckers-oceanfront-2/
END:VEVENT
BEGIN:VEVENT
DTSTART;TZID=UTC:20170602T180000
DTEND;TZID=UTC:20170602T230000
DTSTAMP:20260422T081923
CREATED:20170130T121806Z
LAST-MODIFIED:20170130T121806Z
UID:1090-1496426400-1496444400@harrisonbounds.com
SUMMARY:Carille Wedding
DESCRIPTION:
URL:https://harrisonbounds.com/event/carille-wedding/
END:VEVENT
BEGIN:VEVENT
DTSTART;TZID=UTC:20170529T100000
DTEND;TZID=UTC:20170529T130000
DTSTAMP:20260422T081923
CREATED:20170522T125501Z
LAST-MODIFIED:20170522T125501Z
UID:1292-1496052000-1496062800@harrisonbounds.com
SUMMARY:Java Surf- ViBe
DESCRIPTION:
URL:https://harrisonbounds.com/event/java-surf-vibe-7/
LOCATION:Java Surf Vibe District\, 1807 Mediterranean Avenue\, Virginia Beach\, 23451
END:VEVENT
BEGIN:VEVENT
DTSTART;TZID=UTC:20170527T100000
DTEND;TZID=UTC:20170527T130000
DTSTAMP:20260422T081923
CREATED:20170303T084454Z
LAST-MODIFIED:20170303T084454Z
UID:1182-1495879200-1495890000@harrisonbounds.com
SUMMARY:Java Surf- Vibe
DESCRIPTION:
URL:https://harrisonbounds.com/event/java-surf-vibe/
LOCATION:Java Surf Vibe District\, 1807 Mediterranean Avenue\, Virginia Beach\, 23451
END:VEVENT
BEGIN:VEVENT
DTSTART;TZID=UTC:20170524T203000
DTEND;TZID=UTC:20170524T233000
DTSTAMP:20260422T081923
CREATED:20170131T150528Z
LAST-MODIFIED:20170131T150528Z
UID:1104-1495657800-1495668600@harrisonbounds.com
SUMMARY:Scotty Quixx
DESCRIPTION:
URL:https://harrisonbounds.com/event/scotty-quixx-4/
END:VEVENT
BEGIN:VEVENT
DTSTART;TZID=UTC:20170523T190000
DTEND;TZID=UTC:20170523T220000
DTSTAMP:20260422T081923
CREATED:20170209T105605Z
LAST-MODIFIED:20170209T105605Z
UID:1130-1495566000-1495576800@harrisonbounds.com
SUMMARY:Tubby's Tavern
DESCRIPTION:
URL:https://harrisonbounds.com/event/tubbys-tavern-32/
LOCATION:Tubby’s Tavern
END:VEVENT
BEGIN:VEVENT
DTSTART;TZID=UTC:20170521T120000
DTEND;TZID=UTC:20170521T160000
DTSTAMP:20260422T081923
CREATED:20170516T020751Z
LAST-MODIFIED:20170516T020751Z
UID:1288-1495368000-1495382400@harrisonbounds.com
SUMMARY:Blue Moon Taphouse
DESCRIPTION:
URL:https://harrisonbounds.com/event/blue-moon-taphouse/
END:VEVENT
BEGIN:VEVENT
DTSTART;TZID=UTC:20170520T210000
DTEND;TZID=UTC:20170520T233000
DTSTAMP:20260422T081923
CREATED:20170427T043607Z
LAST-MODIFIED:20170427T043607Z
UID:1264-1495314000-1495323000@harrisonbounds.com
SUMMARY:Tubby's Tavern- Kempsville
DESCRIPTION:
URL:https://harrisonbounds.com/event/tubbys-tavern-kempsville/
END:VEVENT
BEGIN:VEVENT
DTSTART;TZID=UTC:20170519T210000
DTEND;TZID=UTC:20170519T233000
DTSTAMP:20260422T081923
CREATED:20170405T080712Z
LAST-MODIFIED:20170405T080712Z
UID:1252-1495227600-1495236600@harrisonbounds.com
SUMMARY:11th Street Taphouse
DESCRIPTION:
URL:https://harrisonbounds.com/event/11th-street-taphouse-2/
LOCATION:11th street Taphouse\, 1011 Atlantic avenue\, Virginia Beach\, VA\, VA\, United States
END:VEVENT
BEGIN:VEVENT
DTSTART;TZID=UTC:20170515T173000
DTEND;TZID=UTC:20170515T190000
DTSTAMP:20260422T081923
CREATED:20170315T082530Z
LAST-MODIFIED:20170315T082530Z
UID:1227-1494869400-1494874800@harrisonbounds.com
SUMMARY:SVBGH Charity Golf Tournament
DESCRIPTION:
URL:https://harrisonbounds.com/event/svbgh-charity-golf-tournament/
LOCATION:Broad Bay Country Club\, 2120 Lords Landing\, Virginia Beach\, VA\, 23454\, United States
END:VEVENT
BEGIN:VEVENT
DTSTART;TZID=UTC:20170514T110000
DTEND;TZID=UTC:20170514T150000
DTSTAMP:20260422T081923
CREATED:20170322T184015Z
LAST-MODIFIED:20170322T184015Z
UID:1245-1494759600-1494774000@harrisonbounds.com
SUMMARY:Lunasea Brunch
DESCRIPTION:
URL:https://harrisonbounds.com/event/lunasea-brunch-9/
LOCATION:Lunasea\, 206 22nd street\, Virginia Beach \, VA\, United States
END:VEVENT
BEGIN:VEVENT
DTSTART;TZID=UTC:20170513T210000
DTEND;TZID=UTC:20170513T233000
DTSTAMP:20260422T081923
CREATED:20170209T105506Z
LAST-MODIFIED:20170209T105506Z
UID:1128-1494709200-1494718200@harrisonbounds.com
SUMMARY:Tubby's Tavern
DESCRIPTION:
URL:https://harrisonbounds.com/event/tubbys-tavern-31/
LOCATION:Tubby’s Tavern
END:VEVENT
BEGIN:VEVENT
DTSTART;TZID=UTC:20170512T170000
DTEND;TZID=UTC:20170512T200000
DTSTAMP:20260422T081923
CREATED:20170408T100012Z
LAST-MODIFIED:20170408T100012Z
UID:1256-1494608400-1494619200@harrisonbounds.com
SUMMARY:Woody McGee's Happy Hour
DESCRIPTION:
URL:https://harrisonbounds.com/event/woody-mcgees-happy-hour/
LOCATION:Woody McGees Barstro\, 4356 Holland Road\, Virginia Beach\, 23452
END:VEVENT
BEGIN:VEVENT
DTSTART;TZID=UTC:20170511T190000
DTEND;TZID=UTC:20170511T220000
DTSTAMP:20260422T081923
CREATED:20170222T071841Z
LAST-MODIFIED:20170312T033320Z
UID:1142-1494529200-1494540000@harrisonbounds.com
SUMMARY:American Brew
DESCRIPTION:
URL:https://harrisonbounds.com/event/american-brew-12/
END:VEVENT
BEGIN:VEVENT
DTSTART;TZID=UTC:20170509T190000
DTEND;TZID=UTC:20170509T220000
DTSTAMP:20260422T081923
CREATED:20170224T085737Z
LAST-MODIFIED:20170224T085737Z
UID:1145-1494356400-1494367200@harrisonbounds.com
SUMMARY:Tubbys Tavern
DESCRIPTION:
URL:https://harrisonbounds.com/event/tubbys-tavern-25/
END:VEVENT
BEGIN:VEVENT
DTSTART;TZID=UTC:20170507T100000
DTEND;TZID=UTC:20170507T130000
DTSTAMP:20260422T081923
CREATED:20170303T084421Z
LAST-MODIFIED:20170309T084632Z
UID:1180-1494151200-1494162000@harrisonbounds.com
SUMMARY:Java Surf- Vibe District
DESCRIPTION:
URL:https://harrisonbounds.com/event/java-surf-vibe-district-3/
LOCATION:Java Surf Vibe District\, 1807 Mediterranean Avenue\, Virginia Beach\, 23451
END:VEVENT
BEGIN:VEVENT
DTSTART;TZID=UTC:20170506T170000
DTEND;TZID=UTC:20170506T200000
DTSTAMP:20260422T081923
CREATED:20170322T085933Z
LAST-MODIFIED:20170322T090042Z
UID:1231-1494090000-1494100800@harrisonbounds.com
SUMMARY:Lava Mini Fest
DESCRIPTION:
URL:https://harrisonbounds.com/event/lava-mini-fest/
LOCATION:Toast\, 2406 Colonial Avenue\, Norfolk\, VA\, United States
END:VEVENT
BEGIN:VEVENT
DTSTART;TZID=UTC:20170426T203000
DTEND;TZID=UTC:20170426T233000
DTSTAMP:20260422T081923
CREATED:20170131T150436Z
LAST-MODIFIED:20170131T150436Z
UID:1102-1493238600-1493249400@harrisonbounds.com
SUMMARY:Scotty Quixx
DESCRIPTION:
URL:https://harrisonbounds.com/event/scotty-quixx-3/
END:VEVENT
BEGIN:VEVENT
DTSTART;TZID=UTC:20170425T190000
DTEND;TZID=UTC:20170425T220000
DTSTAMP:20260422T081923
CREATED:20170209T105342Z
LAST-MODIFIED:20170209T105342Z
UID:1126-1493146800-1493157600@harrisonbounds.com
SUMMARY:Tubby's Tavern
DESCRIPTION:
URL:https://harrisonbounds.com/event/tubbys-tavern-30/
LOCATION:Tubby’s Tavern
END:VEVENT
BEGIN:VEVENT
DTSTART;TZID=UTC:20170423T160000
DTEND;TZID=UTC:20170423T210000
DTSTAMP:20260422T081923
CREATED:20170405T151857Z
LAST-MODIFIED:20170405T151857Z
UID:1254-1492963200-1492981200@harrisonbounds.com
SUMMARY:Battle of the Bands Finals
DESCRIPTION:
URL:https://harrisonbounds.com/event/battle-bands-finals/
LOCATION:Shakas\, 2014 Atlantic Avenue\, Virginia Beach\, VA\, 23451\, United States
END:VEVENT
BEGIN:VEVENT
DTSTART;TZID=UTC:20170423T100000
DTEND;TZID=UTC:20170423T130000
DTSTAMP:20260422T081923
CREATED:20170303T084257Z
LAST-MODIFIED:20170309T085244Z
UID:1176-1492941600-1492952400@harrisonbounds.com
SUMMARY:Java Surf- Vibe District
DESCRIPTION:
URL:https://harrisonbounds.com/event/java-surf-vibe-district-2/
LOCATION:Java Surf Vibe District\, 1807 Mediterranean Avenue\, Virginia Beach\, 23451
END:VEVENT
BEGIN:VEVENT
DTSTART;TZID=UTC:20170422T210000
DTEND;TZID=UTC:20170422T233000
DTSTAMP:20260422T081923
CREATED:20170228T084156Z
LAST-MODIFIED:20170312T033236Z
UID:1165-1492894800-1492903800@harrisonbounds.com
SUMMARY:Pungo Sports Bar and Grill
DESCRIPTION:
URL:https://harrisonbounds.com/event/pungo-sports-bar-grill/
LOCATION:Pungo Sports Bar and Grill\, 1776 Princess Anne Road\, Virginia Beach\, VA\, United States
END:VEVENT
BEGIN:VEVENT
DTSTART;TZID=UTC:20170422T140000
DTEND;TZID=UTC:20170422T150000
DTSTAMP:20260422T081923
CREATED:20161117T084902Z
LAST-MODIFIED:20161117T092144Z
UID:1004-1492869600-1492873200@harrisonbounds.com
SUMMARY:Starfire Festival with Nate Sacks
DESCRIPTION:
URL:https://harrisonbounds.com/event/starfire-festival-nate-sacks/
END:VEVENT
BEGIN:VEVENT
DTSTART;TZID=UTC:20170421T203000
DTEND;TZID=UTC:20170421T233000
DTSTAMP:20260422T081923
CREATED:20170322T085818Z
LAST-MODIFIED:20170322T085818Z
UID:1229-1492806600-1492817400@harrisonbounds.com
SUMMARY:Oyster Bar and Steaks
DESCRIPTION:
URL:https://harrisonbounds.com/event/oyster-bar-steaks/
END:VEVENT
BEGIN:VEVENT
DTSTART;TZID=UTC:20170415T203000
DTEND;TZID=UTC:20170415T233000
DTSTAMP:20260422T081923
CREATED:20170131T150357Z
LAST-MODIFIED:20170131T150357Z
UID:1100-1492288200-1492299000@harrisonbounds.com
SUMMARY:Scotty Quixx
DESCRIPTION:
URL:https://harrisonbounds.com/event/scotty-quixx-2/
END:VEVENT
BEGIN:VEVENT
DTSTART;TZID=UTC:20170413T190000
DTEND;TZID=UTC:20170413T220000
DTSTAMP:20260422T081923
CREATED:20170209T105210Z
LAST-MODIFIED:20170302T083456Z
UID:1124-1492110000-1492120800@harrisonbounds.com
SUMMARY:Tubbys Tavern
DESCRIPTION:
URL:https://harrisonbounds.com/event/tubbys-tavern-29/
LOCATION:Tubby’s Tavern
END:VEVENT
END:VCALENDAR