BEGIN:VCALENDAR
VERSION:2.0
PRODID:-//Harrison Bounds - ECPv6.15.12.2//NONSGML v1.0//EN
CALSCALE:GREGORIAN
METHOD:PUBLISH
X-WR-CALNAME:Harrison Bounds
X-ORIGINAL-URL:https://harrisonbounds.com
X-WR-CALDESC:Events for Harrison Bounds
REFRESH-INTERVAL;VALUE=DURATION:PT1H
X-Robots-Tag:noindex
X-PUBLISHED-TTL:PT1H
BEGIN:VTIMEZONE
TZID:UTC
BEGIN:STANDARD
TZOFFSETFROM:+0000
TZOFFSETTO:+0000
TZNAME:UTC
DTSTART:20160101T000000
END:STANDARD
END:VTIMEZONE
BEGIN:VEVENT
DTSTART;TZID=UTC:20170728T210000
DTEND;TZID=UTC:20170728T233000
DTSTAMP:20260422T123100
CREATED:20170224T090036Z
LAST-MODIFIED:20170224T090036Z
UID:1153-1501275600-1501284600@harrisonbounds.com
SUMMARY:Tubbys Tavern
DESCRIPTION:
URL:https://harrisonbounds.com/event/tubbys-tavern-36/
END:VEVENT
BEGIN:VEVENT
DTSTART;TZID=UTC:20170728T180000
DTEND;TZID=UTC:20170728T200000
DTSTAMP:20260422T123100
CREATED:20170418T125905Z
LAST-MODIFIED:20170622T064716Z
UID:1259-1501264800-1501272000@harrisonbounds.com
SUMMARY:Red Mill Commons Family Movie Night
DESCRIPTION:
URL:https://harrisonbounds.com/event/red-mill-commons-family-movie-night/
END:VEVENT
BEGIN:VEVENT
DTSTART;TZID=UTC:20170727T190000
DTEND;TZID=UTC:20170727T220000
DTSTAMP:20260422T123100
CREATED:20170622T132050Z
LAST-MODIFIED:20170712T020150Z
UID:1347-1501182000-1501192800@harrisonbounds.com
SUMMARY:American Brew
DESCRIPTION:
URL:https://harrisonbounds.com/event/scotty-quixx-blvd-4/
END:VEVENT
BEGIN:VEVENT
DTSTART;TZID=UTC:20170726T180000
DTEND;TZID=UTC:20170726T220000
DTSTAMP:20260422T123100
CREATED:20170705T093732Z
LAST-MODIFIED:20170705T093732Z
UID:1362-1501092000-1501106400@harrisonbounds.com
SUMMARY:Hair of the Dog ODU
DESCRIPTION:
URL:https://harrisonbounds.com/event/hair-dog-odu-2/
END:VEVENT
BEGIN:VEVENT
DTSTART;TZID=UTC:20170723T180000
DTEND;TZID=UTC:20170723T200000
DTSTAMP:20260422T123100
CREATED:20170607T134403Z
LAST-MODIFIED:20170607T134403Z
UID:1316-1500832800-1500840000@harrisonbounds.com
SUMMARY:Cp Shuckers Oceanfront
DESCRIPTION:
URL:https://harrisonbounds.com/event/cp-shuckers-oceanfront-4/
LOCATION:CP Shuckers Oceanfront\, 2407 Pacific Avenue\, Virginia Beach\, 23451
END:VEVENT
BEGIN:VEVENT
DTSTART;TZID=UTC:20170722T100000
DTEND;TZID=UTC:20170722T130000
DTSTAMP:20260422T123100
CREATED:20170303T085351Z
LAST-MODIFIED:20170303T085351Z
UID:1192-1500717600-1500728400@harrisonbounds.com
SUMMARY:Java Surf- Vibe
DESCRIPTION:
URL:https://harrisonbounds.com/event/java-surf-vibe-5/
LOCATION:Java Surf Vibe District\, 1807 Mediterranean Avenue\, Virginia Beach\, 23451
END:VEVENT
BEGIN:VEVENT
DTSTART;TZID=UTC:20170721T210000
DTEND;TZID=UTC:20170721T233000
DTSTAMP:20260422T123100
CREATED:20170427T043846Z
LAST-MODIFIED:20170427T043846Z
UID:1268-1500670800-1500679800@harrisonbounds.com
SUMMARY:Tubby's Tavern- Kempsville
DESCRIPTION:
URL:https://harrisonbounds.com/event/tubbys-tavern-kempsville-3/
END:VEVENT
BEGIN:VEVENT
DTSTART;TZID=UTC:20170719T173000
DTEND;TZID=UTC:20170719T200000
DTSTAMP:20260422T123100
CREATED:20170622T132020Z
LAST-MODIFIED:20170622T132020Z
UID:1345-1500485400-1500494400@harrisonbounds.com
SUMMARY:Scotty Quixx Blvd
DESCRIPTION:
URL:https://harrisonbounds.com/event/scotty-quixx-blvd-3/
END:VEVENT
BEGIN:VEVENT
DTSTART;TZID=UTC:20170716T160000
DTEND;TZID=UTC:20170716T190000
DTSTAMP:20260422T123100
CREATED:20170505T114107Z
LAST-MODIFIED:20170505T114107Z
UID:1281-1500220800-1500231600@harrisonbounds.com
SUMMARY:11th street Taphouse
DESCRIPTION:
URL:https://harrisonbounds.com/event/11th-street-taphouse-4/
LOCATION:11th street Taphouse\, 1011 Atlantic avenue\, Virginia Beach\, VA\, VA\, United States
END:VEVENT
BEGIN:VEVENT
DTSTART;TZID=UTC:20170715T203000
DTEND;TZID=UTC:20170715T230000
DTSTAMP:20260422T123100
CREATED:20170427T062800Z
LAST-MODIFIED:20170427T062800Z
UID:1274-1500150600-1500159600@harrisonbounds.com
SUMMARY:Local Cheer's
DESCRIPTION:
URL:https://harrisonbounds.com/event/local-cheers-2/
LOCATION:O’Connor Brewing Co.\, 211 w 24th st.\, Norfolk\, VA\, United States
END:VEVENT
BEGIN:VEVENT
DTSTART;TZID=UTC:20170714T190000
DTEND;TZID=UTC:20170714T230000
DTSTAMP:20260422T123100
CREATED:20170630T021456Z
LAST-MODIFIED:20170630T021555Z
UID:1359-1500058800-1500073200@harrisonbounds.com
SUMMARY:Il Giardino- Great Neck
DESCRIPTION:
URL:https://harrisonbounds.com/event/il-giardino-great-neck/
END:VEVENT
BEGIN:VEVENT
DTSTART;TZID=UTC:20170712T203000
DTEND;TZID=UTC:20170712T233000
DTSTAMP:20260422T123100
CREATED:20170131T150638Z
LAST-MODIFIED:20170131T150638Z
UID:1108-1499891400-1499902200@harrisonbounds.com
SUMMARY:Scotty Quixx
DESCRIPTION:
URL:https://harrisonbounds.com/event/scotty-quixx-6/
END:VEVENT
BEGIN:VEVENT
DTSTART;TZID=UTC:20170711T190000
DTEND;TZID=UTC:20170711T220000
DTSTAMP:20260422T123100
CREATED:20170224T090005Z
LAST-MODIFIED:20170224T090005Z
UID:1151-1499799600-1499810400@harrisonbounds.com
SUMMARY:Tubbys Tavern
DESCRIPTION:
URL:https://harrisonbounds.com/event/tubbys-tavern-35/
END:VEVENT
BEGIN:VEVENT
DTSTART;TZID=UTC:20170709T160000
DTEND;TZID=UTC:20170709T190000
DTSTAMP:20260422T123100
CREATED:20170322T090436Z
LAST-MODIFIED:20170322T090436Z
UID:1239-1499616000-1499626800@harrisonbounds.com
SUMMARY:11th St Taphouse
DESCRIPTION:
URL:https://harrisonbounds.com/event/11th-st-taphouse/
LOCATION:11th street Taphouse\, 1011 Atlantic avenue\, Virginia Beach\, VA\, VA\, United States
END:VEVENT
BEGIN:VEVENT
DTSTART;TZID=UTC:20170706T170000
DTEND;TZID=UTC:20170706T210000
DTSTAMP:20260422T123100
CREATED:20170612T022128Z
LAST-MODIFIED:20170612T022128Z
UID:1325-1499360400-1499374800@harrisonbounds.com
SUMMARY:Calypso
DESCRIPTION:
URL:https://harrisonbounds.com/event/calypso-2/
LOCATION:Calypso Bar and Grill\, 1101 Atlantic Avenue\, Virginia Beach\, 23451
END:VEVENT
BEGIN:VEVENT
DTSTART;TZID=UTC:20170705T173000
DTEND;TZID=UTC:20170705T200000
DTSTAMP:20260422T123100
CREATED:20170622T131909Z
LAST-MODIFIED:20170622T131909Z
UID:1341-1499275800-1499284800@harrisonbounds.com
SUMMARY:Scotty Quixx Blvd
DESCRIPTION:
URL:https://harrisonbounds.com/event/scotty-quixx-blvd/
END:VEVENT
BEGIN:VEVENT
DTSTART;TZID=UTC:20170701T203000
DTEND;TZID=UTC:20170701T233000
DTSTAMP:20260422T123100
CREATED:20170615T081002Z
LAST-MODIFIED:20170615T081002Z
UID:1327-1498941000-1498951800@harrisonbounds.com
SUMMARY:Scotty Quix Birdneck
DESCRIPTION:
URL:https://harrisonbounds.com/event/scotty-quix-birdneck/
LOCATION:Scotty Quixx East\, 525 Birdneck Rd N\, Virginia Beach\, VA\, United States
END:VEVENT
BEGIN:VEVENT
DTSTART;TZID=UTC:20170701T100000
DTEND;TZID=UTC:20170701T130000
DTSTAMP:20260422T123100
CREATED:20170303T085309Z
LAST-MODIFIED:20170303T085309Z
UID:1190-1498903200-1498914000@harrisonbounds.com
SUMMARY:Java Surf- Vibe
DESCRIPTION:
URL:https://harrisonbounds.com/event/java-surf-vibe-4/
LOCATION:Java Surf Vibe District\, 1807 Mediterranean Avenue\, Virginia Beach\, 23451
END:VEVENT
BEGIN:VEVENT
DTSTART;TZID=UTC:20170701T073000
DTEND;TZID=UTC:20170701T090000
DTSTAMP:20260422T123100
CREATED:20170303T085232Z
LAST-MODIFIED:20170303T085232Z
UID:1188-1498894200-1498899600@harrisonbounds.com
SUMMARY:Cars and Coffee
DESCRIPTION:
URL:https://harrisonbounds.com/event/cars-and-coffee-2/
LOCATION:Java Surf Promenade\, 1860 Laskin Road #122\, Virginia Beach\, 23454
END:VEVENT
BEGIN:VEVENT
DTSTART;TZID=UTC:20170630T210000
DTEND;TZID=UTC:20170630T233000
DTSTAMP:20260422T123100
CREATED:20170224T085920Z
LAST-MODIFIED:20170224T085920Z
UID:1149-1498856400-1498865400@harrisonbounds.com
SUMMARY:Tubbys Tavern
DESCRIPTION:
URL:https://harrisonbounds.com/event/tubbys-tavern-34/
END:VEVENT
BEGIN:VEVENT
DTSTART;TZID=UTC:20170628T203000
DTEND;TZID=UTC:20170628T233000
DTSTAMP:20260422T123100
CREATED:20170131T150609Z
LAST-MODIFIED:20170131T150609Z
UID:1106-1498681800-1498692600@harrisonbounds.com
SUMMARY:Scotty Quixx
DESCRIPTION:
URL:https://harrisonbounds.com/event/scotty-quixx-5/
END:VEVENT
BEGIN:VEVENT
DTSTART;TZID=UTC:20170625T160000
DTEND;TZID=UTC:20170625T190000
DTSTAMP:20260422T123100
CREATED:20170322T090351Z
LAST-MODIFIED:20170322T090351Z
UID:1237-1498406400-1498417200@harrisonbounds.com
SUMMARY:11th Street Taphouse
DESCRIPTION:
URL:https://harrisonbounds.com/event/11th-street-taphouse/
LOCATION:11th street Taphouse\, 1011 Atlantic avenue\, Virginia Beach\, VA\, VA\, United States
END:VEVENT
BEGIN:VEVENT
DTSTART;TZID=UTC:20170624T210000
DTEND;TZID=UTC:20170624T233000
DTSTAMP:20260422T123100
CREATED:20170427T043804Z
LAST-MODIFIED:20170427T043805Z
UID:1266-1498338000-1498347000@harrisonbounds.com
SUMMARY:Tubby's Tavern- Kempsville
DESCRIPTION:
URL:https://harrisonbounds.com/event/tubbys-tavern-kempsville-2/
END:VEVENT
BEGIN:VEVENT
DTSTART;TZID=UTC:20170624T183000
DTEND;TZID=UTC:20170624T203000
DTSTAMP:20260422T123100
CREATED:20170601T134019Z
LAST-MODIFIED:20170601T134019Z
UID:1302-1498329000-1498336200@harrisonbounds.com
SUMMARY:Broad Bay Country Club
DESCRIPTION:
URL:https://harrisonbounds.com/event/broad-bay-country-club-12/
LOCATION:Broad Bay Country Club\, 2120 Lords Landing\, Virginia Beach\, VA\, 23454\, United States
END:VEVENT
BEGIN:VEVENT
DTSTART;TZID=UTC:20170624T100000
DTEND;TZID=UTC:20170624T130000
DTSTAMP:20260422T123100
CREATED:20170303T084930Z
LAST-MODIFIED:20170303T084930Z
UID:1186-1498298400-1498309200@harrisonbounds.com
SUMMARY:Java Surf- Vibe
DESCRIPTION:
URL:https://harrisonbounds.com/event/java-surf-vibe-3/
END:VEVENT
BEGIN:VEVENT
DTSTART;TZID=UTC:20170623T190000
DTEND;TZID=UTC:20170623T220000
DTSTAMP:20260422T123100
CREATED:20170601T133639Z
LAST-MODIFIED:20170601T133639Z
UID:1300-1498244400-1498255200@harrisonbounds.com
SUMMARY:Private Party
DESCRIPTION:
URL:https://harrisonbounds.com/event/private-party-5/
END:VEVENT
BEGIN:VEVENT
DTSTART;TZID=UTC:20170621T180000
DTEND;TZID=UTC:20170621T210000
DTSTAMP:20260422T123100
CREATED:20170523T165402Z
LAST-MODIFIED:20170523T165402Z
UID:1297-1498068000-1498078800@harrisonbounds.com
SUMMARY:Scotty Quixx- Blvd (weather dependent)
DESCRIPTION:
URL:https://harrisonbounds.com/event/scotty-quixx-blvd-weather-dependent-2/
END:VEVENT
BEGIN:VEVENT
DTSTART;TZID=UTC:20170616T210000
DTEND;TZID=UTC:20170616T233000
DTSTAMP:20260422T123100
CREATED:20170505T114020Z
LAST-MODIFIED:20170505T114020Z
UID:1279-1497646800-1497655800@harrisonbounds.com
SUMMARY:11th Street Taphouse
DESCRIPTION:
URL:https://harrisonbounds.com/event/11th-street-taphouse-3/
LOCATION:11th street Taphouse\, 1011 Atlantic avenue\, Virginia Beach\, VA\, VA\, United States
END:VEVENT
BEGIN:VEVENT
DTSTART;TZID=UTC:20170615T190000
DTEND;TZID=UTC:20170615T220000
DTSTAMP:20260422T123100
CREATED:20170608T124742Z
LAST-MODIFIED:20170608T124742Z
UID:1322-1497553200-1497564000@harrisonbounds.com
SUMMARY:American Brew
DESCRIPTION:
URL:https://harrisonbounds.com/event/american-brew-14/
LOCATION:American Brew\, 3700 Shore Drive\, Virginia Beach\, 23455
END:VEVENT
BEGIN:VEVENT
DTSTART;TZID=UTC:20170613T190000
DTEND;TZID=UTC:20170613T220000
DTSTAMP:20260422T123100
CREATED:20170224T085815Z
LAST-MODIFIED:20170224T085815Z
UID:1147-1497380400-1497391200@harrisonbounds.com
SUMMARY:Tubbys Tavern
DESCRIPTION:
URL:https://harrisonbounds.com/event/tubbys-tavern-33/
END:VEVENT
END:VCALENDAR