BEGIN:VCALENDAR
VERSION:2.0
PRODID:-//Harrison Bounds - ECPv6.15.12.2//NONSGML v1.0//EN
CALSCALE:GREGORIAN
METHOD:PUBLISH
X-WR-CALNAME:Harrison Bounds
X-ORIGINAL-URL:https://harrisonbounds.com
X-WR-CALDESC:Events for Harrison Bounds
REFRESH-INTERVAL;VALUE=DURATION:PT1H
X-Robots-Tag:noindex
X-PUBLISHED-TTL:PT1H
BEGIN:VTIMEZONE
TZID:UTC
BEGIN:STANDARD
TZOFFSETFROM:+0000
TZOFFSETTO:+0000
TZNAME:UTC
DTSTART:20160101T000000
END:STANDARD
END:VTIMEZONE
BEGIN:VEVENT
DTSTART;TZID=UTC:20171021T153000
DTEND;TZID=UTC:20171021T173000
DTSTAMP:20260422T004246
CREATED:20170920T005335Z
LAST-MODIFIED:20170920T005335Z
UID:1437-1508599800-1508607000@harrisonbounds.com
SUMMARY:Craft Beer Festival with The LifeHacks
DESCRIPTION:
URL:https://harrisonbounds.com/event/craft-beer-festival-lifehacks/
LOCATION:WV
END:VEVENT
BEGIN:VEVENT
DTSTART;TZID=UTC:20171021T100000
DTEND;TZID=UTC:20171021T130000
DTSTAMP:20260422T004246
CREATED:20170303T093725Z
LAST-MODIFIED:20170303T093725Z
UID:1210-1508580000-1508590800@harrisonbounds.com
SUMMARY:Java Surf- Vibe
DESCRIPTION:
URL:https://harrisonbounds.com/event/java-surf-vibe-10/
LOCATION:Java Surf Vibe District\, 1807 Mediterranean Avenue\, Virginia Beach\, 23451
END:VEVENT
BEGIN:VEVENT
DTSTART;TZID=UTC:20171020T210000
DTEND;TZID=UTC:20171020T233000
DTSTAMP:20260422T004246
CREATED:20170805T092940Z
LAST-MODIFIED:20170805T092940Z
UID:1391-1508533200-1508542200@harrisonbounds.com
SUMMARY:11th St Taphouse
DESCRIPTION:
URL:https://harrisonbounds.com/event/11th-st-taphouse-3/
LOCATION:WV
END:VEVENT
BEGIN:VEVENT
DTSTART;TZID=UTC:20171014T170000
DTEND;TZID=UTC:20171014T200000
DTSTAMP:20260422T004246
CREATED:20170622T064947Z
LAST-MODIFIED:20170622T064947Z
UID:1335-1508000400-1508011200@harrisonbounds.com
SUMMARY:Bull Island Brewing Company
DESCRIPTION:
URL:https://harrisonbounds.com/event/bull-island-brewing-company-2/
LOCATION:WV
END:VEVENT
BEGIN:VEVENT
DTSTART;TZID=UTC:20171013T210000
DTEND;TZID=UTC:20171013T233000
DTSTAMP:20260422T004246
CREATED:20170912T083821Z
LAST-MODIFIED:20170912T083821Z
UID:1425-1507928400-1507937400@harrisonbounds.com
SUMMARY:Tubbys Tavern- GN
DESCRIPTION:
URL:https://harrisonbounds.com/event/tubbys-tavern-gn/
LOCATION:WV
END:VEVENT
BEGIN:VEVENT
DTSTART;TZID=UTC:20171007T180000
DTEND;TZID=UTC:20171007T220000
DTSTAMP:20260422T004246
CREATED:20161014T031616Z
LAST-MODIFIED:20161014T031616Z
UID:995-1507399200-1507413600@harrisonbounds.com
SUMMARY:Private Event
DESCRIPTION:
URL:https://harrisonbounds.com/event/private-event-3/
LOCATION:WV
END:VEVENT
BEGIN:VEVENT
DTSTART;TZID=UTC:20171007T133000
DTEND;TZID=UTC:20171007T143000
DTSTAMP:20260422T004246
CREATED:20170802T093058Z
LAST-MODIFIED:20170802T093150Z
UID:1382-1507383000-1507386600@harrisonbounds.com
SUMMARY:Chelsea Wine Festival w/ The LifeHacks
DESCRIPTION:
URL:https://harrisonbounds.com/event/chelsea-wine-festival-w-lifehacks/
LOCATION:WV
END:VEVENT
BEGIN:VEVENT
DTSTART;TZID=UTC:20171006T170000
DTEND;TZID=UTC:20171006T200000
DTSTAMP:20260422T004246
CREATED:20170314T081611Z
LAST-MODIFIED:20170314T081611Z
UID:1215-1507309200-1507320000@harrisonbounds.com
SUMMARY:Kane Rehearsal Dinner
DESCRIPTION:
URL:https://harrisonbounds.com/event/kane-rehearsal-dinner/
LOCATION:WV
END:VEVENT
BEGIN:VEVENT
DTSTART;TZID=UTC:20171004T203000
DTEND;TZID=UTC:20171004T233000
DTSTAMP:20260422T004246
CREATED:20170803T041518Z
LAST-MODIFIED:20170803T041518Z
UID:1388-1507149000-1507159800@harrisonbounds.com
SUMMARY:Scotty Quixx East
DESCRIPTION:
URL:https://harrisonbounds.com/event/scotty-quixx-east-9/
LOCATION:WV
END:VEVENT
BEGIN:VEVENT
DTSTART;TZID=UTC:20170930T130000
DTEND;TZID=UTC:20170930T150000
DTSTAMP:20260422T004246
CREATED:20170821T112228Z
LAST-MODIFIED:20170821T112228Z
UID:1404-1506776400-1506783600@harrisonbounds.com
SUMMARY:Neptune Fest with The LifeHacks
DESCRIPTION:
URL:https://harrisonbounds.com/event/neptune-fest-lifehacks/
LOCATION:WV
END:VEVENT
BEGIN:VEVENT
DTSTART;TZID=UTC:20170929T210000
DTEND;TZID=UTC:20170929T233000
DTSTAMP:20260422T004246
CREATED:20170224T090258Z
LAST-MODIFIED:20170224T090258Z
UID:1161-1506718800-1506727800@harrisonbounds.com
SUMMARY:Tubbys Tavern
DESCRIPTION:
URL:https://harrisonbounds.com/event/tubbys-tavern-40/
LOCATION:WV
END:VEVENT
BEGIN:VEVENT
DTSTART;TZID=UTC:20170929T183000
DTEND;TZID=UTC:20170929T203000
DTSTAMP:20260422T004246
CREATED:20170913T100053Z
LAST-MODIFIED:20170913T100053Z
UID:1433-1506709800-1506717000@harrisonbounds.com
SUMMARY:Dockside
DESCRIPTION:
URL:https://harrisonbounds.com/event/dockside-3/
LOCATION:WV
END:VEVENT
BEGIN:VEVENT
DTSTART;TZID=UTC:20170927T180000
DTEND;TZID=UTC:20170927T203000
DTSTAMP:20260422T004246
CREATED:20170802T091828Z
LAST-MODIFIED:20170802T091828Z
UID:1372-1506535200-1506544200@harrisonbounds.com
SUMMARY:Scotty Quixx West
DESCRIPTION:
URL:https://harrisonbounds.com/event/scotty-quixx-west-2/
LOCATION:WV
END:VEVENT
BEGIN:VEVENT
DTSTART;TZID=UTC:20170923T220000
DTEND;TZID=UTC:20170923T233000
DTSTAMP:20260422T004246
CREATED:20170920T005140Z
LAST-MODIFIED:20170920T005140Z
UID:1435-1506204000-1506209400@harrisonbounds.com
SUMMARY:OBX Brewing Station with The LifeHacks
DESCRIPTION:
URL:https://harrisonbounds.com/event/obx-brewing-station-lifehacks/
LOCATION:WV
END:VEVENT
BEGIN:VEVENT
DTSTART;TZID=UTC:20170922T213000
DTEND;TZID=UTC:20170922T233000
DTSTAMP:20260422T004246
CREATED:20170912T121415Z
LAST-MODIFIED:20170912T121415Z
UID:1431-1506115800-1506123000@harrisonbounds.com
SUMMARY:Hoss's Deli with The LifeHacks
DESCRIPTION:
URL:https://harrisonbounds.com/event/hosss-deli-lifehacks/
LOCATION:WV
END:VEVENT
BEGIN:VEVENT
DTSTART;TZID=UTC:20170917T160000
DTEND;TZID=UTC:20170917T190000
DTSTAMP:20260422T004246
CREATED:20170505T114212Z
LAST-MODIFIED:20170505T114212Z
UID:1285-1505664000-1505674800@harrisonbounds.com
SUMMARY:11th Street Taphouse
DESCRIPTION:
URL:https://harrisonbounds.com/event/11th-street-taphouse-6/
LOCATION:11th street Taphouse\, 1011 Atlantic avenue\, Virginia Beach\, VA\, VA\, United States
END:VEVENT
BEGIN:VEVENT
DTSTART;TZID=UTC:20170916T210000
DTEND;TZID=UTC:20170916T233000
DTSTAMP:20260422T004246
CREATED:20170904T103031Z
LAST-MODIFIED:20170904T103031Z
UID:1412-1505595600-1505604600@harrisonbounds.com
SUMMARY:Lubo Wine Room
DESCRIPTION:
URL:https://harrisonbounds.com/event/lubo-wine-room/
LOCATION:WV
END:VEVENT
BEGIN:VEVENT
DTSTART;TZID=UTC:20170915T180000
DTEND;TZID=UTC:20170915T210000
DTSTAMP:20260422T004246
CREATED:20170622T071106Z
LAST-MODIFIED:20170622T071106Z
UID:1339-1505498400-1505509200@harrisonbounds.com
SUMMARY:Bull Island Brewing w The LifeHacks
DESCRIPTION:
URL:https://harrisonbounds.com/event/bull-island-brewing-w-lifehacks/
LOCATION:WV
END:VEVENT
BEGIN:VEVENT
DTSTART;TZID=UTC:20170913T180000
DTEND;TZID=UTC:20170913T203000
DTSTAMP:20260422T004246
CREATED:20170802T091756Z
LAST-MODIFIED:20170802T091756Z
UID:1370-1505325600-1505334600@harrisonbounds.com
SUMMARY:Scotty Quixx West
DESCRIPTION:
URL:https://harrisonbounds.com/event/scotty-quixx-west/
LOCATION:WV
END:VEVENT
BEGIN:VEVENT
DTSTART;TZID=UTC:20170906T203000
DTEND;TZID=UTC:20170906T233000
DTSTAMP:20260422T004246
CREATED:20170802T145142Z
LAST-MODIFIED:20170802T145142Z
UID:1384-1504729800-1504740600@harrisonbounds.com
SUMMARY:Scotty Quixx East
DESCRIPTION:
URL:https://harrisonbounds.com/event/scotty-quixx-east-7/
LOCATION:WV
END:VEVENT
BEGIN:VEVENT
DTSTART;TZID=UTC:20170902T190000
DTEND;TZID=UTC:20170902T220000
DTSTAMP:20260422T004246
CREATED:20170821T111147Z
LAST-MODIFIED:20170821T111439Z
UID:1402-1504378800-1504389600@harrisonbounds.com
SUMMARY:Private Party
DESCRIPTION:
URL:https://harrisonbounds.com/event/private-party-6/
LOCATION:WV
END:VEVENT
BEGIN:VEVENT
DTSTART;TZID=UTC:20170902T100000
DTEND;TZID=UTC:20170902T130000
DTSTAMP:20260422T004246
CREATED:20170303T092455Z
LAST-MODIFIED:20170303T092455Z
UID:1204-1504346400-1504357200@harrisonbounds.com
SUMMARY:Java Surf- Vibe
DESCRIPTION:
URL:https://harrisonbounds.com/event/java-surf-vibe-8/
LOCATION:Java Surf Vibe District\, 1807 Mediterranean Avenue\, Virginia Beach\, 23451
END:VEVENT
BEGIN:VEVENT
DTSTART;TZID=UTC:20170902T073000
DTEND;TZID=UTC:20170902T090000
DTSTAMP:20260422T004246
CREATED:20170303T092420Z
LAST-MODIFIED:20170303T092420Z
UID:1202-1504337400-1504342800@harrisonbounds.com
SUMMARY:Cars and Coffee
DESCRIPTION:
URL:https://harrisonbounds.com/event/cars-and-coffee-4/
LOCATION:Java Surf Promenade\, 1860 Laskin Road #122\, Virginia Beach\, 23454
END:VEVENT
BEGIN:VEVENT
DTSTART;TZID=UTC:20170901T170000
DTEND;TZID=UTC:20170901T200000
DTSTAMP:20260422T004246
CREATED:20170622T064913Z
LAST-MODIFIED:20170622T064913Z
UID:1333-1504285200-1504296000@harrisonbounds.com
SUMMARY:Bull Island Brewing Company
DESCRIPTION:
URL:https://harrisonbounds.com/event/bull-island-brewing-company/
LOCATION:WV
END:VEVENT
BEGIN:VEVENT
DTSTART;TZID=UTC:20170830T203000
DTEND;TZID=UTC:20170830T233000
DTSTAMP:20260422T004246
CREATED:20170131T150753Z
LAST-MODIFIED:20170131T150753Z
UID:1112-1504125000-1504135800@harrisonbounds.com
SUMMARY:Scotty Quixx
DESCRIPTION:
URL:https://harrisonbounds.com/event/scotty-quixx-8/
LOCATION:WV
END:VEVENT
BEGIN:VEVENT
DTSTART;TZID=UTC:20170827T150000
DTEND;TZID=UTC:20170827T170000
DTSTAMP:20260422T004246
CREATED:20170607T134604Z
LAST-MODIFIED:20170607T134604Z
UID:1320-1503846000-1503853200@harrisonbounds.com
SUMMARY:CP Shuckers Oceanfront
DESCRIPTION:
URL:https://harrisonbounds.com/event/cp-shuckers-oceanfront-5/
LOCATION:CP Shuckers Oceanfront\, 2407 Pacific Avenue\, Virginia Beach\, 23451
END:VEVENT
BEGIN:VEVENT
DTSTART;TZID=UTC:20170826T210000
DTEND;TZID=UTC:20170826T233000
DTSTAMP:20260422T004246
CREATED:20170427T043928Z
LAST-MODIFIED:20170427T043928Z
UID:1270-1503781200-1503790200@harrisonbounds.com
SUMMARY:Tubby's Tavern- Kempsville
DESCRIPTION:
URL:https://harrisonbounds.com/event/tubbys-tavern-kempsville-4/
LOCATION:WV
END:VEVENT
BEGIN:VEVENT
DTSTART;TZID=UTC:20170826T130000
DTEND;TZID=UTC:20170826T150000
DTSTAMP:20260422T004246
CREATED:20170622T064825Z
LAST-MODIFIED:20170622T064825Z
UID:1331-1503752400-1503759600@harrisonbounds.com
SUMMARY:Neptune Festival
DESCRIPTION:
URL:https://harrisonbounds.com/event/neptune-festival/
LOCATION:WV
END:VEVENT
BEGIN:VEVENT
DTSTART;TZID=UTC:20170825T210000
DTEND;TZID=UTC:20170825T233000
DTSTAMP:20260422T004246
CREATED:20170224T090153Z
LAST-MODIFIED:20170224T090153Z
UID:1157-1503694800-1503703800@harrisonbounds.com
SUMMARY:Tubbys Tavern
DESCRIPTION:
URL:https://harrisonbounds.com/event/tubbys-tavern-38/
LOCATION:WV
END:VEVENT
BEGIN:VEVENT
DTSTART;TZID=UTC:20170816T173000
DTEND;TZID=UTC:20170816T200000
DTSTAMP:20260422T004246
CREATED:20170622T132210Z
LAST-MODIFIED:20170622T132210Z
UID:1353-1502904600-1502913600@harrisonbounds.com
SUMMARY:Scotty Quixx Blvd
DESCRIPTION:
URL:https://harrisonbounds.com/event/scotty-quixx-blvd-7/
LOCATION:WV
END:VEVENT
END:VCALENDAR