BEGIN:VCALENDAR
VERSION:2.0
PRODID:-//Harrison Bounds - ECPv6.15.12.2//NONSGML v1.0//EN
CALSCALE:GREGORIAN
METHOD:PUBLISH
X-WR-CALNAME:Harrison Bounds
X-ORIGINAL-URL:https://harrisonbounds.com
X-WR-CALDESC:Events for Harrison Bounds
REFRESH-INTERVAL;VALUE=DURATION:PT1H
X-Robots-Tag:noindex
X-PUBLISHED-TTL:PT1H
BEGIN:VTIMEZONE
TZID:Pacific/Norfolk
BEGIN:DAYLIGHT
TZOFFSETFROM:+1100
TZOFFSETTO:+1200
TZNAME:+12
DTSTART:20191005T150000
END:DAYLIGHT
END:VTIMEZONE
BEGIN:VTIMEZONE
TZID:UTC
BEGIN:STANDARD
TZOFFSETFROM:+0000
TZOFFSETTO:+0000
TZNAME:UTC
DTSTART:20160101T000000
END:STANDARD
END:VTIMEZONE
BEGIN:VEVENT
DTSTART;TZID=Pacific/Norfolk:20180203T190000
DTEND;TZID=Pacific/Norfolk:20180203T220000
DTSTAMP:20260422T132424
CREATED:20171012T210315Z
LAST-MODIFIED:20171012T210315Z
UID:1576-1517684400-1517695200@harrisonbounds.com
SUMMARY:Wasserhund
DESCRIPTION:
URL:https://harrisonbounds.com/event/wasserhund-4/
LOCATION:Wasserhund Brewing Company\, 1805 Laskin road Suite #102\, Virginia Beach\, VA\, 23454\, United States
END:VEVENT
BEGIN:VEVENT
DTSTART;TZID=Pacific/Norfolk:20180202T213000
DTEND;TZID=Pacific/Norfolk:20180202T233000
DTSTAMP:20260422T132424
CREATED:20171107T202849Z
LAST-MODIFIED:20171107T202849Z
UID:1618-1517607000-1517614200@harrisonbounds.com
SUMMARY:Tubbys Tavern GN with The LifeHacks
DESCRIPTION:
URL:https://harrisonbounds.com/event/tubbys-tavern-gn-lifehacks-4/
END:VEVENT
BEGIN:VEVENT
DTSTART;TZID=Pacific/Norfolk:20180201T180000
DTEND;TZID=Pacific/Norfolk:20180201T200000
DTSTAMP:20260422T132424
CREATED:20180109T214151Z
LAST-MODIFIED:20180109T214151Z
UID:1647-1517508000-1517515200@harrisonbounds.com
SUMMARY:WHRO's Out of the Box Series at Sandler Center with The LifeHacks
DESCRIPTION:
URL:https://harrisonbounds.com/event/whros-box-series-sandler-center-lifehacks/
END:VEVENT
BEGIN:VEVENT
DTSTART;TZID=Pacific/Norfolk:20180120T213000
DTEND;TZID=Pacific/Norfolk:20180120T233000
DTSTAMP:20260422T132424
CREATED:20171107T203145Z
LAST-MODIFIED:20171107T203145Z
UID:1627-1516483800-1516491000@harrisonbounds.com
SUMMARY:Tubbys Tavern GN Solo Acoustic
DESCRIPTION:
URL:https://harrisonbounds.com/event/tubbys-tavern-gn-solo-acoustic/
END:VEVENT
BEGIN:VEVENT
DTSTART;TZID=Pacific/Norfolk:20180118T200000
DTEND;TZID=Pacific/Norfolk:20180118T220000
DTSTAMP:20260422T132424
CREATED:20180109T214227Z
LAST-MODIFIED:20180109T214255Z
UID:1649-1516305600-1516312800@harrisonbounds.com
SUMMARY:The LifeHacks at Shaka's Live
DESCRIPTION:
URL:https://harrisonbounds.com/event/lifehacks-shakas-live/
END:VEVENT
BEGIN:VEVENT
DTSTART;TZID=Pacific/Norfolk:20180106T213000
DTEND;TZID=Pacific/Norfolk:20180106T233000
DTSTAMP:20260422T132424
CREATED:20171107T202745Z
LAST-MODIFIED:20171107T202745Z
UID:1616-1515274200-1515281400@harrisonbounds.com
SUMMARY:Tubby's Tavern GN with The LifeHacks
DESCRIPTION:
URL:https://harrisonbounds.com/event/tubbys-tavern-gn-lifehacks-3/
END:VEVENT
BEGIN:VEVENT
DTSTART;TZID=Pacific/Norfolk:20180103T203000
DTEND;TZID=Pacific/Norfolk:20180103T233000
DTSTAMP:20260422T132424
CREATED:20171017T005356Z
LAST-MODIFIED:20171017T005356Z
UID:1581-1515011400-1515022200@harrisonbounds.com
SUMMARY:Scotty Quixx- East
DESCRIPTION:
URL:https://harrisonbounds.com/event/scotty-quixx-east-8/
END:VEVENT
BEGIN:VEVENT
DTSTART;TZID=UTC:20171227T203000
DTEND;TZID=UTC:20171227T233000
DTSTAMP:20260422T132424
CREATED:20170802T092100Z
LAST-MODIFIED:20170802T092100Z
UID:1380-1514406600-1514417400@harrisonbounds.com
SUMMARY:Scotty Quixx East
DESCRIPTION:
URL:https://harrisonbounds.com/event/scotty-quixx-east-6/
END:VEVENT
BEGIN:VEVENT
DTSTART;TZID=Pacific/Norfolk:20171223T213000
DTEND;TZID=Pacific/Norfolk:20171223T233000
DTSTAMP:20260422T132424
CREATED:20171024T174305Z
LAST-MODIFIED:20171024T174305Z
UID:1610-1514064600-1514071800@harrisonbounds.com
SUMMARY:The LifeHacks at South Beach Grill
DESCRIPTION:
URL:https://harrisonbounds.com/event/lifehacks-south-beach-grill/
END:VEVENT
BEGIN:VEVENT
DTSTART;TZID=UTC:20171223T100000
DTEND;TZID=UTC:20171223T130000
DTSTAMP:20260422T132424
CREATED:20170314T082453Z
LAST-MODIFIED:20170314T082453Z
UID:1223-1514023200-1514034000@harrisonbounds.com
SUMMARY:Java Surf
DESCRIPTION:
URL:https://harrisonbounds.com/event/java-surf-19/
END:VEVENT
BEGIN:VEVENT
DTSTART;TZID=UTC:20171222T210000
DTEND;TZID=UTC:20171222T233000
DTSTAMP:20260422T132424
CREATED:20170921T055437Z
LAST-MODIFIED:20170921T055437Z
UID:1443-1513976400-1513985400@harrisonbounds.com
SUMMARY:11th St Taphouse
DESCRIPTION:
URL:https://harrisonbounds.com/event/11th-st-taphouse-2/
END:VEVENT
BEGIN:VEVENT
DTSTART;TZID=Pacific/Norfolk:20171215T210000
DTEND;TZID=Pacific/Norfolk:20171215T233000
DTSTAMP:20260422T132424
CREATED:20171204T145113Z
LAST-MODIFIED:20171204T145113Z
UID:1642-1513371600-1513380600@harrisonbounds.com
SUMMARY:Tubby's Tavern GN solo
DESCRIPTION:
URL:https://harrisonbounds.com/event/tubbys-tavern-gn-solo/
END:VEVENT
BEGIN:VEVENT
DTSTART;TZID=Pacific/Norfolk:20171209T210000
DTEND;TZID=Pacific/Norfolk:20171209T230000
DTSTAMP:20260422T132424
CREATED:20171020T202424Z
LAST-MODIFIED:20171020T202424Z
UID:1606-1512853200-1512860400@harrisonbounds.com
SUMMARY:Lubo Wine Room
DESCRIPTION:
URL:https://harrisonbounds.com/event/lubo-wine-room-3/
END:VEVENT
BEGIN:VEVENT
DTSTART;TZID=UTC:20171208T210000
DTEND;TZID=UTC:20171208T233000
DTSTAMP:20260422T132424
CREATED:20170912T084011Z
LAST-MODIFIED:20170912T084011Z
UID:1429-1512766800-1512775800@harrisonbounds.com
SUMMARY:Tubbys Tavern GN with The LifeHacks
DESCRIPTION:
URL:https://harrisonbounds.com/event/tubbys-tavern-gn-lifehacks-2/
END:VEVENT
BEGIN:VEVENT
DTSTART;TZID=UTC:20171206T203000
DTEND;TZID=UTC:20171206T233000
DTSTAMP:20260422T132424
CREATED:20170802T092029Z
LAST-MODIFIED:20170802T092029Z
UID:1378-1512592200-1512603000@harrisonbounds.com
SUMMARY:Scotty Quixx East
DESCRIPTION:
URL:https://harrisonbounds.com/event/scotty-quixx-east-5/
END:VEVENT
BEGIN:VEVENT
DTSTART;TZID=UTC:20171202T200000
DTEND;TZID=UTC:20171202T230000
DTSTAMP:20260422T132424
CREATED:20170831T132420Z
LAST-MODIFIED:20170831T132420Z
UID:1410-1512244800-1512255600@harrisonbounds.com
SUMMARY:FM Restaurant with The LifeHacks
DESCRIPTION:
URL:https://harrisonbounds.com/event/fm-restaurant-lifehacks/
END:VEVENT
BEGIN:VEVENT
DTSTART;TZID=Pacific/Norfolk:20171201T183000
DTEND;TZID=Pacific/Norfolk:20171201T213000
DTSTAMP:20260422T132424
CREATED:20171115T210907Z
LAST-MODIFIED:20171115T210907Z
UID:1635-1512153000-1512163800@harrisonbounds.com
SUMMARY:Back Bay Brewing
DESCRIPTION:
URL:https://harrisonbounds.com/event/back-bay-brewing/
END:VEVENT
BEGIN:VEVENT
DTSTART;TZID=UTC:20171129T180000
DTEND;TZID=UTC:20171129T203000
DTSTAMP:20260422T132424
CREATED:20170802T091956Z
LAST-MODIFIED:20170802T091956Z
UID:1376-1511978400-1511987400@harrisonbounds.com
SUMMARY:Scotty Quixx East
DESCRIPTION:
URL:https://harrisonbounds.com/event/scotty-quixx-east-4/
END:VEVENT
BEGIN:VEVENT
DTSTART;TZID=UTC:20171125T100000
DTEND;TZID=UTC:20171125T130000
DTSTAMP:20260422T132424
CREATED:20170314T082312Z
LAST-MODIFIED:20170314T082312Z
UID:1219-1511604000-1511614800@harrisonbounds.com
SUMMARY:Java Surf
DESCRIPTION:
URL:https://harrisonbounds.com/event/java-surf-17/
END:VEVENT
BEGIN:VEVENT
DTSTART;TZID=UTC:20171124T210000
DTEND;TZID=UTC:20171124T233000
DTSTAMP:20260422T132424
CREATED:20170805T093019Z
LAST-MODIFIED:20170805T093019Z
UID:1393-1511557200-1511566200@harrisonbounds.com
SUMMARY:11th St Taphouse
DESCRIPTION:
URL:https://harrisonbounds.com/event/11th-st-taphouse-4/
END:VEVENT
BEGIN:VEVENT
DTSTART;TZID=Pacific/Norfolk:20171115T190000
DTEND;TZID=Pacific/Norfolk:20171115T220000
DTSTAMP:20260422T132424
CREATED:20171020T212513Z
LAST-MODIFIED:20171020T212513Z
UID:1608-1510772400-1510783200@harrisonbounds.com
SUMMARY:Chicho's 29th Street
DESCRIPTION:
URL:https://harrisonbounds.com/event/chichos-29th-street-2/
END:VEVENT
BEGIN:VEVENT
DTSTART;TZID=UTC:20171111T100000
DTEND;TZID=UTC:20171111T130000
DTSTAMP:20260422T132424
CREATED:20170314T082237Z
LAST-MODIFIED:20170314T082237Z
UID:1217-1510394400-1510405200@harrisonbounds.com
SUMMARY:Java Surf
DESCRIPTION:
URL:https://harrisonbounds.com/event/java-surf-16/
END:VEVENT
BEGIN:VEVENT
DTSTART;TZID=UTC:20171110T203000
DTEND;TZID=UTC:20171110T233000
DTSTAMP:20260422T132424
CREATED:20170802T091919Z
LAST-MODIFIED:20171103T134910Z
UID:1374-1510345800-1510356600@harrisonbounds.com
SUMMARY:Scotty Quixx East
DESCRIPTION:
URL:https://harrisonbounds.com/event/scotty-quixx-east-3/
END:VEVENT
BEGIN:VEVENT
DTSTART;TZID=Pacific/Norfolk:20171104T200000
DTEND;TZID=Pacific/Norfolk:20171104T230000
DTSTAMP:20260422T132424
CREATED:20171103T134847Z
LAST-MODIFIED:20171103T134847Z
UID:1614-1509825600-1509836400@harrisonbounds.com
SUMMARY:Aloft Hotel
DESCRIPTION:
URL:https://harrisonbounds.com/event/aloft-hotel/
END:VEVENT
BEGIN:VEVENT
DTSTART;TZID=UTC:20171103T210000
DTEND;TZID=UTC:20171103T233000
DTSTAMP:20260422T132424
CREATED:20170912T083926Z
LAST-MODIFIED:20170912T083926Z
UID:1427-1509742800-1509751800@harrisonbounds.com
SUMMARY:Tubbys Tavern GN with The LifeHacks
DESCRIPTION:
URL:https://harrisonbounds.com/event/tubbys-tavern-gn-lifehacks/
END:VEVENT
BEGIN:VEVENT
DTSTART;TZID=Pacific/Norfolk:20171029T163000
DTEND;TZID=Pacific/Norfolk:20171029T183000
DTSTAMP:20260422T132424
CREATED:20171017T004330Z
LAST-MODIFIED:20171017T004330Z
UID:1579-1509294600-1509301800@harrisonbounds.com
SUMMARY:Starr Hill- Roanoke
DESCRIPTION:
URL:https://harrisonbounds.com/event/starr-hill-roanoke/
END:VEVENT
BEGIN:VEVENT
DTSTART;TZID=UTC:20171028T200000
DTEND;TZID=UTC:20171028T233000
DTSTAMP:20260422T132424
CREATED:20170815T064722Z
LAST-MODIFIED:20170815T064722Z
UID:1398-1509220800-1509233400@harrisonbounds.com
SUMMARY:The Fiddlehead
DESCRIPTION:
URL:https://harrisonbounds.com/event/the-fiddlehead-3/
LOCATION:The Fiddlehead\, Snowshoe\, WV\, United States
END:VEVENT
BEGIN:VEVENT
DTSTART;TZID=UTC:20171027T210000
DTEND;TZID=UTC:20171027T233000
DTSTAMP:20260422T132424
CREATED:20170805T093623Z
LAST-MODIFIED:20170805T093623Z
UID:1395-1509138000-1509147000@harrisonbounds.com
SUMMARY:The Asylum Lewisburg
DESCRIPTION:
URL:https://harrisonbounds.com/event/the-asylum-lewisburg-2/
END:VEVENT
BEGIN:VEVENT
DTSTART;TZID=Pacific/Norfolk:20171026T190000
DTEND;TZID=Pacific/Norfolk:20171026T220000
DTSTAMP:20260422T132424
CREATED:20171009T011056Z
LAST-MODIFIED:20171009T011056Z
UID:1561-1509044400-1509055200@harrisonbounds.com
SUMMARY:The Fishin' Pig- Waynesboro
DESCRIPTION:
URL:https://harrisonbounds.com/event/fishin-pig-waynesboro/
END:VEVENT
BEGIN:VEVENT
DTSTART;TZID=UTC:20171021T213000
DTEND;TZID=UTC:20171021T233000
DTSTAMP:20260422T132424
CREATED:20170920T005406Z
LAST-MODIFIED:20170920T005406Z
UID:1439-1508621400-1508628600@harrisonbounds.com
SUMMARY:Lubo Wine Room
DESCRIPTION:
URL:https://harrisonbounds.com/event/lubo-wine-room-2/
END:VEVENT
END:VCALENDAR