BEGIN:VCALENDAR
VERSION:2.0
PRODID:-//Harrison Bounds - ECPv6.15.12.2//NONSGML v1.0//EN
CALSCALE:GREGORIAN
METHOD:PUBLISH
X-WR-CALNAME:Harrison Bounds
X-ORIGINAL-URL:https://harrisonbounds.com
X-WR-CALDESC:Events for Harrison Bounds
REFRESH-INTERVAL;VALUE=DURATION:PT1H
X-Robots-Tag:noindex
X-PUBLISHED-TTL:PT1H
BEGIN:VTIMEZONE
TZID:Pacific/Norfolk
BEGIN:DAYLIGHT
TZOFFSETFROM:+1100
TZOFFSETTO:+1200
TZNAME:+12
DTSTART:20191005T150000
END:DAYLIGHT
END:VTIMEZONE
BEGIN:VTIMEZONE
TZID:UTC
BEGIN:STANDARD
TZOFFSETFROM:+0000
TZOFFSETTO:+0000
TZNAME:UTC
DTSTART:20160101T000000
END:STANDARD
END:VTIMEZONE
BEGIN:VEVENT
DTSTART;TZID=Pacific/Norfolk:20180324T170000
DTEND;TZID=Pacific/Norfolk:20180324T200000
DTSTAMP:20260422T091237
CREATED:20180219T165844Z
LAST-MODIFIED:20180219T165844Z
UID:1722-1521910800-1521921600@harrisonbounds.com
SUMMARY:House Party with The LifeHacks
DESCRIPTION:
URL:https://harrisonbounds.com/event/house-party-lifehacks/
END:VEVENT
BEGIN:VEVENT
DTSTART;TZID=Pacific/Norfolk:20180323T190000
DTEND;TZID=Pacific/Norfolk:20180323T210000
DTSTAMP:20260422T091237
CREATED:20180202T224756Z
LAST-MODIFIED:20180202T224756Z
UID:1657-1521831600-1521838800@harrisonbounds.com
SUMMARY:The Vanguard Hampton with The LifeHacks
DESCRIPTION:
URL:https://harrisonbounds.com/event/vanguard-hampton-lifehacks/
END:VEVENT
BEGIN:VEVENT
DTSTART;TZID=Pacific/Norfolk:20180318T080000
DTEND;TZID=Pacific/Norfolk:20180318T120000
DTSTAMP:20260422T091237
CREATED:20180202T224959Z
LAST-MODIFIED:20180202T224959Z
UID:1663-1521360000-1521374400@harrisonbounds.com
SUMMARY:Shamrock Marathon with Vinyl Headlights
DESCRIPTION:
URL:https://harrisonbounds.com/event/shamrock-marathon-vinyl-headlights/
END:VEVENT
BEGIN:VEVENT
DTSTART;TZID=Pacific/Norfolk:20180317T210000
DTEND;TZID=Pacific/Norfolk:20180317T233000
DTSTAMP:20260422T091237
CREATED:20180202T224912Z
LAST-MODIFIED:20180202T224912Z
UID:1661-1521320400-1521329400@harrisonbounds.com
SUMMARY:Grain with Vinyl Headlights
DESCRIPTION:
URL:https://harrisonbounds.com/event/grain-vinyl-headlights/
END:VEVENT
BEGIN:VEVENT
DTSTART;TZID=Pacific/Norfolk:20180317T150000
DTEND;TZID=Pacific/Norfolk:20180317T180000
DTSTAMP:20260422T091237
CREATED:20180216T214841Z
LAST-MODIFIED:20180216T214841Z
UID:1720-1521298800-1521309600@harrisonbounds.com
SUMMARY:Newport News City Center- Vinyl Headlights
DESCRIPTION:
URL:https://harrisonbounds.com/event/newport-news-city-center-vinyl-headlights/
END:VEVENT
BEGIN:VEVENT
DTSTART;TZID=Pacific/Norfolk:20180316T210000
DTEND;TZID=Pacific/Norfolk:20180316T233000
DTSTAMP:20260422T091237
CREATED:20180202T224841Z
LAST-MODIFIED:20180202T224841Z
UID:1659-1521234000-1521243000@harrisonbounds.com
SUMMARY:Fairgrounds with Vinyl Headlights
DESCRIPTION:
URL:https://harrisonbounds.com/event/fairgrounds-vinyl-headlights/
END:VEVENT
BEGIN:VEVENT
DTSTART;TZID=Pacific/Norfolk:20180311T100000
DTEND;TZID=Pacific/Norfolk:20180311T130000
DTSTAMP:20260422T091237
CREATED:20180213T181554Z
LAST-MODIFIED:20180213T181554Z
UID:1714-1520762400-1520773200@harrisonbounds.com
SUMMARY:Broad Bay Acoustic Brunch
DESCRIPTION:
URL:https://harrisonbounds.com/event/broad-bay-acoustic-brunch/
END:VEVENT
BEGIN:VEVENT
DTSTART;TZID=Pacific/Norfolk:20180310T200000
DTEND;TZID=Pacific/Norfolk:20180310T233000
DTSTAMP:20260422T091237
CREATED:20180203T194213Z
LAST-MODIFIED:20180203T194241Z
UID:1676-1520712000-1520724600@harrisonbounds.com
SUMMARY:Brown Chicken Brown Cow with Vinyl Headlights
DESCRIPTION:
URL:https://harrisonbounds.com/event/waterside-vinyl-headlights/
END:VEVENT
BEGIN:VEVENT
DTSTART;TZID=Pacific/Norfolk:20180309T200000
DTEND;TZID=Pacific/Norfolk:20180309T230000
DTSTAMP:20260422T091237
CREATED:20180203T203914Z
LAST-MODIFIED:20180203T203914Z
UID:1703-1520625600-1520636400@harrisonbounds.com
SUMMARY:Waterside with Vinyl Headlights
DESCRIPTION:
URL:https://harrisonbounds.com/event/waterside-vinyl-headlights-2/
END:VEVENT
BEGIN:VEVENT
DTSTART;TZID=UTC:20180308T190000
DTEND;TZID=UTC:20180308T220000
DTSTAMP:20260422T091237
CREATED:20170907T141318Z
LAST-MODIFIED:20170907T141318Z
UID:1416-1520535600-1520546400@harrisonbounds.com
SUMMARY:American Brew
DESCRIPTION:
URL:https://harrisonbounds.com/event/american-brew-15/
END:VEVENT
BEGIN:VEVENT
DTSTART;TZID=Pacific/Norfolk:20180303T213000
DTEND;TZID=Pacific/Norfolk:20180303T233000
DTSTAMP:20260422T091237
CREATED:20180301T204251Z
LAST-MODIFIED:20180301T204251Z
UID:1740-1520112600-1520119800@harrisonbounds.com
SUMMARY:Chicho's 29th with Vinyl Headlights
DESCRIPTION:
URL:https://harrisonbounds.com/event/chichos-29th-vinyl-headlights/
END:VEVENT
BEGIN:VEVENT
DTSTART;TZID=Pacific/Norfolk:20180303T100000
DTEND;TZID=Pacific/Norfolk:20180303T130000
DTSTAMP:20260422T091237
CREATED:20180216T151257Z
LAST-MODIFIED:20180216T151257Z
UID:1718-1520071200-1520082000@harrisonbounds.com
SUMMARY:American Brew Brunch
DESCRIPTION:
URL:https://harrisonbounds.com/event/american-brew-brunch/
END:VEVENT
BEGIN:VEVENT
DTSTART;TZID=Pacific/Norfolk:20180302T213000
DTEND;TZID=Pacific/Norfolk:20180302T233000
DTSTAMP:20260422T091237
CREATED:20171107T203243Z
LAST-MODIFIED:20171107T203243Z
UID:1631-1520026200-1520033400@harrisonbounds.com
SUMMARY:Tubbys Tavern GN Solo Acoustic
DESCRIPTION:
URL:https://harrisonbounds.com/event/tubbys-tavern-gn-solo-acoustic-3/
END:VEVENT
BEGIN:VEVENT
DTSTART;TZID=Pacific/Norfolk:20180224T200000
DTEND;TZID=Pacific/Norfolk:20180224T230000
DTSTAMP:20260422T091237
CREATED:20180202T225402Z
LAST-MODIFIED:20180202T225402Z
UID:1673-1519502400-1519513200@harrisonbounds.com
SUMMARY:The Fiddlehead
DESCRIPTION:
URL:https://harrisonbounds.com/event/the-fiddlehead-4/
END:VEVENT
BEGIN:VEVENT
DTSTART;TZID=Pacific/Norfolk:20180217T220000
DTEND;TZID=Pacific/Norfolk:20180217T233000
DTSTAMP:20260422T091237
CREATED:20171107T202936Z
LAST-MODIFIED:20171107T202936Z
UID:1620-1518904800-1518910200@harrisonbounds.com
SUMMARY:OBX Brewing Station with The LifeHacks
DESCRIPTION:
URL:https://harrisonbounds.com/event/obx-brewing-station-lifehacks-2/
END:VEVENT
BEGIN:VEVENT
DTSTART;TZID=Pacific/Norfolk:20180216T213000
DTEND;TZID=Pacific/Norfolk:20180216T233000
DTSTAMP:20260422T091237
CREATED:20171107T203213Z
LAST-MODIFIED:20171107T203213Z
UID:1629-1518816600-1518823800@harrisonbounds.com
SUMMARY:Tubbys Tavern GN Solo Acoustic
DESCRIPTION:
URL:https://harrisonbounds.com/event/tubbys-tavern-gn-solo-acoustic-2/
END:VEVENT
BEGIN:VEVENT
DTSTART;TZID=Pacific/Norfolk:20180210T213000
DTEND;TZID=Pacific/Norfolk:20180210T233000
DTSTAMP:20260422T091237
CREATED:20171103T134809Z
LAST-MODIFIED:20171103T134809Z
UID:1612-1518298200-1518305400@harrisonbounds.com
SUMMARY:Hot Tuna with The LifeHacks
DESCRIPTION:
URL:https://harrisonbounds.com/event/hot-tuna-lifehacks/
END:VEVENT
BEGIN:VEVENT
DTSTART;TZID=UTC:20180208T190000
DTEND;TZID=UTC:20180208T220000
DTSTAMP:20260422T091237
CREATED:20170907T141230Z
LAST-MODIFIED:20170907T141230Z
UID:1414-1518116400-1518127200@harrisonbounds.com
SUMMARY:American Brew
DESCRIPTION:
URL:https://harrisonbounds.com/event/american-brew-13/
END:VEVENT
BEGIN:VEVENT
DTSTART;TZID=Pacific/Norfolk:20180207T203000
DTEND;TZID=Pacific/Norfolk:20180207T233000
DTSTAMP:20260422T091237
CREATED:20171017T005430Z
LAST-MODIFIED:20171017T005430Z
UID:1583-1518035400-1518046200@harrisonbounds.com
SUMMARY:Scotty Quixx East
DESCRIPTION:
URL:https://harrisonbounds.com/event/scotty-quixx-east-10/
END:VEVENT
BEGIN:VEVENT
DTSTART;TZID=Pacific/Norfolk:20180204T100000
DTEND;TZID=Pacific/Norfolk:20180204T130000
DTSTAMP:20260422T091237
CREATED:20171129T210058Z
LAST-MODIFIED:20171129T210058Z
UID:1640-1517738400-1517749200@harrisonbounds.com
SUMMARY:Broad Bay Country Club Brunch
DESCRIPTION:
URL:https://harrisonbounds.com/event/broad-bay-country-club-brunch/
END:VEVENT
BEGIN:VEVENT
DTSTART;TZID=Pacific/Norfolk:20180203T190000
DTEND;TZID=Pacific/Norfolk:20180203T220000
DTSTAMP:20260422T091237
CREATED:20171012T210315Z
LAST-MODIFIED:20171012T210315Z
UID:1576-1517684400-1517695200@harrisonbounds.com
SUMMARY:Wasserhund
DESCRIPTION:
URL:https://harrisonbounds.com/event/wasserhund-4/
LOCATION:Wasserhund Brewing Company\, 1805 Laskin road Suite #102\, Virginia Beach\, VA\, 23454\, United States
END:VEVENT
BEGIN:VEVENT
DTSTART;TZID=Pacific/Norfolk:20180202T213000
DTEND;TZID=Pacific/Norfolk:20180202T233000
DTSTAMP:20260422T091237
CREATED:20171107T202849Z
LAST-MODIFIED:20171107T202849Z
UID:1618-1517607000-1517614200@harrisonbounds.com
SUMMARY:Tubbys Tavern GN with The LifeHacks
DESCRIPTION:
URL:https://harrisonbounds.com/event/tubbys-tavern-gn-lifehacks-4/
END:VEVENT
BEGIN:VEVENT
DTSTART;TZID=Pacific/Norfolk:20180201T180000
DTEND;TZID=Pacific/Norfolk:20180201T200000
DTSTAMP:20260422T091237
CREATED:20180109T214151Z
LAST-MODIFIED:20180109T214151Z
UID:1647-1517508000-1517515200@harrisonbounds.com
SUMMARY:WHRO's Out of the Box Series at Sandler Center with The LifeHacks
DESCRIPTION:
URL:https://harrisonbounds.com/event/whros-box-series-sandler-center-lifehacks/
END:VEVENT
BEGIN:VEVENT
DTSTART;TZID=Pacific/Norfolk:20180120T213000
DTEND;TZID=Pacific/Norfolk:20180120T233000
DTSTAMP:20260422T091237
CREATED:20171107T203145Z
LAST-MODIFIED:20171107T203145Z
UID:1627-1516483800-1516491000@harrisonbounds.com
SUMMARY:Tubbys Tavern GN Solo Acoustic
DESCRIPTION:
URL:https://harrisonbounds.com/event/tubbys-tavern-gn-solo-acoustic/
END:VEVENT
BEGIN:VEVENT
DTSTART;TZID=Pacific/Norfolk:20180118T200000
DTEND;TZID=Pacific/Norfolk:20180118T220000
DTSTAMP:20260422T091237
CREATED:20180109T214227Z
LAST-MODIFIED:20180109T214255Z
UID:1649-1516305600-1516312800@harrisonbounds.com
SUMMARY:The LifeHacks at Shaka's Live
DESCRIPTION:
URL:https://harrisonbounds.com/event/lifehacks-shakas-live/
END:VEVENT
BEGIN:VEVENT
DTSTART;TZID=Pacific/Norfolk:20180106T213000
DTEND;TZID=Pacific/Norfolk:20180106T233000
DTSTAMP:20260422T091237
CREATED:20171107T202745Z
LAST-MODIFIED:20171107T202745Z
UID:1616-1515274200-1515281400@harrisonbounds.com
SUMMARY:Tubby's Tavern GN with The LifeHacks
DESCRIPTION:
URL:https://harrisonbounds.com/event/tubbys-tavern-gn-lifehacks-3/
END:VEVENT
BEGIN:VEVENT
DTSTART;TZID=Pacific/Norfolk:20180103T203000
DTEND;TZID=Pacific/Norfolk:20180103T233000
DTSTAMP:20260422T091237
CREATED:20171017T005356Z
LAST-MODIFIED:20171017T005356Z
UID:1581-1515011400-1515022200@harrisonbounds.com
SUMMARY:Scotty Quixx- East
DESCRIPTION:
URL:https://harrisonbounds.com/event/scotty-quixx-east-8/
END:VEVENT
BEGIN:VEVENT
DTSTART;TZID=UTC:20171227T203000
DTEND;TZID=UTC:20171227T233000
DTSTAMP:20260422T091237
CREATED:20170802T092100Z
LAST-MODIFIED:20170802T092100Z
UID:1380-1514406600-1514417400@harrisonbounds.com
SUMMARY:Scotty Quixx East
DESCRIPTION:
URL:https://harrisonbounds.com/event/scotty-quixx-east-6/
END:VEVENT
BEGIN:VEVENT
DTSTART;TZID=Pacific/Norfolk:20171223T213000
DTEND;TZID=Pacific/Norfolk:20171223T233000
DTSTAMP:20260422T091237
CREATED:20171024T174305Z
LAST-MODIFIED:20171024T174305Z
UID:1610-1514064600-1514071800@harrisonbounds.com
SUMMARY:The LifeHacks at South Beach Grill
DESCRIPTION:
URL:https://harrisonbounds.com/event/lifehacks-south-beach-grill/
END:VEVENT
BEGIN:VEVENT
DTSTART;TZID=UTC:20171223T100000
DTEND;TZID=UTC:20171223T130000
DTSTAMP:20260422T091237
CREATED:20170314T082453Z
LAST-MODIFIED:20170314T082453Z
UID:1223-1514023200-1514034000@harrisonbounds.com
SUMMARY:Java Surf
DESCRIPTION:
URL:https://harrisonbounds.com/event/java-surf-19/
END:VEVENT
END:VCALENDAR