BEGIN:VCALENDAR
VERSION:2.0
PRODID:-//Harrison Bounds - ECPv6.15.12.2//NONSGML v1.0//EN
CALSCALE:GREGORIAN
METHOD:PUBLISH
X-WR-CALNAME:Harrison Bounds
X-ORIGINAL-URL:https://harrisonbounds.com
X-WR-CALDESC:Events for Harrison Bounds
REFRESH-INTERVAL;VALUE=DURATION:PT1H
X-Robots-Tag:noindex
X-PUBLISHED-TTL:PT1H
BEGIN:VTIMEZONE
TZID:Pacific/Norfolk
BEGIN:DAYLIGHT
TZOFFSETFROM:+1100
TZOFFSETTO:+1200
TZNAME:+12
DTSTART:20191005T150000
END:DAYLIGHT
BEGIN:STANDARD
TZOFFSETFROM:+1200
TZOFFSETTO:+1100
TZNAME:+11
DTSTART:20200404T150000
END:STANDARD
BEGIN:DAYLIGHT
TZOFFSETFROM:+1100
TZOFFSETTO:+1200
TZNAME:+12
DTSTART:20201003T150000
END:DAYLIGHT
BEGIN:STANDARD
TZOFFSETFROM:+1200
TZOFFSETTO:+1100
TZNAME:+11
DTSTART:20210403T150000
END:STANDARD
BEGIN:DAYLIGHT
TZOFFSETFROM:+1100
TZOFFSETTO:+1200
TZNAME:+12
DTSTART:20211002T150000
END:DAYLIGHT
BEGIN:STANDARD
TZOFFSETFROM:+1200
TZOFFSETTO:+1100
TZNAME:+11
DTSTART:20220402T150000
END:STANDARD
BEGIN:DAYLIGHT
TZOFFSETFROM:+1100
TZOFFSETTO:+1200
TZNAME:+12
DTSTART:20221001T150000
END:DAYLIGHT
END:VTIMEZONE
BEGIN:VEVENT
DTSTART;TZID=Pacific/Norfolk:20210203T180000
DTEND;TZID=Pacific/Norfolk:20210203T220000
DTSTAMP:20260422T091250
CREATED:20210108T151329Z
LAST-MODIFIED:20210108T151329Z
UID:2747-1612375200-1612389600@harrisonbounds.com
SUMMARY:Ballyhoos
DESCRIPTION:
URL:https://harrisonbounds.com/event/ballyhoos-4/
END:VEVENT
BEGIN:VEVENT
DTSTART;TZID=Pacific/Norfolk:20210130T190000
DTEND;TZID=Pacific/Norfolk:20210130T220000
DTSTAMP:20260422T091250
CREATED:20210129T203807Z
LAST-MODIFIED:20210129T203807Z
UID:2769-1612033200-1612044000@harrisonbounds.com
SUMMARY:Ben & Friends Chichos Backstage
DESCRIPTION:
URL:https://harrisonbounds.com/event/ben-friends-chichos-backstage/
END:VEVENT
BEGIN:VEVENT
DTSTART;TZID=Pacific/Norfolk:20210128T190000
DTEND;TZID=Pacific/Norfolk:20210128T220000
DTSTAMP:20260422T091250
CREATED:20210105T152746Z
LAST-MODIFIED:20210105T152746Z
UID:2738-1611860400-1611871200@harrisonbounds.com
SUMMARY:Elevation 27
DESCRIPTION:
URL:https://harrisonbounds.com/event/elevation-27/
END:VEVENT
BEGIN:VEVENT
DTSTART;TZID=Pacific/Norfolk:20210123T113000
DTEND;TZID=Pacific/Norfolk:20210123T143000
DTSTAMP:20260422T091250
CREATED:20210108T162032Z
LAST-MODIFIED:20210108T162032Z
UID:2749-1611401400-1611412200@harrisonbounds.com
SUMMARY:All That 90's Band at Smartmouth
DESCRIPTION:
URL:https://harrisonbounds.com/event/all-that-90s-band-at-smartmouth/
END:VEVENT
BEGIN:VEVENT
DTSTART;TZID=Pacific/Norfolk:20210122T180000
DTEND;TZID=Pacific/Norfolk:20210122T210000
DTSTAMP:20260422T091250
CREATED:20210105T152832Z
LAST-MODIFIED:20210105T152832Z
UID:2740-1611338400-1611349200@harrisonbounds.com
SUMMARY:CP Shuckers Oceanfront
DESCRIPTION:
URL:https://harrisonbounds.com/event/cp-shuckers-oceanfront-7/
END:VEVENT
BEGIN:VEVENT
DTSTART;TZID=Pacific/Norfolk:20210117T110000
DTEND;TZID=Pacific/Norfolk:20210117T140000
DTSTAMP:20260422T091250
CREATED:20201218T014854Z
LAST-MODIFIED:20201218T014854Z
UID:2721-1610881200-1610892000@harrisonbounds.com
SUMMARY:Fin and Tonic
DESCRIPTION:
URL:https://harrisonbounds.com/event/fin-and-tonic/
END:VEVENT
BEGIN:VEVENT
DTSTART;TZID=Pacific/Norfolk:20210116T180000
DTEND;TZID=Pacific/Norfolk:20210116T210000
DTSTAMP:20260422T091250
CREATED:20210106T010248Z
LAST-MODIFIED:20210106T010248Z
UID:2743-1610820000-1610830800@harrisonbounds.com
SUMMARY:Cactus Jack's
DESCRIPTION:
URL:https://harrisonbounds.com/event/cactus-jacks/
END:VEVENT
BEGIN:VEVENT
DTSTART;TZID=Pacific/Norfolk:20210116T090000
DTEND;TZID=Pacific/Norfolk:20210116T120000
DTSTAMP:20260422T091250
CREATED:20210106T170512Z
LAST-MODIFIED:20210106T170512Z
UID:2745-1610787600-1610798400@harrisonbounds.com
SUMMARY:VIBE District Stage
DESCRIPTION:
URL:https://harrisonbounds.com/event/vibe-district-stage/
END:VEVENT
BEGIN:VEVENT
DTSTART;TZID=Pacific/Norfolk:20210115T180000
DTEND;TZID=Pacific/Norfolk:20210115T210000
DTSTAMP:20260422T091250
CREATED:20201230T215538Z
LAST-MODIFIED:20201230T215538Z
UID:2735-1610733600-1610744400@harrisonbounds.com
SUMMARY:CP Shucker's Shore Drive
DESCRIPTION:
URL:https://harrisonbounds.com/event/cp-shuckers-shore-drive-9/
END:VEVENT
BEGIN:VEVENT
DTSTART;TZID=Pacific/Norfolk:20210106T180000
DTEND;TZID=Pacific/Norfolk:20210106T220000
DTSTAMP:20260422T091250
CREATED:20201230T215426Z
LAST-MODIFIED:20201230T215426Z
UID:2733-1609956000-1609970400@harrisonbounds.com
SUMMARY:Ballyhoos
DESCRIPTION:
URL:https://harrisonbounds.com/event/ballyhoos-3/
END:VEVENT
BEGIN:VEVENT
DTSTART;TZID=Pacific/Norfolk:20210102T183000
DTEND;TZID=Pacific/Norfolk:20210102T210000
DTSTAMP:20260422T091250
CREATED:20201218T014707Z
LAST-MODIFIED:20201218T014707Z
UID:2717-1609612200-1609621200@harrisonbounds.com
SUMMARY:Vibrant Shore Brewing
DESCRIPTION:
URL:https://harrisonbounds.com/event/vibrant-shore-brewing-2/
END:VEVENT
BEGIN:VEVENT
DTSTART;TZID=Pacific/Norfolk:20201221T190000
DTEND;TZID=Pacific/Norfolk:20201221T220000
DTSTAMP:20260422T091250
CREATED:20201221T183422Z
LAST-MODIFIED:20201221T183422Z
UID:2731-1608577200-1608588000@harrisonbounds.com
SUMMARY:Private Event
DESCRIPTION:
URL:https://harrisonbounds.com/event/private-event-8/
END:VEVENT
BEGIN:VEVENT
DTSTART;TZID=Pacific/Norfolk:20201219T190000
DTEND;TZID=Pacific/Norfolk:20201219T223000
DTSTAMP:20260422T091250
CREATED:20201221T183205Z
LAST-MODIFIED:20201221T183205Z
UID:2725-1608404400-1608417000@harrisonbounds.com
SUMMARY:Ben & Friends at Chicho's Backstage
DESCRIPTION:
URL:https://harrisonbounds.com/event/ben-friends-at-chichos-backstage/
END:VEVENT
BEGIN:VEVENT
DTSTART;TZID=Pacific/Norfolk:20201218T180000
DTEND;TZID=Pacific/Norfolk:20201218T220000
DTSTAMP:20260422T091250
CREATED:20201221T183128Z
LAST-MODIFIED:20201221T183128Z
UID:2723-1608314400-1608328800@harrisonbounds.com
SUMMARY:Ben & Friends at Elevation 27
DESCRIPTION:
URL:https://harrisonbounds.com/event/ben-friends-at-elevation-27/
END:VEVENT
BEGIN:VEVENT
DTSTART;TZID=Pacific/Norfolk:20201212T190000
DTEND;TZID=Pacific/Norfolk:20201212T220000
DTSTAMP:20260422T091250
CREATED:20201221T183338Z
LAST-MODIFIED:20201221T183338Z
UID:2729-1607799600-1607810400@harrisonbounds.com
SUMMARY:Chicho's Strawbridge
DESCRIPTION:
URL:https://harrisonbounds.com/event/chichos-strawbridge-2/
END:VEVENT
BEGIN:VEVENT
DTSTART;TZID=Pacific/Norfolk:20201212T130000
DTEND;TZID=Pacific/Norfolk:20201212T160000
DTSTAMP:20260422T091250
CREATED:20201221T183304Z
LAST-MODIFIED:20201221T183304Z
UID:2727-1607778000-1607788800@harrisonbounds.com
SUMMARY:Hank's Filling Station Oyster Roast
DESCRIPTION:
URL:https://harrisonbounds.com/event/hanks-filling-station-oyster-roast/
END:VEVENT
BEGIN:VEVENT
DTSTART;TZID=Pacific/Norfolk:20201211T210000
DTEND;TZID=Pacific/Norfolk:20201211T233000
DTSTAMP:20260422T091250
CREATED:20201118T173733Z
LAST-MODIFIED:20201118T173733Z
UID:2715-1607720400-1607729400@harrisonbounds.com
SUMMARY:OBX with the Trio
DESCRIPTION:
URL:https://harrisonbounds.com/event/obx-with-the-trio/
END:VEVENT
BEGIN:VEVENT
DTSTART;TZID=Pacific/Norfolk:20201125T190000
DTEND;TZID=Pacific/Norfolk:20201125T230000
DTSTAMP:20260422T091250
CREATED:20201111T182758Z
LAST-MODIFIED:20201111T182758Z
UID:2713-1606330800-1606345200@harrisonbounds.com
SUMMARY:Ballyhoos Full Band
DESCRIPTION:
URL:https://harrisonbounds.com/event/ballyhoos-full-band/
END:VEVENT
BEGIN:VEVENT
DTSTART;TZID=Pacific/Norfolk:20201110T180000
DTEND;TZID=Pacific/Norfolk:20201110T220000
DTSTAMP:20260422T091250
CREATED:20201029T151255Z
LAST-MODIFIED:20201029T151255Z
UID:2710-1605031200-1605045600@harrisonbounds.com
SUMMARY:Ballyhoos
DESCRIPTION:
URL:https://harrisonbounds.com/event/ballyhoos-2/
END:VEVENT
BEGIN:VEVENT
DTSTART;TZID=Pacific/Norfolk:20201012T180000
DTEND;TZID=Pacific/Norfolk:20201012T220000
DTSTAMP:20260422T091250
CREATED:20200930T132129Z
LAST-MODIFIED:20200930T132129Z
UID:2706-1602525600-1602540000@harrisonbounds.com
SUMMARY:Ballyhoos Acoustic
DESCRIPTION:
URL:https://harrisonbounds.com/event/ballyhoos-acoustic-12/
END:VEVENT
BEGIN:VEVENT
DTSTART;TZID=Pacific/Norfolk:20201011T180000
DTEND;TZID=Pacific/Norfolk:20201011T210000
DTSTAMP:20260422T091250
CREATED:20200908T172019Z
LAST-MODIFIED:20200928T201200Z
UID:2697-1602439200-1602450000@harrisonbounds.com
SUMMARY:Private Event
DESCRIPTION:
URL:https://harrisonbounds.com/event/private-event-7/
END:VEVENT
BEGIN:VEVENT
DTSTART;TZID=Pacific/Norfolk:20201008T190000
DTEND;TZID=Pacific/Norfolk:20201008T213000
DTSTAMP:20260422T091250
CREATED:20200928T201031Z
LAST-MODIFIED:20200928T201031Z
UID:2701-1602183600-1602192600@harrisonbounds.com
SUMMARY:Vibrant Shore Brewing
DESCRIPTION:
URL:https://harrisonbounds.com/event/vibrant-shore-brewing/
END:VEVENT
BEGIN:VEVENT
DTSTART;TZID=Pacific/Norfolk:20201003T180000
DTEND;TZID=Pacific/Norfolk:20201003T210000
DTSTAMP:20260422T091250
CREATED:20200929T011312Z
LAST-MODIFIED:20201004T174509Z
UID:2704-1601748000-1601758800@harrisonbounds.com
SUMMARY:The Rock
DESCRIPTION:
URL:https://harrisonbounds.com/event/the-rock/
END:VEVENT
BEGIN:VEVENT
DTSTART;TZID=Pacific/Norfolk:20200919T180000
DTEND;TZID=Pacific/Norfolk:20200919T210000
DTSTAMP:20260422T091250
CREATED:20200306T183929Z
LAST-MODIFIED:20200306T183929Z
UID:2670-1600538400-1600549200@harrisonbounds.com
SUMMARY:REAL Watersports
DESCRIPTION:
URL:https://harrisonbounds.com/event/real-watersports-4/
END:VEVENT
BEGIN:VEVENT
DTSTART;TZID=Pacific/Norfolk:20200912T190000
DTEND;TZID=Pacific/Norfolk:20200912T220000
DTSTAMP:20260422T091250
CREATED:20200914T123640Z
LAST-MODIFIED:20200914T123640Z
UID:2699-1599937200-1599948000@harrisonbounds.com
SUMMARY:The Rock on 16th
DESCRIPTION:
URL:https://harrisonbounds.com/event/the-rock-on-16th/
END:VEVENT
BEGIN:VEVENT
DTSTART;TZID=Pacific/Norfolk:20200907T120000
DTEND;TZID=Pacific/Norfolk:20200907T150000
DTSTAMP:20260422T091250
CREATED:20200902T185240Z
LAST-MODIFIED:20200902T185240Z
UID:2694-1599480000-1599490800@harrisonbounds.com
SUMMARY:Commonwealth Brewing Co
DESCRIPTION:
URL:https://harrisonbounds.com/event/commonwealth-brewing-co/
END:VEVENT
BEGIN:VEVENT
DTSTART;TZID=Pacific/Norfolk:20200905T180000
DTEND;TZID=Pacific/Norfolk:20200905T210000
DTSTAMP:20260422T091250
CREATED:20200901T031700Z
LAST-MODIFIED:20200901T031700Z
UID:2692-1599328800-1599339600@harrisonbounds.com
SUMMARY:Acoustic at Waterside Norfolk
DESCRIPTION:
URL:https://harrisonbounds.com/event/acoustic-at-waterside-norfolk/
END:VEVENT
BEGIN:VEVENT
DTSTART;TZID=Pacific/Norfolk:20200904T190000
DTEND;TZID=Pacific/Norfolk:20200904T220000
DTSTAMP:20260422T091250
CREATED:20200901T031503Z
LAST-MODIFIED:20200901T031503Z
UID:2690-1599246000-1599256800@harrisonbounds.com
SUMMARY:Pink Floyd Tribute Set @ Elevation 27
DESCRIPTION:
URL:https://harrisonbounds.com/event/pink-floyd-tribute-set-elevation-27/
END:VEVENT
BEGIN:VEVENT
DTSTART;TZID=Pacific/Norfolk:20200828T180000
DTEND;TZID=Pacific/Norfolk:20200828T210000
DTSTAMP:20260422T091250
CREATED:20200306T183837Z
LAST-MODIFIED:20200306T183837Z
UID:2668-1598637600-1598648400@harrisonbounds.com
SUMMARY:REAL Watersports
DESCRIPTION:
URL:https://harrisonbounds.com/event/real-watersports-3/
END:VEVENT
BEGIN:VEVENT
DTSTART;TZID=Pacific/Norfolk:20200808T180000
DTEND;TZID=Pacific/Norfolk:20200808T220000
DTSTAMP:20260422T091250
CREATED:20200615T145551Z
LAST-MODIFIED:20200615T145551Z
UID:2677-1596909600-1596924000@harrisonbounds.com
SUMMARY:Private Event
DESCRIPTION:
URL:https://harrisonbounds.com/event/private-event-6/
END:VEVENT
END:VCALENDAR