BEGIN:VCALENDAR
VERSION:2.0
PRODID:-//Harrison Bounds - ECPv6.15.12.2//NONSGML v1.0//EN
CALSCALE:GREGORIAN
METHOD:PUBLISH
X-WR-CALNAME:Harrison Bounds
X-ORIGINAL-URL:https://harrisonbounds.com
X-WR-CALDESC:Events for Harrison Bounds
REFRESH-INTERVAL;VALUE=DURATION:PT1H
X-Robots-Tag:noindex
X-PUBLISHED-TTL:PT1H
BEGIN:VTIMEZONE
TZID:Pacific/Norfolk
BEGIN:DAYLIGHT
TZOFFSETFROM:+1100
TZOFFSETTO:+1200
TZNAME:+12
DTSTART:20191005T150000
END:DAYLIGHT
END:VTIMEZONE
BEGIN:VTIMEZONE
TZID:UTC
BEGIN:STANDARD
TZOFFSETFROM:+0000
TZOFFSETTO:+0000
TZNAME:UTC
DTSTART:20170101T000000
END:STANDARD
END:VTIMEZONE
BEGIN:VEVENT
DTSTART;TZID=Pacific/Norfolk:20180509T203000
DTEND;TZID=Pacific/Norfolk:20180509T233000
DTSTAMP:20260422T091200
CREATED:20171017T005643Z
LAST-MODIFIED:20171017T005643Z
UID:1589-1525897800-1525908600@harrisonbounds.com
SUMMARY:Scotty Quixx East
DESCRIPTION:
URL:https://harrisonbounds.com/event/scotty-quixx-east-13/
END:VEVENT
BEGIN:VEVENT
DTSTART;TZID=Pacific/Norfolk:20180505T213000
DTEND;TZID=Pacific/Norfolk:20180505T233000
DTSTAMP:20260422T091200
CREATED:20171107T203106Z
LAST-MODIFIED:20180203T193559Z
UID:1625-1525555800-1525563000@harrisonbounds.com
SUMMARY:Tubbys Tavern GN with The LifeHacks
DESCRIPTION:
URL:https://harrisonbounds.com/event/tubbys-tavern-gn-lifehacks-6/
END:VEVENT
BEGIN:VEVENT
DTSTART;TZID=Pacific/Norfolk:20180504T190000
DTEND;TZID=Pacific/Norfolk:20180504T220000
DTSTAMP:20260422T091200
CREATED:20180316T001143Z
LAST-MODIFIED:20180316T001143Z
UID:1761-1525460400-1525471200@harrisonbounds.com
SUMMARY:Back Bay Brewing
DESCRIPTION:
URL:https://harrisonbounds.com/event/back-bay-brewing-2/
END:VEVENT
BEGIN:VEVENT
DTSTART;TZID=Pacific/Norfolk:20180428T120000
DTEND;TZID=Pacific/Norfolk:20180428T160000
DTSTAMP:20260422T091200
CREATED:20171009T030414Z
LAST-MODIFIED:20180228T180936Z
UID:1563-1524916800-1524931200@harrisonbounds.com
SUMMARY:Kennedy Wedding
DESCRIPTION:
URL:https://harrisonbounds.com/event/kennedy-wedding/
END:VEVENT
BEGIN:VEVENT
DTSTART;TZID=Pacific/Norfolk:20180427T210000
DTEND;TZID=Pacific/Norfolk:20180427T233000
DTSTAMP:20260422T091200
CREATED:20180203T195034Z
LAST-MODIFIED:20180417T190120Z
UID:1693-1524862800-1524871800@harrisonbounds.com
SUMMARY:UVA Formal
DESCRIPTION:
URL:https://harrisonbounds.com/event/keagans-vinyl-headlights/
END:VEVENT
BEGIN:VEVENT
DTSTART;TZID=Pacific/Norfolk:20180421T170000
DTEND;TZID=Pacific/Norfolk:20180421T230000
DTSTAMP:20260422T091200
CREATED:20180203T194921Z
LAST-MODIFIED:20180203T194921Z
UID:1691-1524330000-1524351600@harrisonbounds.com
SUMMARY:Wedding Madison VA
DESCRIPTION:
URL:https://harrisonbounds.com/event/wedding-madison-va/
END:VEVENT
BEGIN:VEVENT
DTSTART;TZID=Pacific/Norfolk:20180420T210000
DTEND;TZID=Pacific/Norfolk:20180420T233000
DTSTAMP:20260422T091200
CREATED:20180203T194754Z
LAST-MODIFIED:20180203T194754Z
UID:1689-1524258000-1524267000@harrisonbounds.com
SUMMARY:Grain with Vinyl Headlights
DESCRIPTION:
URL:https://harrisonbounds.com/event/grain-vinyl-headlights-2/
END:VEVENT
BEGIN:VEVENT
DTSTART;TZID=Pacific/Norfolk:20180418T210000
DTEND;TZID=Pacific/Norfolk:20180418T233000
DTSTAMP:20260422T091200
CREATED:20180228T174736Z
LAST-MODIFIED:20180228T174736Z
UID:1728-1524085200-1524094200@harrisonbounds.com
SUMMARY:South Beach Grill with Vinyl Headlights
DESCRIPTION:
URL:https://harrisonbounds.com/event/south-beach-grill-vinyl-headlights/
END:VEVENT
BEGIN:VEVENT
DTSTART;TZID=Pacific/Norfolk:20180415T160000
DTEND;TZID=Pacific/Norfolk:20180415T200000
DTSTAMP:20260422T091200
CREATED:20180405T144004Z
LAST-MODIFIED:20180405T144004Z
UID:1799-1523808000-1523822400@harrisonbounds.com
SUMMARY:School of Rock Staff Show
DESCRIPTION:
URL:https://harrisonbounds.com/event/school-rock-staff-show-2/
END:VEVENT
BEGIN:VEVENT
DTSTART;TZID=Pacific/Norfolk:20180414T170000
DTEND;TZID=Pacific/Norfolk:20180414T230000
DTSTAMP:20260422T091200
CREATED:20180203T194714Z
LAST-MODIFIED:20180203T194714Z
UID:1687-1523725200-1523746800@harrisonbounds.com
SUMMARY:Wedding- Richmond Vinyl Headlights
DESCRIPTION:
URL:https://harrisonbounds.com/event/wedding-richmond-vinyl-headlights/
END:VEVENT
BEGIN:VEVENT
DTSTART;TZID=Pacific/Norfolk:20180413T200000
DTEND;TZID=Pacific/Norfolk:20180413T233000
DTSTAMP:20260422T091200
CREATED:20180203T194622Z
LAST-MODIFIED:20180203T194622Z
UID:1685-1523649600-1523662200@harrisonbounds.com
SUMMARY:Private Event- Williamsburg
DESCRIPTION:
URL:https://harrisonbounds.com/event/private-event-williamsburg/
END:VEVENT
BEGIN:VEVENT
DTSTART;TZID=UTC:20180412T190000
DTEND;TZID=UTC:20180412T220000
DTSTAMP:20260422T091200
CREATED:20170907T141422Z
LAST-MODIFIED:20170907T141422Z
UID:1418-1523559600-1523570400@harrisonbounds.com
SUMMARY:American Brew
DESCRIPTION:
URL:https://harrisonbounds.com/event/american-brew-16/
END:VEVENT
BEGIN:VEVENT
DTSTART;TZID=Pacific/Norfolk:20180411T203000
DTEND;TZID=Pacific/Norfolk:20180411T233000
DTSTAMP:20260422T091200
CREATED:20171017T005609Z
LAST-MODIFIED:20171017T005609Z
UID:1587-1523478600-1523489400@harrisonbounds.com
SUMMARY:Scotty Quixx East
DESCRIPTION:
URL:https://harrisonbounds.com/event/scotty-quixx-east-12/
END:VEVENT
BEGIN:VEVENT
DTSTART;TZID=Pacific/Norfolk:20180407T213000
DTEND;TZID=Pacific/Norfolk:20180407T233000
DTSTAMP:20260422T091200
CREATED:20180203T194544Z
LAST-MODIFIED:20180203T194544Z
UID:1683-1523136600-1523143800@harrisonbounds.com
SUMMARY:Hot Tuna- Vinyl Headlights
DESCRIPTION:
URL:https://harrisonbounds.com/event/hot-tuna-vinyl-headlights/
END:VEVENT
BEGIN:VEVENT
DTSTART;TZID=Pacific/Norfolk:20180406T200000
DTEND;TZID=Pacific/Norfolk:20180406T233000
DTSTAMP:20260422T091200
CREATED:20180320T181030Z
LAST-MODIFIED:20180320T181030Z
UID:1764-1523044800-1523057400@harrisonbounds.com
SUMMARY:UVA formal
DESCRIPTION:
URL:https://harrisonbounds.com/event/uva-formal/
END:VEVENT
BEGIN:VEVENT
DTSTART;TZID=Pacific/Norfolk:20180405T200000
DTEND;TZID=Pacific/Norfolk:20180405T233000
DTSTAMP:20260422T091200
CREATED:20180203T194353Z
LAST-MODIFIED:20180320T180908Z
UID:1681-1522958400-1522971000@harrisonbounds.com
SUMMARY:JJ Brew Bakers
DESCRIPTION:
URL:https://harrisonbounds.com/event/jj-brew-bakers/
END:VEVENT
BEGIN:VEVENT
DTSTART;TZID=Pacific/Norfolk:20180404T200000
DTEND;TZID=Pacific/Norfolk:20180404T230000
DTSTAMP:20260422T091200
CREATED:20180203T194321Z
LAST-MODIFIED:20180203T194321Z
UID:1679-1522872000-1522882800@harrisonbounds.com
SUMMARY:Hoss Deli with Vinyl Headlights
DESCRIPTION:
URL:https://harrisonbounds.com/event/hoss-deli-vinyl-headlights/
END:VEVENT
BEGIN:VEVENT
DTSTART;TZID=Pacific/Norfolk:20180331T200000
DTEND;TZID=Pacific/Norfolk:20180331T230000
DTSTAMP:20260422T091200
CREATED:20180202T225046Z
LAST-MODIFIED:20180202T225046Z
UID:1665-1522526400-1522537200@harrisonbounds.com
SUMMARY:Lubo Wine Tasting Room
DESCRIPTION:
URL:https://harrisonbounds.com/event/lubo-wine-tasting-room/
END:VEVENT
BEGIN:VEVENT
DTSTART;TZID=Pacific/Norfolk:20180328T203000
DTEND;TZID=Pacific/Norfolk:20180328T233000
DTSTAMP:20260422T091200
CREATED:20171017T005510Z
LAST-MODIFIED:20171017T005532Z
UID:1585-1522269000-1522279800@harrisonbounds.com
SUMMARY:Scotty Quixx East
DESCRIPTION:
URL:https://harrisonbounds.com/event/scotty-quixx-east-11/
END:VEVENT
BEGIN:VEVENT
DTSTART;TZID=Pacific/Norfolk:20180324T213000
DTEND;TZID=Pacific/Norfolk:20180324T233000
DTSTAMP:20260422T091200
CREATED:20171107T203036Z
LAST-MODIFIED:20171107T203036Z
UID:1623-1521927000-1521934200@harrisonbounds.com
SUMMARY:Tubbys Tavern GN with The LifeHacks
DESCRIPTION:
URL:https://harrisonbounds.com/event/tubbys-tavern-gn-lifehacks-5/
END:VEVENT
BEGIN:VEVENT
DTSTART;TZID=Pacific/Norfolk:20180324T170000
DTEND;TZID=Pacific/Norfolk:20180324T200000
DTSTAMP:20260422T091200
CREATED:20180219T165844Z
LAST-MODIFIED:20180219T165844Z
UID:1722-1521910800-1521921600@harrisonbounds.com
SUMMARY:House Party with The LifeHacks
DESCRIPTION:
URL:https://harrisonbounds.com/event/house-party-lifehacks/
END:VEVENT
BEGIN:VEVENT
DTSTART;TZID=Pacific/Norfolk:20180323T190000
DTEND;TZID=Pacific/Norfolk:20180323T210000
DTSTAMP:20260422T091200
CREATED:20180202T224756Z
LAST-MODIFIED:20180202T224756Z
UID:1657-1521831600-1521838800@harrisonbounds.com
SUMMARY:The Vanguard Hampton with The LifeHacks
DESCRIPTION:
URL:https://harrisonbounds.com/event/vanguard-hampton-lifehacks/
END:VEVENT
BEGIN:VEVENT
DTSTART;TZID=Pacific/Norfolk:20180318T080000
DTEND;TZID=Pacific/Norfolk:20180318T120000
DTSTAMP:20260422T091200
CREATED:20180202T224959Z
LAST-MODIFIED:20180202T224959Z
UID:1663-1521360000-1521374400@harrisonbounds.com
SUMMARY:Shamrock Marathon with Vinyl Headlights
DESCRIPTION:
URL:https://harrisonbounds.com/event/shamrock-marathon-vinyl-headlights/
END:VEVENT
BEGIN:VEVENT
DTSTART;TZID=Pacific/Norfolk:20180317T210000
DTEND;TZID=Pacific/Norfolk:20180317T233000
DTSTAMP:20260422T091200
CREATED:20180202T224912Z
LAST-MODIFIED:20180202T224912Z
UID:1661-1521320400-1521329400@harrisonbounds.com
SUMMARY:Grain with Vinyl Headlights
DESCRIPTION:
URL:https://harrisonbounds.com/event/grain-vinyl-headlights/
END:VEVENT
BEGIN:VEVENT
DTSTART;TZID=Pacific/Norfolk:20180317T150000
DTEND;TZID=Pacific/Norfolk:20180317T180000
DTSTAMP:20260422T091200
CREATED:20180216T214841Z
LAST-MODIFIED:20180216T214841Z
UID:1720-1521298800-1521309600@harrisonbounds.com
SUMMARY:Newport News City Center- Vinyl Headlights
DESCRIPTION:
URL:https://harrisonbounds.com/event/newport-news-city-center-vinyl-headlights/
END:VEVENT
BEGIN:VEVENT
DTSTART;TZID=Pacific/Norfolk:20180316T210000
DTEND;TZID=Pacific/Norfolk:20180316T233000
DTSTAMP:20260422T091200
CREATED:20180202T224841Z
LAST-MODIFIED:20180202T224841Z
UID:1659-1521234000-1521243000@harrisonbounds.com
SUMMARY:Fairgrounds with Vinyl Headlights
DESCRIPTION:
URL:https://harrisonbounds.com/event/fairgrounds-vinyl-headlights/
END:VEVENT
BEGIN:VEVENT
DTSTART;TZID=Pacific/Norfolk:20180311T100000
DTEND;TZID=Pacific/Norfolk:20180311T130000
DTSTAMP:20260422T091200
CREATED:20180213T181554Z
LAST-MODIFIED:20180213T181554Z
UID:1714-1520762400-1520773200@harrisonbounds.com
SUMMARY:Broad Bay Acoustic Brunch
DESCRIPTION:
URL:https://harrisonbounds.com/event/broad-bay-acoustic-brunch/
END:VEVENT
BEGIN:VEVENT
DTSTART;TZID=Pacific/Norfolk:20180310T200000
DTEND;TZID=Pacific/Norfolk:20180310T233000
DTSTAMP:20260422T091200
CREATED:20180203T194213Z
LAST-MODIFIED:20180203T194241Z
UID:1676-1520712000-1520724600@harrisonbounds.com
SUMMARY:Brown Chicken Brown Cow with Vinyl Headlights
DESCRIPTION:
URL:https://harrisonbounds.com/event/waterside-vinyl-headlights/
END:VEVENT
BEGIN:VEVENT
DTSTART;TZID=Pacific/Norfolk:20180309T200000
DTEND;TZID=Pacific/Norfolk:20180309T230000
DTSTAMP:20260422T091200
CREATED:20180203T203914Z
LAST-MODIFIED:20180203T203914Z
UID:1703-1520625600-1520636400@harrisonbounds.com
SUMMARY:Waterside with Vinyl Headlights
DESCRIPTION:
URL:https://harrisonbounds.com/event/waterside-vinyl-headlights-2/
END:VEVENT
BEGIN:VEVENT
DTSTART;TZID=UTC:20180308T190000
DTEND;TZID=UTC:20180308T220000
DTSTAMP:20260422T091200
CREATED:20170907T141318Z
LAST-MODIFIED:20170907T141318Z
UID:1416-1520535600-1520546400@harrisonbounds.com
SUMMARY:American Brew
DESCRIPTION:
URL:https://harrisonbounds.com/event/american-brew-15/
END:VEVENT
END:VCALENDAR