BEGIN:VCALENDAR
VERSION:2.0
PRODID:-//Harrison Bounds - ECPv6.15.12.2//NONSGML v1.0//EN
CALSCALE:GREGORIAN
METHOD:PUBLISH
X-WR-CALNAME:Harrison Bounds
X-ORIGINAL-URL:https://harrisonbounds.com
X-WR-CALDESC:Events for Harrison Bounds
REFRESH-INTERVAL;VALUE=DURATION:PT1H
X-Robots-Tag:noindex
X-PUBLISHED-TTL:PT1H
BEGIN:VTIMEZONE
TZID:Pacific/Norfolk
BEGIN:DAYLIGHT
TZOFFSETFROM:+1100
TZOFFSETTO:+1200
TZNAME:+12
DTSTART:20191005T150000
END:DAYLIGHT
END:VTIMEZONE
BEGIN:VEVENT
DTSTART;TZID=Pacific/Norfolk:20180811T120000
DTEND;TZID=Pacific/Norfolk:20180811T150000
DTSTAMP:20260422T020856
CREATED:20180621T203725Z
LAST-MODIFIED:20180621T203725Z
UID:1913-1533988800-1533999600@harrisonbounds.com
SUMMARY:Vibe District with The LifeHacks
DESCRIPTION:
URL:https://harrisonbounds.com/event/vibe-district-lifehacks/
END:VEVENT
BEGIN:VEVENT
DTSTART;TZID=Pacific/Norfolk:20180810T210000
DTEND;TZID=Pacific/Norfolk:20180810T233000
DTSTAMP:20260422T020856
CREATED:20180304T211713Z
LAST-MODIFIED:20180304T211713Z
UID:1746-1533934800-1533943800@harrisonbounds.com
SUMMARY:Tubbys Tavern with The LifeHacks
DESCRIPTION:
URL:https://harrisonbounds.com/event/tubbys-tavern-lifehacks-3/
END:VEVENT
BEGIN:VEVENT
DTSTART;TZID=Pacific/Norfolk:20180810T140000
DTEND;TZID=Pacific/Norfolk:20180810T180000
DTSTAMP:20260422T020856
CREATED:20180604T194927Z
LAST-MODIFIED:20180604T194927Z
UID:1901-1533909600-1533924000@harrisonbounds.com
SUMMARY:Ocean's 27 Happy Hour
DESCRIPTION:
URL:https://harrisonbounds.com/event/oceans-27-happy-hour-4/
END:VEVENT
BEGIN:VEVENT
DTSTART;TZID=Pacific/Norfolk:20180809T210000
DTEND;TZID=Pacific/Norfolk:20180809T233000
DTSTAMP:20260422T020856
CREATED:20180717T232348Z
LAST-MODIFIED:20180717T232348Z
UID:1936-1533848400-1533857400@harrisonbounds.com
SUMMARY:Old Beach Tavern Acoustic
DESCRIPTION:
URL:https://harrisonbounds.com/event/old-beach-tavern-acoustic/
END:VEVENT
BEGIN:VEVENT
DTSTART;TZID=Pacific/Norfolk:20180808T203000
DTEND;TZID=Pacific/Norfolk:20180808T233000
DTSTAMP:20260422T020856
CREATED:20171017T010025Z
LAST-MODIFIED:20171017T010025Z
UID:1601-1533760200-1533771000@harrisonbounds.com
SUMMARY:Scotty Quixx
DESCRIPTION:
URL:https://harrisonbounds.com/event/scotty-quixx-13/
END:VEVENT
BEGIN:VEVENT
DTSTART;TZID=Pacific/Norfolk:20180805T180000
DTEND;TZID=Pacific/Norfolk:20180805T200000
DTSTAMP:20260422T020856
CREATED:20180606T191812Z
LAST-MODIFIED:20180606T191812Z
UID:1907-1533492000-1533499200@harrisonbounds.com
SUMMARY:CP Shuckers Oceanfront
DESCRIPTION:
URL:https://harrisonbounds.com/event/cp-shuckers-oceanfront-6/
END:VEVENT
BEGIN:VEVENT
DTSTART;TZID=Pacific/Norfolk:20180803T180000
DTEND;TZID=Pacific/Norfolk:20180803T210000
DTSTAMP:20260422T020856
CREATED:20180213T000524Z
LAST-MODIFIED:20180213T000524Z
UID:1712-1533319200-1533330000@harrisonbounds.com
SUMMARY:East Beach Civic League with The LifeHacks
DESCRIPTION:
URL:https://harrisonbounds.com/event/east-beach-civic-league-lifehacks/
END:VEVENT
BEGIN:VEVENT
DTSTART;TZID=Pacific/Norfolk:20180802T200000
DTEND;TZID=Pacific/Norfolk:20180802T230000
DTSTAMP:20260422T020856
CREATED:20180731T225853Z
LAST-MODIFIED:20180731T225853Z
UID:1954-1533240000-1533250800@harrisonbounds.com
SUMMARY:Bay Local Shore Drive with EJ Bollman
DESCRIPTION:
URL:https://harrisonbounds.com/event/bay-local-shore-drive-ej-bollman/
END:VEVENT
BEGIN:VEVENT
DTSTART;TZID=Pacific/Norfolk:20180728T170000
DTEND;TZID=Pacific/Norfolk:20180728T200000
DTSTAMP:20260422T020856
CREATED:20180320T224750Z
LAST-MODIFIED:20180722T204521Z
UID:1780-1532797200-1532808000@harrisonbounds.com
SUMMARY:Sunset Beach
DESCRIPTION:
URL:https://harrisonbounds.com/event/sunset-beach/
END:VEVENT
BEGIN:VEVENT
DTSTART;TZID=Pacific/Norfolk:20180727T203000
DTEND;TZID=Pacific/Norfolk:20180727T233000
DTSTAMP:20260422T020856
CREATED:20180724T210827Z
LAST-MODIFIED:20180724T210827Z
UID:1950-1532723400-1532734200@harrisonbounds.com
SUMMARY:Ballyhoo's Acoustic
DESCRIPTION:
URL:https://harrisonbounds.com/event/ballyhoos-acoustic/
END:VEVENT
BEGIN:VEVENT
DTSTART;TZID=Pacific/Norfolk:20180726T200000
DTEND;TZID=Pacific/Norfolk:20180726T230000
DTSTAMP:20260422T020856
CREATED:20180724T205903Z
LAST-MODIFIED:20180724T205903Z
UID:1946-1532635200-1532646000@harrisonbounds.com
SUMMARY:Bay Local Laskin with EJ Bollman
DESCRIPTION:
URL:https://harrisonbounds.com/event/bay-local-laskin-ej-bollman/
END:VEVENT
BEGIN:VEVENT
DTSTART;TZID=Pacific/Norfolk:20180725T200000
DTEND;TZID=Pacific/Norfolk:20180725T230000
DTSTAMP:20260422T020856
CREATED:20180717T232251Z
LAST-MODIFIED:20180724T031303Z
UID:1933-1532548800-1532559600@harrisonbounds.com
SUMMARY:Old Beach Tavern Acoustic
DESCRIPTION:
URL:https://harrisonbounds.com/event/old-beach-tavern/
END:VEVENT
BEGIN:VEVENT
DTSTART;TZID=Pacific/Norfolk:20180721T213000
DTEND;TZID=Pacific/Norfolk:20180721T233000
DTSTAMP:20260422T020856
CREATED:20180320T224543Z
LAST-MODIFIED:20180320T224543Z
UID:1778-1532208600-1532215800@harrisonbounds.com
SUMMARY:Keagans Town Center
DESCRIPTION:
URL:https://harrisonbounds.com/event/keagans-town-center/
END:VEVENT
BEGIN:VEVENT
DTSTART;TZID=Pacific/Norfolk:20180720T210000
DTEND;TZID=Pacific/Norfolk:20180720T233000
DTSTAMP:20260422T020856
CREATED:20180304T211636Z
LAST-MODIFIED:20180304T211636Z
UID:1744-1532120400-1532129400@harrisonbounds.com
SUMMARY:Tubby's Tavern with The LifeHacks
DESCRIPTION:
URL:https://harrisonbounds.com/event/tubbys-tavern-lifehacks-2/
END:VEVENT
BEGIN:VEVENT
DTSTART;TZID=Pacific/Norfolk:20180719T180000
DTEND;TZID=Pacific/Norfolk:20180719T210000
DTSTAMP:20260422T020856
CREATED:20180408T215231Z
LAST-MODIFIED:20180408T215231Z
UID:1823-1532023200-1532034000@harrisonbounds.com
SUMMARY:Acoustic at Dockside
DESCRIPTION:
URL:https://harrisonbounds.com/event/acoustic-at-dockside/
END:VEVENT
BEGIN:VEVENT
DTSTART;TZID=Pacific/Norfolk:20180718T180000
DTEND;TZID=Pacific/Norfolk:20180718T220000
DTSTAMP:20260422T020856
CREATED:20180405T193436Z
LAST-MODIFIED:20180405T193436Z
UID:1819-1531936800-1531951200@harrisonbounds.com
SUMMARY:34th st stage
DESCRIPTION:
URL:https://harrisonbounds.com/event/34th-st-stage-3/
END:VEVENT
BEGIN:VEVENT
DTSTART;TZID=Pacific/Norfolk:20180714T213000
DTEND;TZID=Pacific/Norfolk:20180714T233000
DTSTAMP:20260422T020856
CREATED:20180320T224439Z
LAST-MODIFIED:20180320T224439Z
UID:1776-1531603800-1531611000@harrisonbounds.com
SUMMARY:Hot Tuna
DESCRIPTION:
URL:https://harrisonbounds.com/event/hot-tuna/
END:VEVENT
BEGIN:VEVENT
DTSTART;TZID=Pacific/Norfolk:20180713T220000
DTEND;TZID=Pacific/Norfolk:20180713T233000
DTSTAMP:20260422T020856
CREATED:20180320T224220Z
LAST-MODIFIED:20180320T224220Z
UID:1774-1531519200-1531524600@harrisonbounds.com
SUMMARY:HK on the Bay
DESCRIPTION:
URL:https://harrisonbounds.com/event/hk-on-the-bay/
END:VEVENT
BEGIN:VEVENT
DTSTART;TZID=Pacific/Norfolk:20180712T200000
DTEND;TZID=Pacific/Norfolk:20180712T230000
DTSTAMP:20260422T020856
CREATED:20180710T140036Z
LAST-MODIFIED:20180710T140036Z
UID:1919-1531425600-1531436400@harrisonbounds.com
SUMMARY:Bay Local Laskin Road with EJ Bollman
DESCRIPTION:
URL:https://harrisonbounds.com/event/bay-local-laskin-road-ej-bollman/
END:VEVENT
BEGIN:VEVENT
DTSTART;TZID=Pacific/Norfolk:20180711T180000
DTEND;TZID=Pacific/Norfolk:20180711T203000
DTSTAMP:20260422T020856
CREATED:20171017T005923Z
LAST-MODIFIED:20180710T140140Z
UID:1597-1531332000-1531341000@harrisonbounds.com
SUMMARY:Scotty Quixx West
DESCRIPTION:
URL:https://harrisonbounds.com/event/scotty-quixx-11/
END:VEVENT
BEGIN:VEVENT
DTSTART;TZID=Pacific/Norfolk:20180708T160000
DTEND;TZID=Pacific/Norfolk:20180708T190000
DTSTAMP:20260422T020856
CREATED:20180323T205309Z
LAST-MODIFIED:20180323T205309Z
UID:1787-1531065600-1531076400@harrisonbounds.com
SUMMARY:11th st Taphouse Acoustic
DESCRIPTION:
URL:https://harrisonbounds.com/event/11th-st-taphouse-acoustic-6/
END:VEVENT
BEGIN:VEVENT
DTSTART;TZID=Pacific/Norfolk:20180707T210000
DTEND;TZID=Pacific/Norfolk:20180707T233000
DTSTAMP:20260422T020856
CREATED:20180320T193952Z
LAST-MODIFIED:20180320T193952Z
UID:1767-1530997200-1531006200@harrisonbounds.com
SUMMARY:Big Woody's
DESCRIPTION:
URL:https://harrisonbounds.com/event/big-woodys/
END:VEVENT
BEGIN:VEVENT
DTSTART;TZID=Pacific/Norfolk:20180707T100000
DTEND;TZID=Pacific/Norfolk:20180707T130000
DTSTAMP:20260422T020856
CREATED:20180411T192620Z
LAST-MODIFIED:20180411T192620Z
UID:1844-1530957600-1530968400@harrisonbounds.com
SUMMARY:Java Surf Brunch
DESCRIPTION:
URL:https://harrisonbounds.com/event/java-surf-brunch-5/
END:VEVENT
BEGIN:VEVENT
DTSTART;TZID=Pacific/Norfolk:20180706T210000
DTEND;TZID=Pacific/Norfolk:20180706T233000
DTSTAMP:20260422T020856
CREATED:20180425T001643Z
LAST-MODIFIED:20180425T001643Z
UID:1868-1530910800-1530919800@harrisonbounds.com
SUMMARY:Tubby's Tavern- Solo Acoustic
DESCRIPTION:
URL:https://harrisonbounds.com/event/tubbys-tavern-solo-acoustic-2/
END:VEVENT
BEGIN:VEVENT
DTSTART;TZID=Pacific/Norfolk:20180706T140000
DTEND;TZID=Pacific/Norfolk:20180706T180000
DTSTAMP:20260422T020856
CREATED:20180604T194838Z
LAST-MODIFIED:20180604T194838Z
UID:1897-1530885600-1530900000@harrisonbounds.com
SUMMARY:Ocean's 27 Happy Hour
DESCRIPTION:
URL:https://harrisonbounds.com/event/oceans-27-happy-hour-2/
END:VEVENT
BEGIN:VEVENT
DTSTART;TZID=Pacific/Norfolk:20180701T170000
DTEND;TZID=Pacific/Norfolk:20180701T200000
DTSTAMP:20260422T020856
CREATED:20180523T184129Z
LAST-MODIFIED:20180523T184129Z
UID:1886-1530464400-1530475200@harrisonbounds.com
SUMMARY:Blue Pete's Acoustic
DESCRIPTION:
URL:https://harrisonbounds.com/event/blue-petes-acoustic-2/
END:VEVENT
BEGIN:VEVENT
DTSTART;TZID=Pacific/Norfolk:20180630T200000
DTEND;TZID=Pacific/Norfolk:20180630T230000
DTSTAMP:20260422T020856
CREATED:20180323T205500Z
LAST-MODIFIED:20180323T205500Z
UID:1793-1530388800-1530399600@harrisonbounds.com
SUMMARY:Private Event PACC
DESCRIPTION:
URL:https://harrisonbounds.com/event/private-event-pacc/
END:VEVENT
BEGIN:VEVENT
DTSTART;TZID=Pacific/Norfolk:20180629T220000
DTEND;TZID=Pacific/Norfolk:20180629T233000
DTSTAMP:20260422T020856
CREATED:20180323T205525Z
LAST-MODIFIED:20180323T205525Z
UID:1796-1530309600-1530315000@harrisonbounds.com
SUMMARY:Mama Kwans
DESCRIPTION:
URL:https://harrisonbounds.com/event/mama-kwans/
END:VEVENT
BEGIN:VEVENT
DTSTART;TZID=Pacific/Norfolk:20180629T153000
DTEND;TZID=Pacific/Norfolk:20180629T170000
DTSTAMP:20260422T020856
CREATED:20180523T195711Z
LAST-MODIFIED:20180523T195711Z
UID:1891-1530286200-1530291600@harrisonbounds.com
SUMMARY:Hatteras Island Surf and Music Festival
DESCRIPTION:
URL:https://harrisonbounds.com/event/hatteras-island-surf-music-festival/
END:VEVENT
BEGIN:VEVENT
DTSTART;TZID=Pacific/Norfolk:20180628T200000
DTEND;TZID=Pacific/Norfolk:20180628T233000
DTSTAMP:20260422T020856
CREATED:20180228T180256Z
LAST-MODIFIED:20180320T191207Z
UID:1734-1530216000-1530228600@harrisonbounds.com
SUMMARY:OBX Brewing Station with The LifeHacks
DESCRIPTION:
URL:https://harrisonbounds.com/event/jj-brewbakers/
END:VEVENT
END:VCALENDAR