BEGIN:VCALENDAR
VERSION:2.0
PRODID:-//Harrison Bounds - ECPv6.15.12.2//NONSGML v1.0//EN
CALSCALE:GREGORIAN
METHOD:PUBLISH
X-WR-CALNAME:Harrison Bounds
X-ORIGINAL-URL:https://harrisonbounds.com
X-WR-CALDESC:Events for Harrison Bounds
REFRESH-INTERVAL;VALUE=DURATION:PT1H
X-Robots-Tag:noindex
X-PUBLISHED-TTL:PT1H
BEGIN:VTIMEZONE
TZID:Pacific/Norfolk
BEGIN:DAYLIGHT
TZOFFSETFROM:+1100
TZOFFSETTO:+1200
TZNAME:+12
DTSTART:20191005T150000
END:DAYLIGHT
END:VTIMEZONE
BEGIN:VEVENT
DTSTART;TZID=Pacific/Norfolk:20181010T203000
DTEND;TZID=Pacific/Norfolk:20181010T233000
DTSTAMP:20260422T020852
CREATED:20180405T144751Z
LAST-MODIFIED:20180405T144751Z
UID:1811-1539203400-1539214200@harrisonbounds.com
SUMMARY:Acoustic at Brown Chicken Brown Cow
DESCRIPTION:
URL:https://harrisonbounds.com/event/acoustic-brown-chicken-brown-cow/
END:VEVENT
BEGIN:VEVENT
DTSTART;TZID=Pacific/Norfolk:20181006T170000
DTEND;TZID=Pacific/Norfolk:20181006T193000
DTSTAMP:20260422T020852
CREATED:20180122T132509Z
LAST-MODIFIED:20180122T132509Z
UID:1653-1538845200-1538854200@harrisonbounds.com
SUMMARY:Wedding PACC
DESCRIPTION:
URL:https://harrisonbounds.com/event/wedding-pacc/
END:VEVENT
BEGIN:VEVENT
DTSTART;TZID=Pacific/Norfolk:20181005T180000
DTEND;TZID=Pacific/Norfolk:20181005T210000
DTSTAMP:20260422T020852
CREATED:20180206T024123Z
LAST-MODIFIED:20180206T024123Z
UID:1706-1538762400-1538773200@harrisonbounds.com
SUMMARY:Cramer Rehearsal Dinner
DESCRIPTION:
URL:https://harrisonbounds.com/event/cramer-rehearsal-dinner/
END:VEVENT
BEGIN:VEVENT
DTSTART;TZID=Pacific/Norfolk:20181003T180000
DTEND;TZID=Pacific/Norfolk:20181003T220000
DTSTAMP:20260422T020852
CREATED:20180928T163710Z
LAST-MODIFIED:20180928T163710Z
UID:2027-1538589600-1538604000@harrisonbounds.com
SUMMARY:Hair of the Dog ODU Acoustic
DESCRIPTION:
URL:https://harrisonbounds.com/event/hair-dog-odu-acoustic/
END:VEVENT
BEGIN:VEVENT
DTSTART;TZID=Pacific/Norfolk:20180929T190000
DTEND;TZID=Pacific/Norfolk:20180929T220000
DTSTAMP:20260422T020852
CREATED:20180715T194702Z
LAST-MODIFIED:20180715T194702Z
UID:1922-1538247600-1538258400@harrisonbounds.com
SUMMARY:Samaritan House Fundraiser with The LifeHacks
DESCRIPTION:
URL:https://harrisonbounds.com/event/samaritan-house-fundraiser-lifehacks/
END:VEVENT
BEGIN:VEVENT
DTSTART;TZID=Pacific/Norfolk:20180928T200000
DTEND;TZID=Pacific/Norfolk:20180928T233000
DTSTAMP:20260422T020852
CREATED:20180921T152846Z
LAST-MODIFIED:20180921T152846Z
UID:2011-1538164800-1538177400@harrisonbounds.com
SUMMARY:Acoustic at Blue Moon Waterside
DESCRIPTION:
URL:https://harrisonbounds.com/event/acoustic-blue-moon-waterside/
END:VEVENT
BEGIN:VEVENT
DTSTART;TZID=Pacific/Norfolk:20180926T190000
DTEND;TZID=Pacific/Norfolk:20180926T220000
DTSTAMP:20260422T020852
CREATED:20180715T194739Z
LAST-MODIFIED:20180715T194739Z
UID:1924-1537988400-1537999200@harrisonbounds.com
SUMMARY:Turner's Avon with The LifeHacks
DESCRIPTION:
URL:https://harrisonbounds.com/event/turners-avon-lifehacks/
END:VEVENT
BEGIN:VEVENT
DTSTART;TZID=Pacific/Norfolk:20180922T180000
DTEND;TZID=Pacific/Norfolk:20180922T210000
DTSTAMP:20260422T020852
CREATED:20180828T150512Z
LAST-MODIFIED:20180828T150512Z
UID:1979-1537639200-1537650000@harrisonbounds.com
SUMMARY:Whiteford Wedding
DESCRIPTION:
URL:https://harrisonbounds.com/event/whiteford-wedding/
END:VEVENT
BEGIN:VEVENT
DTSTART;TZID=Pacific/Norfolk:20180921T210000
DTEND;TZID=Pacific/Norfolk:20180921T233000
DTSTAMP:20260422T020852
CREATED:20180802T022251Z
LAST-MODIFIED:20180802T022251Z
UID:1961-1537563600-1537572600@harrisonbounds.com
SUMMARY:Old Beach Tavern Acoustic
DESCRIPTION:
URL:https://harrisonbounds.com/event/old-beach-tavern-acoustic-2/
END:VEVENT
BEGIN:VEVENT
DTSTART;TZID=Pacific/Norfolk:20180921T140000
DTEND;TZID=Pacific/Norfolk:20180921T180000
DTSTAMP:20260422T020852
CREATED:20180604T195100Z
LAST-MODIFIED:20180604T195100Z
UID:1905-1537538400-1537552800@harrisonbounds.com
SUMMARY:Ocean's 27 Happy Hour
DESCRIPTION:
URL:https://harrisonbounds.com/event/oceans-27-happy-hour-6/
END:VEVENT
BEGIN:VEVENT
DTSTART;TZID=Pacific/Norfolk:20180919T190000
DTEND;TZID=Pacific/Norfolk:20180919T230000
DTSTAMP:20260422T020852
CREATED:20180921T165707Z
LAST-MODIFIED:20180921T165707Z
UID:2013-1537383600-1537398000@harrisonbounds.com
SUMMARY:Ballyhoo's Acoustic
DESCRIPTION:
URL:https://harrisonbounds.com/event/ballyhoos-acoustic-3/
END:VEVENT
BEGIN:VEVENT
DTSTART;TZID=Pacific/Norfolk:20180909T160000
DTEND;TZID=Pacific/Norfolk:20180909T190000
DTSTAMP:20260422T020852
CREATED:20180323T205413Z
LAST-MODIFIED:20180323T205413Z
UID:1791-1536508800-1536519600@harrisonbounds.com
SUMMARY:11th st Taphouse Acoustic
DESCRIPTION:
URL:https://harrisonbounds.com/event/11th-st-taphouse-acoustic-8/
END:VEVENT
BEGIN:VEVENT
DTSTART;TZID=Pacific/Norfolk:20180908T210000
DTEND;TZID=Pacific/Norfolk:20180908T233000
DTSTAMP:20260422T020852
CREATED:20180405T144436Z
LAST-MODIFIED:20180405T144436Z
UID:1807-1536440400-1536449400@harrisonbounds.com
SUMMARY:Brown Chicken Brown Cow with The LifeHacks
DESCRIPTION:
URL:https://harrisonbounds.com/event/brown-chicken-brown-cow-lifehacks/
END:VEVENT
BEGIN:VEVENT
DTSTART;TZID=Pacific/Norfolk:20180907T190000
DTEND;TZID=Pacific/Norfolk:20180907T220000
DTSTAMP:20260422T020852
CREATED:20180715T195112Z
LAST-MODIFIED:20180904T151046Z
UID:1926-1536346800-1536357600@harrisonbounds.com
SUMMARY:The Bunker Grand Opening with The LifeHacks
DESCRIPTION:
URL:https://harrisonbounds.com/event/bunker-grand-opening/
END:VEVENT
BEGIN:VEVENT
DTSTART;TZID=Pacific/Norfolk:20180905T190000
DTEND;TZID=Pacific/Norfolk:20180905T230000
DTSTAMP:20260422T020852
CREATED:20180830T143050Z
LAST-MODIFIED:20180830T143050Z
UID:1985-1536174000-1536188400@harrisonbounds.com
SUMMARY:Ballyhoo's Acoustic
DESCRIPTION:
URL:https://harrisonbounds.com/event/ballyhoos-acoustic-2/
END:VEVENT
BEGIN:VEVENT
DTSTART;TZID=Pacific/Norfolk:20180902T170000
DTEND;TZID=Pacific/Norfolk:20180902T230000
DTSTAMP:20260422T020852
CREATED:20180122T132437Z
LAST-MODIFIED:20180122T132437Z
UID:1651-1535907600-1535929200@harrisonbounds.com
SUMMARY:Wedding South Carolina
DESCRIPTION:
URL:https://harrisonbounds.com/event/wedding-south-carolina/
END:VEVENT
BEGIN:VEVENT
DTSTART;TZID=Pacific/Norfolk:20180901T210000
DTEND;TZID=Pacific/Norfolk:20180901T233000
DTSTAMP:20260422T020852
CREATED:20180828T150554Z
LAST-MODIFIED:20180828T150554Z
UID:1981-1535835600-1535844600@harrisonbounds.com
SUMMARY:The LifeHacks at OBS
DESCRIPTION:
URL:https://harrisonbounds.com/event/the-lifehacks-at-obs/
END:VEVENT
BEGIN:VEVENT
DTSTART;TZID=Pacific/Norfolk:20180831T193000
DTEND;TZID=Pacific/Norfolk:20180831T210000
DTSTAMP:20260422T020852
CREATED:20180410T232023Z
LAST-MODIFIED:20180813T154859Z
UID:1833-1535743800-1535749200@harrisonbounds.com
SUMMARY:The LifeHacks opening for Eve 6 at 24th street stage
DESCRIPTION:
URL:https://harrisonbounds.com/event/waterside/
END:VEVENT
BEGIN:VEVENT
DTSTART;TZID=Pacific/Norfolk:20180831T140000
DTEND;TZID=Pacific/Norfolk:20180831T180000
DTSTAMP:20260422T020852
CREATED:20180604T194955Z
LAST-MODIFIED:20180604T194955Z
UID:1903-1535724000-1535738400@harrisonbounds.com
SUMMARY:Ocean's 27 Happy Hour
DESCRIPTION:
URL:https://harrisonbounds.com/event/oceans-27-happy-hour-5/
END:VEVENT
BEGIN:VEVENT
DTSTART;TZID=Pacific/Norfolk:20180830T190000
DTEND;TZID=Pacific/Norfolk:20180830T210000
DTSTAMP:20260422T020852
CREATED:20180828T150635Z
LAST-MODIFIED:20180828T150635Z
UID:1983-1535655600-1535662800@harrisonbounds.com
SUMMARY:Live on "Out of the Box" with The LifeHacks
DESCRIPTION:
URL:https://harrisonbounds.com/event/live-box-lifehacks/
END:VEVENT
BEGIN:VEVENT
DTSTART;TZID=Pacific/Norfolk:20180826T160000
DTEND;TZID=Pacific/Norfolk:20180826T190000
DTSTAMP:20260422T020852
CREATED:20180323T205340Z
LAST-MODIFIED:20180323T205340Z
UID:1789-1535299200-1535310000@harrisonbounds.com
SUMMARY:11th st Taphouse Acoustic
DESCRIPTION:
URL:https://harrisonbounds.com/event/11th-st-taphouse-acoustic-7/
END:VEVENT
BEGIN:VEVENT
DTSTART;TZID=Pacific/Norfolk:20180825T213000
DTEND;TZID=Pacific/Norfolk:20180825T233000
DTSTAMP:20260422T020852
CREATED:20171017T010058Z
LAST-MODIFIED:20180813T161313Z
UID:1603-1535232600-1535239800@harrisonbounds.com
SUMMARY:Hot Tuna with Vinyl Headlights
DESCRIPTION:
URL:https://harrisonbounds.com/event/scotty-quixx-14/
END:VEVENT
BEGIN:VEVENT
DTSTART;TZID=Pacific/Norfolk:20180825T170000
DTEND;TZID=Pacific/Norfolk:20180825T203000
DTSTAMP:20260422T020852
CREATED:20180821T231425Z
LAST-MODIFIED:20180821T231425Z
UID:1977-1535216400-1535229000@harrisonbounds.com
SUMMARY:Private Party
DESCRIPTION:
URL:https://harrisonbounds.com/event/private-party-7/
END:VEVENT
BEGIN:VEVENT
DTSTART;TZID=Pacific/Norfolk:20180824T190000
DTEND;TZID=Pacific/Norfolk:20180824T220000
DTSTAMP:20260422T020852
CREATED:20180410T231944Z
LAST-MODIFIED:20180410T231944Z
UID:1831-1535137200-1535148000@harrisonbounds.com
SUMMARY:Ocean View Gazebo
DESCRIPTION:
URL:https://harrisonbounds.com/event/ocean-view-gazebo/
END:VEVENT
BEGIN:VEVENT
DTSTART;TZID=Pacific/Norfolk:20180823T180000
DTEND;TZID=Pacific/Norfolk:20180823T210000
DTSTAMP:20260422T020852
CREATED:20180801T213835Z
LAST-MODIFIED:20180801T213835Z
UID:1956-1535047200-1535058000@harrisonbounds.com
SUMMARY:Back Bay Acoustic
DESCRIPTION:
URL:https://harrisonbounds.com/event/back-bay-acoustic-2/
END:VEVENT
BEGIN:VEVENT
DTSTART;TZID=Pacific/Norfolk:20180822T180000
DTEND;TZID=Pacific/Norfolk:20180822T220000
DTSTAMP:20260422T020852
CREATED:20180405T193514Z
LAST-MODIFIED:20180405T193514Z
UID:1821-1534960800-1534975200@harrisonbounds.com
SUMMARY:34th st stage
DESCRIPTION:
URL:https://harrisonbounds.com/event/34th-st-stage-4/
END:VEVENT
BEGIN:VEVENT
DTSTART;TZID=Pacific/Norfolk:20180815T180000
DTEND;TZID=Pacific/Norfolk:20180815T220000
DTSTAMP:20260422T020852
CREATED:20180723T221708Z
LAST-MODIFIED:20180723T221708Z
UID:1939-1534356000-1534370400@harrisonbounds.com
SUMMARY:Calypso Acoustic
DESCRIPTION:
URL:https://harrisonbounds.com/event/calypso-acoustic/
END:VEVENT
BEGIN:VEVENT
DTSTART;TZID=Pacific/Norfolk:20180812T190000
DTEND;TZID=Pacific/Norfolk:20180812T220000
DTSTAMP:20260422T020852
CREATED:20180523T184204Z
LAST-MODIFIED:20180722T204648Z
UID:1888-1534100400-1534111200@harrisonbounds.com
SUMMARY:Blue Pete's Acoustic
DESCRIPTION:
URL:https://harrisonbounds.com/event/blue-petes-acoustic-3/
END:VEVENT
BEGIN:VEVENT
DTSTART;TZID=Pacific/Norfolk:20180811T200000
DTEND;TZID=Pacific/Norfolk:20180811T230000
DTSTAMP:20260422T020852
CREATED:20180202T225226Z
LAST-MODIFIED:20180202T225226Z
UID:1671-1534017600-1534028400@harrisonbounds.com
SUMMARY:Lubo Wine Tasting Room
DESCRIPTION:
URL:https://harrisonbounds.com/event/lubo-wine-tasting-room-4/
END:VEVENT
BEGIN:VEVENT
DTSTART;TZID=Pacific/Norfolk:20180811T180000
DTEND;TZID=Pacific/Norfolk:20180811T190000
DTSTAMP:20260422T020852
CREATED:20180405T144342Z
LAST-MODIFIED:20180808T005215Z
UID:1805-1534010400-1534014000@harrisonbounds.com
SUMMARY:O'Connor Brewing with The LifeHacks
DESCRIPTION:
URL:https://harrisonbounds.com/event/oconnor-brewing-lifehacks/
END:VEVENT
END:VCALENDAR