BEGIN:VCALENDAR
VERSION:2.0
PRODID:-//Harrison Bounds - ECPv6.15.12.2//NONSGML v1.0//EN
CALSCALE:GREGORIAN
METHOD:PUBLISH
X-WR-CALNAME:Harrison Bounds
X-ORIGINAL-URL:https://harrisonbounds.com
X-WR-CALDESC:Events for Harrison Bounds
REFRESH-INTERVAL;VALUE=DURATION:PT1H
X-Robots-Tag:noindex
X-PUBLISHED-TTL:PT1H
BEGIN:VTIMEZONE
TZID:Pacific/Norfolk
BEGIN:DAYLIGHT
TZOFFSETFROM:+1100
TZOFFSETTO:+1200
TZNAME:+12
DTSTART:20191005T150000
END:DAYLIGHT
BEGIN:STANDARD
TZOFFSETFROM:+1200
TZOFFSETTO:+1100
TZNAME:+11
DTSTART:20200404T150000
END:STANDARD
BEGIN:DAYLIGHT
TZOFFSETFROM:+1100
TZOFFSETTO:+1200
TZNAME:+12
DTSTART:20201003T150000
END:DAYLIGHT
END:VTIMEZONE
BEGIN:VEVENT
DTSTART;TZID=Pacific/Norfolk:20190327T180000
DTEND;TZID=Pacific/Norfolk:20190327T220000
DTSTAMP:20260422T091329
CREATED:20190226T013707Z
LAST-MODIFIED:20190226T013707Z
UID:2144-1553709600-1553724000@harrisonbounds.com
SUMMARY:Hair of the Dog ODU Acoustic
DESCRIPTION:
URL:https://harrisonbounds.com/event/hair-dog-odu-acoustic-2/
END:VEVENT
BEGIN:VEVENT
DTSTART;TZID=Pacific/Norfolk:20190323T213000
DTEND;TZID=Pacific/Norfolk:20190323T233000
DTSTAMP:20260422T091329
CREATED:20190104T004523Z
LAST-MODIFIED:20190104T004523Z
UID:2110-1553376600-1553383800@harrisonbounds.com
SUMMARY:The LifeHacks at Stuft in Hampton
DESCRIPTION:
URL:https://harrisonbounds.com/event/lifehacks-stuft-hampton/
END:VEVENT
BEGIN:VEVENT
DTSTART;TZID=Pacific/Norfolk:20190322T190000
DTEND;TZID=Pacific/Norfolk:20190322T220000
DTSTAMP:20260422T091329
CREATED:20190218T192012Z
LAST-MODIFIED:20190218T192012Z
UID:2131-1553281200-1553292000@harrisonbounds.com
SUMMARY:Burger Theory
DESCRIPTION:
URL:https://harrisonbounds.com/event/burger-theory/
END:VEVENT
BEGIN:VEVENT
DTSTART;TZID=Pacific/Norfolk:20190314T200000
DTEND;TZID=Pacific/Norfolk:20190314T233000
DTSTAMP:20260422T091329
CREATED:20190221T020542Z
LAST-MODIFIED:20190221T020542Z
UID:2140-1552593600-1552606200@harrisonbounds.com
SUMMARY:Acoustic at Grain
DESCRIPTION:
URL:https://harrisonbounds.com/event/acoustic-at-grain/
END:VEVENT
BEGIN:VEVENT
DTSTART;TZID=Pacific/Norfolk:20190313T190000
DTEND;TZID=Pacific/Norfolk:20190313T220000
DTSTAMP:20260422T091329
CREATED:20190226T191510Z
LAST-MODIFIED:20190226T191510Z
UID:2148-1552503600-1552514400@harrisonbounds.com
SUMMARY:Acoustic at Aloft Hotel
DESCRIPTION:
URL:https://harrisonbounds.com/event/acoustic-aloft-hotel/
END:VEVENT
BEGIN:VEVENT
DTSTART;TZID=Pacific/Norfolk:20190308T213000
DTEND;TZID=Pacific/Norfolk:20190308T233000
DTSTAMP:20260422T091329
CREATED:20180918T234035Z
LAST-MODIFIED:20180918T234035Z
UID:2005-1552080600-1552087800@harrisonbounds.com
SUMMARY:The LifeHacks at Brown Chicken Brown Cow
DESCRIPTION:
URL:https://harrisonbounds.com/event/lifehacks-brown-chicken-brown-cow-3/
END:VEVENT
BEGIN:VEVENT
DTSTART;TZID=Pacific/Norfolk:20190307T183000
DTEND;TZID=Pacific/Norfolk:20190307T213000
DTSTAMP:20260422T091329
CREATED:20190226T021617Z
LAST-MODIFIED:20190226T021617Z
UID:2146-1551983400-1551994200@harrisonbounds.com
SUMMARY:OBS Acoustic
DESCRIPTION:
URL:https://harrisonbounds.com/event/obs-acoustic-2/
END:VEVENT
BEGIN:VEVENT
DTSTART;TZID=Pacific/Norfolk:20190302T200000
DTEND;TZID=Pacific/Norfolk:20190302T233000
DTSTAMP:20260422T091329
CREATED:20181222T165452Z
LAST-MODIFIED:20181222T165452Z
UID:2091-1551556800-1551569400@harrisonbounds.com
SUMMARY:The LifeHacks at Toast with Delirious George
DESCRIPTION:
URL:https://harrisonbounds.com/event/lifehacks-toast-delirious-george/
END:VEVENT
BEGIN:VEVENT
DTSTART;TZID=Pacific/Norfolk:20190301T210000
DTEND;TZID=Pacific/Norfolk:20190301T233000
DTSTAMP:20260422T091329
CREATED:20181221T230814Z
LAST-MODIFIED:20181221T230814Z
UID:2089-1551474000-1551483000@harrisonbounds.com
SUMMARY:The Hunt Room LifeHacks Duo
DESCRIPTION:
URL:https://harrisonbounds.com/event/hunt-room-lifehacks-duo/
END:VEVENT
BEGIN:VEVENT
DTSTART;TZID=Pacific/Norfolk:20190228T180000
DTEND;TZID=Pacific/Norfolk:20190228T210000
DTSTAMP:20260422T091329
CREATED:20181203T031058Z
LAST-MODIFIED:20181203T031058Z
UID:2076-1551376800-1551387600@harrisonbounds.com
SUMMARY:Acoustic at The Bunker
DESCRIPTION:
URL:https://harrisonbounds.com/event/acoustic-at-the-bunker-2/
END:VEVENT
BEGIN:VEVENT
DTSTART;TZID=Pacific/Norfolk:20190216T163000
DTEND;TZID=Pacific/Norfolk:20190216T183000
DTSTAMP:20260422T091329
CREATED:20181009T143220Z
LAST-MODIFIED:20181009T143220Z
UID:2042-1550334600-1550341800@harrisonbounds.com
SUMMARY:Tuque's Bar and Grill Snowshoe
DESCRIPTION:
URL:https://harrisonbounds.com/event/tuques-bar-grill-snowshoe-4/
END:VEVENT
BEGIN:VEVENT
DTSTART;TZID=Pacific/Norfolk:20190215T210000
DTEND;TZID=Pacific/Norfolk:20190215T233000
DTSTAMP:20260422T091329
CREATED:20181003T182347Z
LAST-MODIFIED:20190130T205429Z
UID:2033-1550264400-1550273400@harrisonbounds.com
SUMMARY:The Locker Room Snowshoe Acoustic
DESCRIPTION:
URL:https://harrisonbounds.com/event/locker-room-snowshoe-acoustic-2/
END:VEVENT
BEGIN:VEVENT
DTSTART;TZID=Pacific/Norfolk:20190215T163000
DTEND;TZID=Pacific/Norfolk:20190215T183000
DTSTAMP:20260422T091329
CREATED:20181009T143150Z
LAST-MODIFIED:20181009T143150Z
UID:2040-1550248200-1550255400@harrisonbounds.com
SUMMARY:Tuque's Bar and Grill Snowshoe
DESCRIPTION:
URL:https://harrisonbounds.com/event/tuques-bar-grill-snowshoe-3/
END:VEVENT
BEGIN:VEVENT
DTSTART;TZID=Pacific/Norfolk:20190213T203000
DTEND;TZID=Pacific/Norfolk:20190213T233000
DTSTAMP:20260422T091329
CREATED:20180918T234132Z
LAST-MODIFIED:20180918T234132Z
UID:2007-1550089800-1550100600@harrisonbounds.com
SUMMARY:Acoustic at Brown Chicken Brown Cow
DESCRIPTION:
URL:https://harrisonbounds.com/event/acoustic-brown-chicken-brown-cow-3/
END:VEVENT
BEGIN:VEVENT
DTSTART;TZID=Pacific/Norfolk:20190212T190000
DTEND;TZID=Pacific/Norfolk:20190212T210000
DTSTAMP:20260422T091329
CREATED:20190103T003834Z
LAST-MODIFIED:20190103T003834Z
UID:2094-1549998000-1550005200@harrisonbounds.com
SUMMARY:VEER Awards with The LifeHacks
DESCRIPTION:
URL:https://harrisonbounds.com/event/veer-awards-lifehacks/
END:VEVENT
BEGIN:VEVENT
DTSTART;TZID=Pacific/Norfolk:20190209T200000
DTEND;TZID=Pacific/Norfolk:20190209T230000
DTSTAMP:20260422T091329
CREATED:20181115T214812Z
LAST-MODIFIED:20181115T214812Z
UID:2061-1549742400-1549753200@harrisonbounds.com
SUMMARY:The Patriot Pub
DESCRIPTION:
URL:https://harrisonbounds.com/event/the-patriot-pub/
END:VEVENT
BEGIN:VEVENT
DTSTART;TZID=Pacific/Norfolk:20190208T213000
DTEND;TZID=Pacific/Norfolk:20190208T233000
DTSTAMP:20260422T091329
CREATED:20180918T234000Z
LAST-MODIFIED:20180918T234000Z
UID:2003-1549661400-1549668600@harrisonbounds.com
SUMMARY:The LifeHacks at Brown Chicken Brown Cow
DESCRIPTION:
URL:https://harrisonbounds.com/event/lifehacks-brown-chicken-brown-cow-2/
END:VEVENT
BEGIN:VEVENT
DTSTART;TZID=Pacific/Norfolk:20190207T213000
DTEND;TZID=Pacific/Norfolk:20190207T233000
DTSTAMP:20260422T091329
CREATED:20181214T185343Z
LAST-MODIFIED:20181214T185343Z
UID:2080-1549575000-1549582200@harrisonbounds.com
SUMMARY:Doc Taylor's Seaside Market Lounge with The LifeHacks
DESCRIPTION:
URL:https://harrisonbounds.com/event/doc-taylors-seaside-market-lounge-lifehacks/
END:VEVENT
BEGIN:VEVENT
DTSTART;TZID=Pacific/Norfolk:20190206T210000
DTEND;TZID=Pacific/Norfolk:20190206T233000
DTSTAMP:20260422T091329
CREATED:20181105T154141Z
LAST-MODIFIED:20181105T154141Z
UID:2057-1549486800-1549495800@harrisonbounds.com
SUMMARY:UPie Norfolk
DESCRIPTION:
URL:https://harrisonbounds.com/event/upie-norfolk/
END:VEVENT
BEGIN:VEVENT
DTSTART;TZID=Pacific/Norfolk:20190201T190000
DTEND;TZID=Pacific/Norfolk:20190201T230000
DTSTAMP:20260422T091329
CREATED:20190129T223758Z
LAST-MODIFIED:20190129T223758Z
UID:2112-1549047600-1549062000@harrisonbounds.com
SUMMARY:Hair of the Dog ODU
DESCRIPTION:
URL:https://harrisonbounds.com/event/hair-dog-odu-3/
END:VEVENT
BEGIN:VEVENT
DTSTART;TZID=Pacific/Norfolk:20190131T180000
DTEND;TZID=Pacific/Norfolk:20190131T210000
DTSTAMP:20260422T091329
CREATED:20181203T031020Z
LAST-MODIFIED:20181203T031020Z
UID:2074-1548957600-1548968400@harrisonbounds.com
SUMMARY:Acoustic at The Bunker
DESCRIPTION:
URL:https://harrisonbounds.com/event/acoustic-at-the-bunker/
END:VEVENT
BEGIN:VEVENT
DTSTART;TZID=Pacific/Norfolk:20190126T200000
DTEND;TZID=Pacific/Norfolk:20190126T230000
DTSTAMP:20260422T091329
CREATED:20181203T030904Z
LAST-MODIFIED:20181222T165840Z
UID:2071-1548532800-1548543600@harrisonbounds.com
SUMMARY:The Bunker Brewpub The LifeHacks with Berries
DESCRIPTION:
URL:https://harrisonbounds.com/event/bunker-brewpub-lifehacks-court-street-company/
END:VEVENT
BEGIN:VEVENT
DTSTART;TZID=Pacific/Norfolk:20190124T183000
DTEND;TZID=Pacific/Norfolk:20190124T200000
DTSTAMP:20260422T091329
CREATED:20181218T204056Z
LAST-MODIFIED:20181218T204056Z
UID:2085-1548354600-1548360000@harrisonbounds.com
SUMMARY:Anchor Allie's Acoustic
DESCRIPTION:
URL:https://harrisonbounds.com/event/anchor-allies-acoustic/
END:VEVENT
BEGIN:VEVENT
DTSTART;TZID=Pacific/Norfolk:20190123T190000
DTEND;TZID=Pacific/Norfolk:20190123T220000
DTSTAMP:20260422T091329
CREATED:20181221T123558Z
LAST-MODIFIED:20181221T123558Z
UID:2087-1548270000-1548280800@harrisonbounds.com
SUMMARY:Aloft Hotel Acoustic
DESCRIPTION:
URL:https://harrisonbounds.com/event/aloft-hotel-acoustic/
END:VEVENT
BEGIN:VEVENT
DTSTART;TZID=Pacific/Norfolk:20190119T163000
DTEND;TZID=Pacific/Norfolk:20190119T183000
DTSTAMP:20260422T091329
CREATED:20181009T143052Z
LAST-MODIFIED:20181009T143052Z
UID:2038-1547915400-1547922600@harrisonbounds.com
SUMMARY:Tuque's Bar and Grill Snowshoe
DESCRIPTION:
URL:https://harrisonbounds.com/event/tuques-bar-grill-snowshoe-2/
END:VEVENT
BEGIN:VEVENT
DTSTART;TZID=Pacific/Norfolk:20190118T163000
DTEND;TZID=Pacific/Norfolk:20190118T183000
DTSTAMP:20260422T091329
CREATED:20181009T143022Z
LAST-MODIFIED:20181009T143022Z
UID:2036-1547829000-1547836200@harrisonbounds.com
SUMMARY:Tuque's Bar and Grill Snowshoe
DESCRIPTION:
URL:https://harrisonbounds.com/event/tuques-bar-grill-snowshoe/
END:VEVENT
BEGIN:VEVENT
DTSTART;TZID=Pacific/Norfolk:20190116T210000
DTEND;TZID=Pacific/Norfolk:20190116T233000
DTSTAMP:20260422T091329
CREATED:20181105T154051Z
LAST-MODIFIED:20181105T154051Z
UID:2055-1547672400-1547681400@harrisonbounds.com
SUMMARY:UPie Norfolk Acoustic
DESCRIPTION:
URL:https://harrisonbounds.com/event/upie-norfolk-acoustic/
END:VEVENT
BEGIN:VEVENT
DTSTART;TZID=Pacific/Norfolk:20190115T210000
DTEND;TZID=Pacific/Norfolk:20190115T233000
DTSTAMP:20260422T091329
CREATED:20181218T153930Z
LAST-MODIFIED:20181218T153930Z
UID:2082-1547586000-1547595000@harrisonbounds.com
SUMMARY:Keagan's Town Center Acoustic
DESCRIPTION:
URL:https://harrisonbounds.com/event/keagans-town-center-acoustic/
END:VEVENT
BEGIN:VEVENT
DTSTART;TZID=Pacific/Norfolk:20190111T213000
DTEND;TZID=Pacific/Norfolk:20190111T233000
DTSTAMP:20260422T091329
CREATED:20180918T192634Z
LAST-MODIFIED:20180918T192634Z
UID:1999-1547242200-1547249400@harrisonbounds.com
SUMMARY:The LifeHacks at Brown Chicken Brown Cow
DESCRIPTION:
URL:https://harrisonbounds.com/event/lifehacks-brown-chicken-brown-cow/
END:VEVENT
BEGIN:VEVENT
DTSTART;TZID=Pacific/Norfolk:20181227T183000
DTEND;TZID=Pacific/Norfolk:20181227T213000
DTSTAMP:20260422T091329
CREATED:20181107T234508Z
LAST-MODIFIED:20181107T234508Z
UID:2059-1545935400-1545946200@harrisonbounds.com
SUMMARY:OBS Acoustic
DESCRIPTION:
URL:https://harrisonbounds.com/event/obs-acoustic/
END:VEVENT
END:VCALENDAR