BEGIN:VCALENDAR
VERSION:2.0
PRODID:-//Harrison Bounds - ECPv6.15.12.2//NONSGML v1.0//EN
CALSCALE:GREGORIAN
METHOD:PUBLISH
X-WR-CALNAME:Harrison Bounds
X-ORIGINAL-URL:https://harrisonbounds.com
X-WR-CALDESC:Events for Harrison Bounds
REFRESH-INTERVAL;VALUE=DURATION:PT1H
X-Robots-Tag:noindex
X-PUBLISHED-TTL:PT1H
BEGIN:VTIMEZONE
TZID:Pacific/Norfolk
BEGIN:DAYLIGHT
TZOFFSETFROM:+1100
TZOFFSETTO:+1200
TZNAME:+12
DTSTART:20191005T150000
END:DAYLIGHT
BEGIN:STANDARD
TZOFFSETFROM:+1200
TZOFFSETTO:+1100
TZNAME:+11
DTSTART:20200404T150000
END:STANDARD
BEGIN:DAYLIGHT
TZOFFSETFROM:+1100
TZOFFSETTO:+1200
TZNAME:+12
DTSTART:20201003T150000
END:DAYLIGHT
END:VTIMEZONE
BEGIN:VEVENT
DTSTART;TZID=Pacific/Norfolk:20190616T160000
DTEND;TZID=Pacific/Norfolk:20190616T200000
DTSTAMP:20260422T081507
CREATED:20190511T215201Z
LAST-MODIFIED:20190511T215201Z
UID:2218-1560700800-1560715200@harrisonbounds.com
SUMMARY:Ballyhoo's Acoustic
DESCRIPTION:
URL:https://harrisonbounds.com/event/ballyhoos-acoustic-5/
END:VEVENT
BEGIN:VEVENT
DTSTART;TZID=Pacific/Norfolk:20190615T180000
DTEND;TZID=Pacific/Norfolk:20190615T210000
DTSTAMP:20260422T081507
CREATED:20190529T224504Z
LAST-MODIFIED:20190529T224504Z
UID:2266-1560621600-1560632400@harrisonbounds.com
SUMMARY:New Realm Brewing
DESCRIPTION:
URL:https://harrisonbounds.com/event/new-realm-brewing/
END:VEVENT
BEGIN:VEVENT
DTSTART;TZID=Pacific/Norfolk:20190613T200000
DTEND;TZID=Pacific/Norfolk:20190613T230000
DTSTAMP:20260422T081507
CREATED:20190508T170049Z
LAST-MODIFIED:20190508T170049Z
UID:2205-1560456000-1560466800@harrisonbounds.com
SUMMARY:Rockfish Acoustic
DESCRIPTION:
URL:https://harrisonbounds.com/event/rockfish-acoustic-2/
END:VEVENT
BEGIN:VEVENT
DTSTART;TZID=Pacific/Norfolk:20190612T170000
DTEND;TZID=Pacific/Norfolk:20190612T200000
DTSTAMP:20260422T081507
CREATED:20190319T024736Z
LAST-MODIFIED:20190319T024736Z
UID:2160-1560358800-1560369600@harrisonbounds.com
SUMMARY:Farmhouse Brewing
DESCRIPTION:
URL:https://harrisonbounds.com/event/farmhouse-brewing/
END:VEVENT
BEGIN:VEVENT
DTSTART;TZID=Pacific/Norfolk:20190609T180000
DTEND;TZID=Pacific/Norfolk:20190609T220000
DTSTAMP:20260422T081507
CREATED:20190319T024622Z
LAST-MODIFIED:20190319T024622Z
UID:2158-1560103200-1560117600@harrisonbounds.com
SUMMARY:34th street stage
DESCRIPTION:
URL:https://harrisonbounds.com/event/34th-street-stage/
END:VEVENT
BEGIN:VEVENT
DTSTART;TZID=Pacific/Norfolk:20190609T120000
DTEND;TZID=Pacific/Norfolk:20190609T150000
DTSTAMP:20260422T081507
CREATED:20190422T144328Z
LAST-MODIFIED:20190422T144328Z
UID:2188-1560081600-1560092400@harrisonbounds.com
SUMMARY:DJing at The Shack
DESCRIPTION:
URL:https://harrisonbounds.com/event/djing-at-the-shack/
END:VEVENT
BEGIN:VEVENT
DTSTART;TZID=Pacific/Norfolk:20190608T180000
DTEND;TZID=Pacific/Norfolk:20190608T210000
DTSTAMP:20260422T081507
CREATED:20190319T025152Z
LAST-MODIFIED:20190319T025152Z
UID:2162-1560016800-1560027600@harrisonbounds.com
SUMMARY:Private Party
DESCRIPTION:
URL:https://harrisonbounds.com/event/private-party-10/
END:VEVENT
BEGIN:VEVENT
DTSTART;TZID=Pacific/Norfolk:20190605T180000
DTEND;TZID=Pacific/Norfolk:20190605T210000
DTSTAMP:20260422T081507
CREATED:20190527T202136Z
LAST-MODIFIED:20190604T225247Z
UID:2262-1559757600-1559768400@harrisonbounds.com
SUMMARY:Acoustic at Brown Chicken Brown Cow
DESCRIPTION:
URL:https://harrisonbounds.com/event/acoustic-brown-chicken-brown-cow-4/
END:VEVENT
BEGIN:VEVENT
DTSTART;TZID=Pacific/Norfolk:20190602T180000
DTEND;TZID=Pacific/Norfolk:20190602T200000
DTSTAMP:20260422T081507
CREATED:20190403T064912Z
LAST-MODIFIED:20190403T064912Z
UID:2184-1559498400-1559505600@harrisonbounds.com
SUMMARY:CP Shuckers Shore Drive
DESCRIPTION:
URL:https://harrisonbounds.com/event/cp-shuckers-shore-drive-7/
END:VEVENT
BEGIN:VEVENT
DTSTART;TZID=Pacific/Norfolk:20190601T190000
DTEND;TZID=Pacific/Norfolk:20190601T220000
DTSTAMP:20260422T081507
CREATED:20190205T235229Z
LAST-MODIFIED:20190205T235229Z
UID:2116-1559415600-1559426400@harrisonbounds.com
SUMMARY:Old Beach Tavern
DESCRIPTION:
URL:https://harrisonbounds.com/event/old-beach-tavern-3/
END:VEVENT
BEGIN:VEVENT
DTSTART;TZID=Pacific/Norfolk:20190531T200000
DTEND;TZID=Pacific/Norfolk:20190531T230000
DTSTAMP:20260422T081507
CREATED:20190508T164648Z
LAST-MODIFIED:20190508T164648Z
UID:2202-1559332800-1559343600@harrisonbounds.com
SUMMARY:Rockfish Acoustic
DESCRIPTION:
URL:https://harrisonbounds.com/event/rockfish-acoustic/
END:VEVENT
BEGIN:VEVENT
DTSTART;TZID=Pacific/Norfolk:20190530T210000
DTEND;TZID=Pacific/Norfolk:20190530T235900
DTSTAMP:20260422T081507
CREATED:20190529T205715Z
LAST-MODIFIED:20190529T205715Z
UID:2264-1559250000-1559260740@harrisonbounds.com
SUMMARY:Chicho's Shore Drive with Jesse Chong
DESCRIPTION:
URL:https://harrisonbounds.com/event/chichos-shore-drive-jesse-chong-3/
END:VEVENT
BEGIN:VEVENT
DTSTART;TZID=Pacific/Norfolk:20190526T220000
DTEND;TZID=Pacific/Norfolk:20190526T233000
DTSTAMP:20260422T081507
CREATED:20190514T015712Z
LAST-MODIFIED:20190514T015712Z
UID:2239-1558908000-1558913400@harrisonbounds.com
SUMMARY:The LifeHacks at HK on the Bay
DESCRIPTION:
URL:https://harrisonbounds.com/event/lifehacks-hk-bay-2/
END:VEVENT
BEGIN:VEVENT
DTSTART;TZID=Pacific/Norfolk:20190526T150000
DTEND;TZID=Pacific/Norfolk:20190526T180000
DTSTAMP:20260422T081507
CREATED:20190522T011407Z
LAST-MODIFIED:20190522T011407Z
UID:2255-1558882800-1558893600@harrisonbounds.com
SUMMARY:New Realm Acoustic
DESCRIPTION:
URL:https://harrisonbounds.com/event/new-realm-acoustic/
END:VEVENT
BEGIN:VEVENT
DTSTART;TZID=Pacific/Norfolk:20190525T213000
DTEND;TZID=Pacific/Norfolk:20190525T233000
DTSTAMP:20260422T081507
CREATED:20190103T004229Z
LAST-MODIFIED:20190103T004229Z
UID:2100-1558819800-1558827000@harrisonbounds.com
SUMMARY:Hot Tuna with The LifeHacks
DESCRIPTION:
URL:https://harrisonbounds.com/event/hot-tuna-lifehacks-4/
END:VEVENT
BEGIN:VEVENT
DTSTART;TZID=Pacific/Norfolk:20190524T193000
DTEND;TZID=Pacific/Norfolk:20190524T223000
DTSTAMP:20260422T081507
CREATED:20190508T152959Z
LAST-MODIFIED:20190508T152959Z
UID:2200-1558726200-1558737000@harrisonbounds.com
SUMMARY:Acoustic at Cactus Jacks
DESCRIPTION:
URL:https://harrisonbounds.com/event/acoustic-cactus-jacks/
END:VEVENT
BEGIN:VEVENT
DTSTART;TZID=Pacific/Norfolk:20190521T170000
DTEND;TZID=Pacific/Norfolk:20190521T200000
DTSTAMP:20260422T081507
CREATED:20190514T015614Z
LAST-MODIFIED:20190514T015614Z
UID:2237-1558458000-1558468800@harrisonbounds.com
SUMMARY:Jessy's Ghent Acoustic
DESCRIPTION:
URL:https://harrisonbounds.com/event/jessys-ghent-acoustic/
END:VEVENT
BEGIN:VEVENT
DTSTART;TZID=Pacific/Norfolk:20190511T210000
DTEND;TZID=Pacific/Norfolk:20190511T233000
DTSTAMP:20260422T081507
CREATED:20190508T173108Z
LAST-MODIFIED:20190508T173108Z
UID:2213-1557608400-1557617400@harrisonbounds.com
SUMMARY:Chicho's Shore Drive LifeHacks Duo
DESCRIPTION:
URL:https://harrisonbounds.com/event/chichos-shore-drive-lifehacks-duo/
END:VEVENT
BEGIN:VEVENT
DTSTART;TZID=Pacific/Norfolk:20190511T113000
DTEND;TZID=Pacific/Norfolk:20190511T143000
DTSTAMP:20260422T081507
CREATED:20190218T192137Z
LAST-MODIFIED:20190218T192137Z
UID:2133-1557574200-1557585000@harrisonbounds.com
SUMMARY:Paradise Ocean Club
DESCRIPTION:
URL:https://harrisonbounds.com/event/paradise-ocean-club/
END:VEVENT
BEGIN:VEVENT
DTSTART;TZID=Pacific/Norfolk:20190510T190000
DTEND;TZID=Pacific/Norfolk:20190510T220000
DTSTAMP:20260422T081507
CREATED:20190205T235134Z
LAST-MODIFIED:20190205T235134Z
UID:2114-1557514800-1557525600@harrisonbounds.com
SUMMARY:Old Beach Tavern
DESCRIPTION:
URL:https://harrisonbounds.com/event/old-beach-tavern-2/
END:VEVENT
BEGIN:VEVENT
DTSTART;TZID=Pacific/Norfolk:20190505T150000
DTEND;TZID=Pacific/Norfolk:20190505T170000
DTSTAMP:20260422T081507
CREATED:20190319T165543Z
LAST-MODIFIED:20190319T165543Z
UID:2169-1557068400-1557075600@harrisonbounds.com
SUMMARY:School of Rock Grad School at The Bunker
DESCRIPTION:
URL:https://harrisonbounds.com/event/school-rock-grad-school-bunker/
END:VEVENT
BEGIN:VEVENT
DTSTART;TZID=Pacific/Norfolk:20190504T170000
DTEND;TZID=Pacific/Norfolk:20190504T220000
DTSTAMP:20260422T081507
CREATED:20190212T172633Z
LAST-MODIFIED:20190212T172633Z
UID:2124-1556989200-1557007200@harrisonbounds.com
SUMMARY:Scurria Wedding
DESCRIPTION:
URL:https://harrisonbounds.com/event/scurria-wedding/
END:VEVENT
BEGIN:VEVENT
DTSTART;TZID=Pacific/Norfolk:20190503T180000
DTEND;TZID=Pacific/Norfolk:20190503T210000
DTSTAMP:20260422T081507
CREATED:20190403T064756Z
LAST-MODIFIED:20190403T064756Z
UID:2180-1556906400-1556917200@harrisonbounds.com
SUMMARY:Wyndham 57th street acoustic
DESCRIPTION:
URL:https://harrisonbounds.com/event/wyndham-57th-street-acoustic/
END:VEVENT
BEGIN:VEVENT
DTSTART;TZID=Pacific/Norfolk:20190502T190000
DTEND;TZID=Pacific/Norfolk:20190502T220000
DTSTAMP:20260422T081507
CREATED:20190426T011104Z
LAST-MODIFIED:20190426T011104Z
UID:2194-1556823600-1556834400@harrisonbounds.com
SUMMARY:Aloft Hotel Acoustic
DESCRIPTION:
URL:https://harrisonbounds.com/event/aloft-hotel-acoustic-2/
END:VEVENT
BEGIN:VEVENT
DTSTART;TZID=Pacific/Norfolk:20190420T180000
DTEND;TZID=Pacific/Norfolk:20190420T210000
DTSTAMP:20260422T081507
CREATED:20190319T165116Z
LAST-MODIFIED:20190319T165116Z
UID:2165-1555783200-1555794000@harrisonbounds.com
SUMMARY:Legend Brewing Depot
DESCRIPTION:
URL:https://harrisonbounds.com/event/legend-brewing-depot/
END:VEVENT
BEGIN:VEVENT
DTSTART;TZID=Pacific/Norfolk:20190417T200000
DTEND;TZID=Pacific/Norfolk:20190417T220000
DTSTAMP:20260422T081507
CREATED:20190319T165433Z
LAST-MODIFIED:20190319T165433Z
UID:2167-1555531200-1555538400@harrisonbounds.com
SUMMARY:School of Rock Grad School at Hot Tuna
DESCRIPTION:
URL:https://harrisonbounds.com/event/school-rock-grad-school-hot-tuna/
END:VEVENT
BEGIN:VEVENT
DTSTART;TZID=Pacific/Norfolk:20190413T213000
DTEND;TZID=Pacific/Norfolk:20190413T233000
DTSTAMP:20260422T081507
CREATED:20190103T004156Z
LAST-MODIFIED:20190103T004156Z
UID:2098-1555191000-1555198200@harrisonbounds.com
SUMMARY:Hot Tuna with The LifeHacks
DESCRIPTION:
URL:https://harrisonbounds.com/event/hot-tuna-lifehacks-3/
END:VEVENT
BEGIN:VEVENT
DTSTART;TZID=Pacific/Norfolk:20190403T180000
DTEND;TZID=Pacific/Norfolk:20190403T220000
DTSTAMP:20260422T081507
CREATED:20190326T231433Z
LAST-MODIFIED:20190326T231433Z
UID:2178-1554314400-1554328800@harrisonbounds.com
SUMMARY:Hair of the Dog ODU
DESCRIPTION:
URL:https://harrisonbounds.com/event/hair-dog-odu-4/
END:VEVENT
BEGIN:VEVENT
DTSTART;TZID=Pacific/Norfolk:20190330T180000
DTEND;TZID=Pacific/Norfolk:20190330T220000
DTSTAMP:20260422T081507
CREATED:20190222T011344Z
LAST-MODIFIED:20190222T011344Z
UID:2142-1553968800-1553983200@harrisonbounds.com
SUMMARY:The LifeHacks at Calypso
DESCRIPTION:
URL:https://harrisonbounds.com/event/the-lifehacks-at-calypso/
END:VEVENT
BEGIN:VEVENT
DTSTART;TZID=Pacific/Norfolk:20190328T180000
DTEND;TZID=Pacific/Norfolk:20190328T210000
DTSTAMP:20260422T081507
CREATED:20181203T031131Z
LAST-MODIFIED:20181203T031131Z
UID:2078-1553796000-1553806800@harrisonbounds.com
SUMMARY:Acoustic at The Bunker
DESCRIPTION:
URL:https://harrisonbounds.com/event/acoustic-at-the-bunker-3/
END:VEVENT
END:VCALENDAR