BEGIN:VCALENDAR
VERSION:2.0
PRODID:-//Harrison Bounds - ECPv6.15.12.2//NONSGML v1.0//EN
CALSCALE:GREGORIAN
METHOD:PUBLISH
X-WR-CALNAME:Harrison Bounds
X-ORIGINAL-URL:https://harrisonbounds.com
X-WR-CALDESC:Events for Harrison Bounds
REFRESH-INTERVAL;VALUE=DURATION:PT1H
X-Robots-Tag:noindex
X-PUBLISHED-TTL:PT1H
BEGIN:VTIMEZONE
TZID:Pacific/Norfolk
BEGIN:DAYLIGHT
TZOFFSETFROM:+1100
TZOFFSETTO:+1200
TZNAME:+12
DTSTART:20191005T150000
END:DAYLIGHT
BEGIN:STANDARD
TZOFFSETFROM:+1200
TZOFFSETTO:+1100
TZNAME:+11
DTSTART:20200404T150000
END:STANDARD
BEGIN:DAYLIGHT
TZOFFSETFROM:+1100
TZOFFSETTO:+1200
TZNAME:+12
DTSTART:20201003T150000
END:DAYLIGHT
END:VTIMEZONE
BEGIN:VEVENT
DTSTART;TZID=Pacific/Norfolk:20190901T190000
DTEND;TZID=Pacific/Norfolk:20190901T220000
DTSTAMP:20260422T081020
CREATED:20190830T172103Z
LAST-MODIFIED:20190830T172103Z
UID:2337-1567364400-1567375200@harrisonbounds.com
SUMMARY:Private Party
DESCRIPTION:
URL:https://harrisonbounds.com/event/private-party-11/
END:VEVENT
BEGIN:VEVENT
DTSTART;TZID=Pacific/Norfolk:20190831T173000
DTEND;TZID=Pacific/Norfolk:20190831T203000
DTSTAMP:20260422T081020
CREATED:20190724T212916Z
LAST-MODIFIED:20190724T212916Z
UID:2297-1567272600-1567283400@harrisonbounds.com
SUMMARY:Acoustic at Back Bay Farmhouse
DESCRIPTION:
URL:https://harrisonbounds.com/event/acoustic-back-bay-farmhouse/
END:VEVENT
BEGIN:VEVENT
DTSTART;TZID=Pacific/Norfolk:20190823T180000
DTEND;TZID=Pacific/Norfolk:20190823T190000
DTSTAMP:20260422T081020
CREATED:20190820T175516Z
LAST-MODIFIED:20190820T175516Z
UID:2309-1566583200-1566586800@harrisonbounds.com
SUMMARY:VIP Tent at Virginia Beach Ampitheater
DESCRIPTION:
URL:https://harrisonbounds.com/event/vip-tent-virginia-beach-ampitheater/
END:VEVENT
BEGIN:VEVENT
DTSTART;TZID=Pacific/Norfolk:20190822T213000
DTEND;TZID=Pacific/Norfolk:20190822T233000
DTSTAMP:20260422T081020
CREATED:20190619T233123Z
LAST-MODIFIED:20190619T233123Z
UID:2273-1566509400-1566516600@harrisonbounds.com
SUMMARY:Catch 31 Acoustic
DESCRIPTION:
URL:https://harrisonbounds.com/event/catch-31-acoustic/
END:VEVENT
BEGIN:VEVENT
DTSTART;TZID=Pacific/Norfolk:20190819T180000
DTEND;TZID=Pacific/Norfolk:20190819T220000
DTSTAMP:20260422T081020
CREATED:20190619T233605Z
LAST-MODIFIED:20190619T233605Z
UID:2279-1566237600-1566252000@harrisonbounds.com
SUMMARY:All That! 90s Tribute- 7th street stage
DESCRIPTION:
URL:https://harrisonbounds.com/event/90s-tribute-7th-street-stage-2/
END:VEVENT
BEGIN:VEVENT
DTSTART;TZID=Pacific/Norfolk:20190815T180000
DTEND;TZID=Pacific/Norfolk:20190815T220000
DTSTAMP:20260422T081020
CREATED:20190521T184426Z
LAST-MODIFIED:20190521T184426Z
UID:2247-1565892000-1565906400@harrisonbounds.com
SUMMARY:The LifeHacks at 7th street stage
DESCRIPTION:
URL:https://harrisonbounds.com/event/lifehacks-7th-street-stage-2/
END:VEVENT
BEGIN:VEVENT
DTSTART;TZID=Pacific/Norfolk:20190813T180000
DTEND;TZID=Pacific/Norfolk:20190813T220000
DTSTAMP:20260422T081020
CREATED:20190323T205407Z
LAST-MODIFIED:20190323T205407Z
UID:2176-1565719200-1565733600@harrisonbounds.com
SUMMARY:34th street stage
DESCRIPTION:
URL:https://harrisonbounds.com/event/34th-street-stage-2/
END:VEVENT
BEGIN:VEVENT
DTSTART;TZID=Pacific/Norfolk:20190811T160000
DTEND;TZID=Pacific/Norfolk:20190811T200000
DTSTAMP:20260422T081020
CREATED:20190511T215306Z
LAST-MODIFIED:20190511T215306Z
UID:2222-1565539200-1565553600@harrisonbounds.com
SUMMARY:Ballyhoo's Acoustic
DESCRIPTION:
URL:https://harrisonbounds.com/event/ballyhoos-acoustic-7/
END:VEVENT
BEGIN:VEVENT
DTSTART;TZID=Pacific/Norfolk:20190808T190000
DTEND;TZID=Pacific/Norfolk:20190808T220000
DTSTAMP:20260422T081020
CREATED:20190520T183401Z
LAST-MODIFIED:20190520T183401Z
UID:2241-1565290800-1565301600@harrisonbounds.com
SUMMARY:Acoustic at The Bunker
DESCRIPTION:
URL:https://harrisonbounds.com/event/acoustic-at-the-bunker-4/
END:VEVENT
BEGIN:VEVENT
DTSTART;TZID=Pacific/Norfolk:20190807T183000
DTEND;TZID=Pacific/Norfolk:20190807T220000
DTSTAMP:20260422T081020
CREATED:20190522T011258Z
LAST-MODIFIED:20190522T011258Z
UID:2253-1565202600-1565215200@harrisonbounds.com
SUMMARY:The LifeHacks at 17th street stage
DESCRIPTION:
URL:https://harrisonbounds.com/event/lifehacks-17th-street-stage/
END:VEVENT
BEGIN:VEVENT
DTSTART;TZID=Pacific/Norfolk:20190804T150000
DTEND;TZID=Pacific/Norfolk:20190804T180000
DTSTAMP:20260422T081020
CREATED:20190724T212645Z
LAST-MODIFIED:20190724T212645Z
UID:2293-1564930800-1564941600@harrisonbounds.com
SUMMARY:Acoustic at The Shack
DESCRIPTION:
URL:https://harrisonbounds.com/event/acoustic-at-the-shack/
END:VEVENT
BEGIN:VEVENT
DTSTART;TZID=Pacific/Norfolk:20190803T160000
DTEND;TZID=Pacific/Norfolk:20190803T180000
DTSTAMP:20260422T081020
CREATED:20190724T212817Z
LAST-MODIFIED:20190730T205740Z
UID:2295-1564848000-1564855200@harrisonbounds.com
SUMMARY:DJ set at the Bunker
DESCRIPTION:
URL:https://harrisonbounds.com/event/dj-set-chichos-29th/
END:VEVENT
BEGIN:VEVENT
DTSTART;TZID=Pacific/Norfolk:20190731T213000
DTEND;TZID=Pacific/Norfolk:20190731T233000
DTSTAMP:20260422T081020
CREATED:20190619T233206Z
LAST-MODIFIED:20190619T233206Z
UID:2275-1564608600-1564615800@harrisonbounds.com
SUMMARY:Sky Bar Acoustic
DESCRIPTION:
URL:https://harrisonbounds.com/event/sky-bar-acoustic/
END:VEVENT
BEGIN:VEVENT
DTSTART;TZID=Pacific/Norfolk:20190730T180000
DTEND;TZID=Pacific/Norfolk:20190730T220000
DTSTAMP:20260422T081020
CREATED:20190522T051841Z
LAST-MODIFIED:20190522T051841Z
UID:2259-1564509600-1564524000@harrisonbounds.com
SUMMARY:Catch 31 Gazebo stage with The LifeHacks
DESCRIPTION:
URL:https://harrisonbounds.com/event/catch-31-gazebo-stage-lifehacks/
END:VEVENT
BEGIN:VEVENT
DTSTART;TZID=Pacific/Norfolk:20190728T180000
DTEND;TZID=Pacific/Norfolk:20190728T200000
DTSTAMP:20260422T081020
CREATED:20190403T064949Z
LAST-MODIFIED:20190403T064949Z
UID:2186-1564336800-1564344000@harrisonbounds.com
SUMMARY:CP Shuckers Shore Drive
DESCRIPTION:
URL:https://harrisonbounds.com/event/cp-shuckers-shore-drive-8/
END:VEVENT
BEGIN:VEVENT
DTSTART;TZID=Pacific/Norfolk:20190727T200000
DTEND;TZID=Pacific/Norfolk:20190727T233000
DTSTAMP:20260422T081020
CREATED:20190625T223916Z
LAST-MODIFIED:20190625T223916Z
UID:2291-1564257600-1564270200@harrisonbounds.com
SUMMARY:The LifeHacks at the Blue Moon Concert Stage
DESCRIPTION:
URL:https://harrisonbounds.com/event/lifehacks-blue-moon-concert-stage/
END:VEVENT
BEGIN:VEVENT
DTSTART;TZID=Pacific/Norfolk:20190726T200000
DTEND;TZID=Pacific/Norfolk:20190726T230000
DTSTAMP:20260422T081020
CREATED:20190508T170330Z
LAST-MODIFIED:20190508T170330Z
UID:2211-1564171200-1564182000@harrisonbounds.com
SUMMARY:Rockfish Acoustic
DESCRIPTION:
URL:https://harrisonbounds.com/event/rockfish-acoustic-5/
END:VEVENT
BEGIN:VEVENT
DTSTART;TZID=Pacific/Norfolk:20190725T180000
DTEND;TZID=Pacific/Norfolk:20190725T210000
DTSTAMP:20260422T081020
CREATED:20190321T174917Z
LAST-MODIFIED:20190620T225203Z
UID:2174-1564077600-1564088400@harrisonbounds.com
SUMMARY:Hermitage Garden with The LifeHacks
DESCRIPTION:
URL:https://harrisonbounds.com/event/hermitage-garden-lifehacks/
END:VEVENT
BEGIN:VEVENT
DTSTART;TZID=Pacific/Norfolk:20190724T210000
DTEND;TZID=Pacific/Norfolk:20190724T233000
DTSTAMP:20260422T081020
CREATED:20190621T185715Z
LAST-MODIFIED:20190621T185715Z
UID:2283-1564002000-1564011000@harrisonbounds.com
SUMMARY:The LifeHacks at Keagans
DESCRIPTION:
URL:https://harrisonbounds.com/event/the-lifehacks-at-keagans/
END:VEVENT
BEGIN:VEVENT
DTSTART;TZID=Pacific/Norfolk:20190724T180000
DTEND;TZID=Pacific/Norfolk:20190724T200000
DTSTAMP:20260422T081020
CREATED:20190522T011130Z
LAST-MODIFIED:20190522T011130Z
UID:2251-1563991200-1563998400@harrisonbounds.com
SUMMARY:CP Shuckers Oceanfront Acoustic
DESCRIPTION:
URL:https://harrisonbounds.com/event/cp-shuckers-oceanfront-acoustic-2/
END:VEVENT
BEGIN:VEVENT
DTSTART;TZID=Pacific/Norfolk:20190720T213000
DTEND;TZID=Pacific/Norfolk:20190720T233000
DTSTAMP:20260422T081020
CREATED:20190103T004307Z
LAST-MODIFIED:20190103T004307Z
UID:2102-1563658200-1563665400@harrisonbounds.com
SUMMARY:Hot Tuna with The LifeHacks
DESCRIPTION:
URL:https://harrisonbounds.com/event/hot-tuna-lifehacks-5/
END:VEVENT
BEGIN:VEVENT
DTSTART;TZID=Pacific/Norfolk:20190720T173000
DTEND;TZID=Pacific/Norfolk:20190720T183000
DTSTAMP:20260422T081020
CREATED:20190319T172336Z
LAST-MODIFIED:20190319T172336Z
UID:2171-1563643800-1563647400@harrisonbounds.com
SUMMARY:Koch Wedding Cocktail Hour
DESCRIPTION:
URL:https://harrisonbounds.com/event/koch-wedding-cocktail-hour/
END:VEVENT
BEGIN:VEVENT
DTSTART;TZID=Pacific/Norfolk:20190718T190000
DTEND;TZID=Pacific/Norfolk:20190718T220000
DTSTAMP:20260422T081020
CREATED:20190508T204343Z
LAST-MODIFIED:20190508T204343Z
UID:2215-1563476400-1563487200@harrisonbounds.com
SUMMARY:Ocean 27 Acoustic
DESCRIPTION:
URL:https://harrisonbounds.com/event/ocean-27-acoustic/
END:VEVENT
BEGIN:VEVENT
DTSTART;TZID=Pacific/Norfolk:20190717T180000
DTEND;TZID=Pacific/Norfolk:20190717T220000
DTSTAMP:20260422T081020
CREATED:20190624T133753Z
LAST-MODIFIED:20190624T133753Z
UID:2287-1563386400-1563400800@harrisonbounds.com
SUMMARY:Acoustic at Calypso
DESCRIPTION:
URL:https://harrisonbounds.com/event/acoustic-at-calypso/
END:VEVENT
BEGIN:VEVENT
DTSTART;TZID=Pacific/Norfolk:20190716T180000
DTEND;TZID=Pacific/Norfolk:20190716T220000
DTSTAMP:20260422T081020
CREATED:20190619T233516Z
LAST-MODIFIED:20190619T233516Z
UID:2277-1563300000-1563314400@harrisonbounds.com
SUMMARY:All That! 90s Tribute- 7th street stage
DESCRIPTION:
URL:https://harrisonbounds.com/event/90s-tribute-7th-street-stage/
END:VEVENT
BEGIN:VEVENT
DTSTART;TZID=Pacific/Norfolk:20190714T160000
DTEND;TZID=Pacific/Norfolk:20190714T200000
DTSTAMP:20260422T081020
CREATED:20190511T215233Z
LAST-MODIFIED:20190511T215233Z
UID:2220-1563120000-1563134400@harrisonbounds.com
SUMMARY:Ballyhoo's Acoustic
DESCRIPTION:
URL:https://harrisonbounds.com/event/ballyhoos-acoustic-6/
END:VEVENT
BEGIN:VEVENT
DTSTART;TZID=Pacific/Norfolk:20190713T200000
DTEND;TZID=Pacific/Norfolk:20190713T233000
DTSTAMP:20260422T081020
CREATED:20190511T215652Z
LAST-MODIFIED:20190511T215652Z
UID:2232-1563048000-1563060600@harrisonbounds.com
SUMMARY:Old Beach Tavern
DESCRIPTION:
URL:https://harrisonbounds.com/event/old-beach-tavern-5/
END:VEVENT
BEGIN:VEVENT
DTSTART;TZID=Pacific/Norfolk:20190712T180000
DTEND;TZID=Pacific/Norfolk:20190712T210000
DTSTAMP:20260422T081020
CREATED:20190403T064842Z
LAST-MODIFIED:20190403T064842Z
UID:2182-1562954400-1562965200@harrisonbounds.com
SUMMARY:Wyndham 57th Street Acoustic
DESCRIPTION:
URL:https://harrisonbounds.com/event/wyndham-57th-street-acoustic-2/
END:VEVENT
BEGIN:VEVENT
DTSTART;TZID=Pacific/Norfolk:20190711T200000
DTEND;TZID=Pacific/Norfolk:20190711T230000
DTSTAMP:20260422T081020
CREATED:20190508T170257Z
LAST-MODIFIED:20190508T170257Z
UID:2209-1562875200-1562886000@harrisonbounds.com
SUMMARY:Rockfish Acoustic
DESCRIPTION:
URL:https://harrisonbounds.com/event/rockfish-acoustic-4/
END:VEVENT
BEGIN:VEVENT
DTSTART;TZID=Pacific/Norfolk:20190709T170000
DTEND;TZID=Pacific/Norfolk:20190709T200000
DTSTAMP:20260422T081020
CREATED:20190624T133849Z
LAST-MODIFIED:20190624T133849Z
UID:2289-1562691600-1562702400@harrisonbounds.com
SUMMARY:Acoustic at Jessy's Ghent
DESCRIPTION:
URL:https://harrisonbounds.com/event/acoustic-jessys-ghent/
END:VEVENT
END:VCALENDAR