BEGIN:VCALENDAR
VERSION:2.0
PRODID:-//Harrison Bounds - ECPv6.15.12.2//NONSGML v1.0//EN
CALSCALE:GREGORIAN
METHOD:PUBLISH
X-WR-CALNAME:Harrison Bounds
X-ORIGINAL-URL:https://harrisonbounds.com
X-WR-CALDESC:Events for Harrison Bounds
REFRESH-INTERVAL;VALUE=DURATION:PT1H
X-Robots-Tag:noindex
X-PUBLISHED-TTL:PT1H
BEGIN:VTIMEZONE
TZID:Pacific/Norfolk
BEGIN:DAYLIGHT
TZOFFSETFROM:+1100
TZOFFSETTO:+1200
TZNAME:+12
DTSTART:20191005T150000
END:DAYLIGHT
BEGIN:STANDARD
TZOFFSETFROM:+1200
TZOFFSETTO:+1100
TZNAME:+11
DTSTART:20200404T150000
END:STANDARD
BEGIN:DAYLIGHT
TZOFFSETFROM:+1100
TZOFFSETTO:+1200
TZNAME:+12
DTSTART:20201003T150000
END:DAYLIGHT
END:VTIMEZONE
BEGIN:VEVENT
DTSTART;TZID=Pacific/Norfolk:20191117T160000
DTEND;TZID=Pacific/Norfolk:20191117T200000
DTSTAMP:20260422T020918
CREATED:20190511T215505Z
LAST-MODIFIED:20191009T172033Z
UID:2228-1574006400-1574020800@harrisonbounds.com
SUMMARY:Ballyhoo's Acoustic
DESCRIPTION:
URL:https://harrisonbounds.com/event/ballyhoos-acoustic-10/
END:VEVENT
BEGIN:VEVENT
DTSTART;TZID=Pacific/Norfolk:20191115T203000
DTEND;TZID=Pacific/Norfolk:20191115T233000
DTSTAMP:20260422T020918
CREATED:20191018T184837Z
LAST-MODIFIED:20191018T184837Z
UID:2407-1573849800-1573860600@harrisonbounds.com
SUMMARY:Bier Garden Festhaus
DESCRIPTION:
URL:https://harrisonbounds.com/event/bier-garden-festhaus-3/
END:VEVENT
BEGIN:VEVENT
DTSTART;TZID=Pacific/Norfolk:20191110T130000
DTEND;TZID=Pacific/Norfolk:20191110T170000
DTSTAMP:20260422T020918
CREATED:20191009T172108Z
LAST-MODIFIED:20191009T172108Z
UID:2398-1573390800-1573405200@harrisonbounds.com
SUMMARY:Cape Story by the Sea Oyster Roast- The LifeHacks
DESCRIPTION:
URL:https://harrisonbounds.com/event/cape-story-sea-oyster-roast-lifehacks/
END:VEVENT
BEGIN:VEVENT
DTSTART;TZID=Pacific/Norfolk:20191109T173000
DTEND;TZID=Pacific/Norfolk:20191109T190000
DTSTAMP:20260422T020918
CREATED:20190825T203837Z
LAST-MODIFIED:20190825T203837Z
UID:2325-1573320600-1573326000@harrisonbounds.com
SUMMARY:All That 90's Band - Live on Atlantic!
DESCRIPTION:
URL:https://harrisonbounds.com/event/90s-band-live-atlantic/
END:VEVENT
BEGIN:VEVENT
DTSTART;TZID=Pacific/Norfolk:20191106T190000
DTEND;TZID=Pacific/Norfolk:20191106T220000
DTSTAMP:20260422T020918
CREATED:20191018T184519Z
LAST-MODIFIED:20191018T184519Z
UID:2403-1573066800-1573077600@harrisonbounds.com
SUMMARY:Cactus Jack's Acoustic
DESCRIPTION:
URL:https://harrisonbounds.com/event/cactus-jacks-acoustic/
END:VEVENT
BEGIN:VEVENT
DTSTART;TZID=Pacific/Norfolk:20191102T213000
DTEND;TZID=Pacific/Norfolk:20191102T233000
DTSTAMP:20260422T020918
CREATED:20191004T193022Z
LAST-MODIFIED:20191004T193022Z
UID:2392-1572730200-1572737400@harrisonbounds.com
SUMMARY:All That at Chicho's Strawbridge
DESCRIPTION:
URL:https://harrisonbounds.com/event/all-that-at-chichos-strawbridge/
END:VEVENT
BEGIN:VEVENT
DTSTART;TZID=Pacific/Norfolk:20191101T220000
DTEND;TZID=Pacific/Norfolk:20191101T233000
DTSTAMP:20260422T020918
CREATED:20191023T155823Z
LAST-MODIFIED:20191023T155823Z
UID:2416-1572645600-1572651000@harrisonbounds.com
SUMMARY:All That at HK on the Bay
DESCRIPTION:
URL:https://harrisonbounds.com/event/all-that-at-hk-on-the-bay/
END:VEVENT
BEGIN:VEVENT
DTSTART;TZID=Pacific/Norfolk:20191030T183000
DTEND;TZID=Pacific/Norfolk:20191030T213000
DTSTAMP:20260422T020918
CREATED:20190924T201228Z
LAST-MODIFIED:20190924T201228Z
UID:2355-1572460200-1572471000@harrisonbounds.com
SUMMARY:Acoustic at Brown Chicken Brown Cow
DESCRIPTION:
URL:https://harrisonbounds.com/event/acoustic-brown-chicken-brown-cow-5/
END:VEVENT
BEGIN:VEVENT
DTSTART;TZID=Pacific/Norfolk:20191026T190000
DTEND;TZID=Pacific/Norfolk:20191026T233000
DTSTAMP:20260422T020918
CREATED:20190823T163302Z
LAST-MODIFIED:20190925T191035Z
UID:2317-1572116400-1572132600@harrisonbounds.com
SUMMARY:Private Party
DESCRIPTION:
URL:https://harrisonbounds.com/event/lifehacks-brown-chicken-brown-cow-4/
END:VEVENT
BEGIN:VEVENT
DTSTART;TZID=Pacific/Norfolk:20191026T120000
DTEND;TZID=Pacific/Norfolk:20191026T160000
DTSTAMP:20260422T020918
CREATED:20190926T212437Z
LAST-MODIFIED:20190926T212437Z
UID:2387-1572091200-1572105600@harrisonbounds.com
SUMMARY:Open House- Suffolk
DESCRIPTION:
URL:https://harrisonbounds.com/event/open-house-suffolk/
END:VEVENT
BEGIN:VEVENT
DTSTART;TZID=Pacific/Norfolk:20191025T170000
DTEND;TZID=Pacific/Norfolk:20191025T210000
DTSTAMP:20260422T020918
CREATED:20191008T011931Z
LAST-MODIFIED:20191008T011931Z
UID:2394-1572022800-1572037200@harrisonbounds.com
SUMMARY:Rocky Mountain Grill
DESCRIPTION:
URL:https://harrisonbounds.com/event/rocky-mountain-grill/
END:VEVENT
BEGIN:VEVENT
DTSTART;TZID=Pacific/Norfolk:20191019T210000
DTEND;TZID=Pacific/Norfolk:20191019T230000
DTSTAMP:20260422T020918
CREATED:20190924T201314Z
LAST-MODIFIED:20190924T201314Z
UID:2357-1571518800-1571526000@harrisonbounds.com
SUMMARY:Bier Garden Festhaus
DESCRIPTION:
URL:https://harrisonbounds.com/event/bier-garden-festhaus-2/
END:VEVENT
BEGIN:VEVENT
DTSTART;TZID=Pacific/Norfolk:20191017T190000
DTEND;TZID=Pacific/Norfolk:20191017T220000
DTSTAMP:20260422T020918
CREATED:20190520T183444Z
LAST-MODIFIED:20190520T183444Z
UID:2243-1571338800-1571349600@harrisonbounds.com
SUMMARY:Acoustic at The Bunker
DESCRIPTION:
URL:https://harrisonbounds.com/event/acoustic-at-the-bunker-5/
END:VEVENT
BEGIN:VEVENT
DTSTART;TZID=Pacific/Norfolk:20191013T160000
DTEND;TZID=Pacific/Norfolk:20191013T200000
DTSTAMP:20260422T020918
CREATED:20190511T215425Z
LAST-MODIFIED:20190511T215425Z
UID:2226-1570982400-1570996800@harrisonbounds.com
SUMMARY:Ballyhoo's Acoustic
DESCRIPTION:
URL:https://harrisonbounds.com/event/ballyhoos-acoustic-9/
END:VEVENT
BEGIN:VEVENT
DTSTART;TZID=Pacific/Norfolk:20191012T220000
DTEND;TZID=Pacific/Norfolk:20191012T233000
DTSTAMP:20260422T020918
CREATED:20190829T192752Z
LAST-MODIFIED:20190829T192752Z
UID:2333-1570917600-1570923000@harrisonbounds.com
SUMMARY:Outer Banks Brewing Station
DESCRIPTION:
URL:https://harrisonbounds.com/event/outer-banks-brewing-station/
END:VEVENT
BEGIN:VEVENT
DTSTART;TZID=Pacific/Norfolk:20191012T180000
DTEND;TZID=Pacific/Norfolk:20191012T210000
DTSTAMP:20260422T020918
CREATED:20190925T035018Z
LAST-MODIFIED:20190925T035018Z
UID:2385-1570903200-1570914000@harrisonbounds.com
SUMMARY:REAL Watersports Acoustic
DESCRIPTION:
URL:https://harrisonbounds.com/event/real-watersports-acoustic-2/
END:VEVENT
BEGIN:VEVENT
DTSTART;TZID=Pacific/Norfolk:20191011T180000
DTEND;TZID=Pacific/Norfolk:20191011T220000
DTSTAMP:20260422T020918
CREATED:20190912T220643Z
LAST-MODIFIED:20190912T220644Z
UID:2345-1570816800-1570831200@harrisonbounds.com
SUMMARY:11th Street Taphouse Acoustic
DESCRIPTION:
URL:https://harrisonbounds.com/event/11th-street-taphouse-acoustic-4/
END:VEVENT
BEGIN:VEVENT
DTSTART;TZID=Pacific/Norfolk:20191010T213000
DTEND;TZID=Pacific/Norfolk:20191010T233000
DTSTAMP:20260422T020918
CREATED:20190825T202937Z
LAST-MODIFIED:20190825T202937Z
UID:2321-1570743000-1570750200@harrisonbounds.com
SUMMARY:The LifeHacks at Doc Taylor's Seaside
DESCRIPTION:
URL:https://harrisonbounds.com/event/lifehacks-doc-taylors-seaside/
END:VEVENT
BEGIN:VEVENT
DTSTART;TZID=Pacific/Norfolk:20191005T210000
DTEND;TZID=Pacific/Norfolk:20191005T235900
DTSTAMP:20260422T020918
CREATED:20190905T144036Z
LAST-MODIFIED:20190905T144036Z
UID:2341-1570309200-1570319940@harrisonbounds.com
SUMMARY:All That 90's Band at Brown Chicken Brown Cow
DESCRIPTION:
URL:https://harrisonbounds.com/event/90s-band-brown-chicken-brown-cow/
END:VEVENT
BEGIN:VEVENT
DTSTART;TZID=Pacific/Norfolk:20191004T180000
DTEND;TZID=Pacific/Norfolk:20191004T210000
DTSTAMP:20260422T020918
CREATED:20190830T170223Z
LAST-MODIFIED:20190830T170223Z
UID:2335-1570212000-1570222800@harrisonbounds.com
SUMMARY:JT Walk VIP Party- Acoustic
DESCRIPTION:
URL:https://harrisonbounds.com/event/jt-walk-vip-party-acoustic/
END:VEVENT
BEGIN:VEVENT
DTSTART;TZID=Pacific/Norfolk:20190929T100000
DTEND;TZID=Pacific/Norfolk:20190929T150000
DTSTAMP:20260422T020918
CREATED:20190825T203344Z
LAST-MODIFIED:20190825T203344Z
UID:2323-1569751200-1569769200@harrisonbounds.com
SUMMARY:The LifeHacks Video Shoot at Charlie's American Cafe
DESCRIPTION:
URL:https://harrisonbounds.com/event/lifehacks-video-shoot-charlies-american-cafe/
END:VEVENT
BEGIN:VEVENT
DTSTART;TZID=Pacific/Norfolk:20190928T170000
DTEND;TZID=Pacific/Norfolk:20190928T220000
DTSTAMP:20260422T020918
CREATED:20190210T181006Z
LAST-MODIFIED:20190210T181006Z
UID:2122-1569690000-1569708000@harrisonbounds.com
SUMMARY:Wedding
DESCRIPTION:
URL:https://harrisonbounds.com/event/wedding-2/
END:VEVENT
BEGIN:VEVENT
DTSTART;TZID=Pacific/Norfolk:20190927T180000
DTEND;TZID=Pacific/Norfolk:20190927T220000
DTSTAMP:20260422T020918
CREATED:20190823T174405Z
LAST-MODIFIED:20190905T143853Z
UID:2319-1569607200-1569621600@harrisonbounds.com
SUMMARY:All That 90s Band at Calypso
DESCRIPTION:
URL:https://harrisonbounds.com/event/the-lifehacks-at-calypso-2/
END:VEVENT
BEGIN:VEVENT
DTSTART;TZID=Pacific/Norfolk:20190926T180000
DTEND;TZID=Pacific/Norfolk:20190926T210000
DTSTAMP:20260422T020918
CREATED:20190820T180224Z
LAST-MODIFIED:20190820T180224Z
UID:2311-1569520800-1569531600@harrisonbounds.com
SUMMARY:Back Bay Brewing Acoustic
DESCRIPTION:
URL:https://harrisonbounds.com/event/back-bay-brewing-acoustic/
END:VEVENT
BEGIN:VEVENT
DTSTART;TZID=Pacific/Norfolk:20190914T180000
DTEND;TZID=Pacific/Norfolk:20190914T210000
DTSTAMP:20260422T020918
CREATED:20190828T205832Z
LAST-MODIFIED:20190828T205832Z
UID:2329-1568484000-1568494800@harrisonbounds.com
SUMMARY:REAL Watersports Acoustic
DESCRIPTION:
URL:https://harrisonbounds.com/event/real-watersports-acoustic/
END:VEVENT
BEGIN:VEVENT
DTSTART;TZID=Pacific/Norfolk:20190913T210000
DTEND;TZID=Pacific/Norfolk:20190913T230000
DTSTAMP:20260422T020918
CREATED:20190829T192701Z
LAST-MODIFIED:20190829T192701Z
UID:2331-1568408400-1568415600@harrisonbounds.com
SUMMARY:Bier Garden Festhaus
DESCRIPTION:
URL:https://harrisonbounds.com/event/bier-garden-festhaus/
END:VEVENT
BEGIN:VEVENT
DTSTART;TZID=Pacific/Norfolk:20190912T200000
DTEND;TZID=Pacific/Norfolk:20190912T230000
DTSTAMP:20260422T020918
CREATED:20190820T180340Z
LAST-MODIFIED:20190820T180340Z
UID:2313-1568318400-1568329200@harrisonbounds.com
SUMMARY:Union Alehouse Acoustic
DESCRIPTION:
URL:https://harrisonbounds.com/event/union-alehouse-acoustic/
END:VEVENT
BEGIN:VEVENT
DTSTART;TZID=Pacific/Norfolk:20190908T160000
DTEND;TZID=Pacific/Norfolk:20190908T200000
DTSTAMP:20260422T020918
CREATED:20190511T215343Z
LAST-MODIFIED:20190511T215343Z
UID:2224-1567958400-1567972800@harrisonbounds.com
SUMMARY:Ballyhoo's Acoustic
DESCRIPTION:
URL:https://harrisonbounds.com/event/ballyhoos-acoustic-8/
END:VEVENT
BEGIN:VEVENT
DTSTART;TZID=Pacific/Norfolk:20190907T170000
DTEND;TZID=Pacific/Norfolk:20190907T220000
DTSTAMP:20260422T020918
CREATED:20190210T180932Z
LAST-MODIFIED:20190210T180932Z
UID:2120-1567875600-1567893600@harrisonbounds.com
SUMMARY:Wedding
DESCRIPTION:
URL:https://harrisonbounds.com/event/wedding/
END:VEVENT
BEGIN:VEVENT
DTSTART;TZID=Pacific/Norfolk:20190903T170000
DTEND;TZID=Pacific/Norfolk:20190903T200000
DTSTAMP:20260422T020918
CREATED:20190730T205829Z
LAST-MODIFIED:20190730T205829Z
UID:2302-1567530000-1567540800@harrisonbounds.com
SUMMARY:Acoustic at Jessy's Ghent
DESCRIPTION:
URL:https://harrisonbounds.com/event/acoustic-jessys-ghent-2/
END:VEVENT
END:VCALENDAR