BEGIN:VCALENDAR
VERSION:2.0
PRODID:-//Harrison Bounds - ECPv6.15.12.2//NONSGML v1.0//EN
CALSCALE:GREGORIAN
METHOD:PUBLISH
X-WR-CALNAME:Harrison Bounds
X-ORIGINAL-URL:https://harrisonbounds.com
X-WR-CALDESC:Events for Harrison Bounds
REFRESH-INTERVAL;VALUE=DURATION:PT1H
X-Robots-Tag:noindex
X-PUBLISHED-TTL:PT1H
BEGIN:VTIMEZONE
TZID:Pacific/Norfolk
BEGIN:DAYLIGHT
TZOFFSETFROM:+1100
TZOFFSETTO:+1200
TZNAME:+12
DTSTART:20191005T150000
END:DAYLIGHT
BEGIN:STANDARD
TZOFFSETFROM:+1200
TZOFFSETTO:+1100
TZNAME:+11
DTSTART:20200404T150000
END:STANDARD
BEGIN:DAYLIGHT
TZOFFSETFROM:+1100
TZOFFSETTO:+1200
TZNAME:+12
DTSTART:20201003T150000
END:DAYLIGHT
BEGIN:STANDARD
TZOFFSETFROM:+1200
TZOFFSETTO:+1100
TZNAME:+11
DTSTART:20210403T150000
END:STANDARD
BEGIN:DAYLIGHT
TZOFFSETFROM:+1100
TZOFFSETTO:+1200
TZNAME:+12
DTSTART:20211002T150000
END:DAYLIGHT
END:VTIMEZONE
BEGIN:VEVENT
DTSTART;TZID=Pacific/Norfolk:20200229T190000
DTEND;TZID=Pacific/Norfolk:20200229T230000
DTSTAMP:20260422T020926
CREATED:20200114T220523Z
LAST-MODIFIED:20200114T220523Z
UID:2613-1583002800-1583017200@harrisonbounds.com
SUMMARY:Acoustic at The Porch
DESCRIPTION:
URL:https://harrisonbounds.com/event/acoustic-at-the-porch-2/
END:VEVENT
BEGIN:VEVENT
DTSTART;TZID=Pacific/Norfolk:20200228T210000
DTEND;TZID=Pacific/Norfolk:20200228T233000
DTSTAMP:20260422T020926
CREATED:20190924T211531Z
LAST-MODIFIED:20190924T211531Z
UID:2381-1582923600-1582932600@harrisonbounds.com
SUMMARY:All That at BCBC
DESCRIPTION:
URL:https://harrisonbounds.com/event/all-that-at-bcbc-2/
END:VEVENT
BEGIN:VEVENT
DTSTART;TZID=Pacific/Norfolk:20200222T213000
DTEND;TZID=Pacific/Norfolk:20200222T233000
DTSTAMP:20260422T020926
CREATED:20200127T175001Z
LAST-MODIFIED:20200127T175001Z
UID:2623-1582407000-1582414200@harrisonbounds.com
SUMMARY:All That at Hot Tuna
DESCRIPTION:
URL:https://harrisonbounds.com/event/all-that-at-hot-tuna/
END:VEVENT
BEGIN:VEVENT
DTSTART;TZID=Pacific/Norfolk:20200222T170000
DTEND;TZID=Pacific/Norfolk:20200222T210000
DTSTAMP:20260422T020926
CREATED:20200127T174916Z
LAST-MODIFIED:20200127T174916Z
UID:2621-1582390800-1582405200@harrisonbounds.com
SUMMARY:Private Event
DESCRIPTION:
URL:https://harrisonbounds.com/event/private-event-4/
END:VEVENT
BEGIN:VEVENT
DTSTART;TZID=Pacific/Norfolk:20200221T190000
DTEND;TZID=Pacific/Norfolk:20200221T230000
DTSTAMP:20260422T020926
CREATED:20200114T220436Z
LAST-MODIFIED:20200114T220436Z
UID:2611-1582311600-1582326000@harrisonbounds.com
SUMMARY:Acoustic at The Porch
DESCRIPTION:
URL:https://harrisonbounds.com/event/acoustic-at-the-porch/
END:VEVENT
BEGIN:VEVENT
DTSTART;TZID=Pacific/Norfolk:20200216T160000
DTEND;TZID=Pacific/Norfolk:20200216T190000
DTSTAMP:20260422T020926
CREATED:20200208T165458Z
LAST-MODIFIED:20200208T165458Z
UID:2640-1581868800-1581879600@harrisonbounds.com
SUMMARY:School of Rock Adult Band Showcase at Eagles Nest Chesapeake
DESCRIPTION:
URL:https://harrisonbounds.com/event/school-of-rock-adult-band-showcase-at-eagles-nest-chesapeake/
END:VEVENT
BEGIN:VEVENT
DTSTART;TZID=Pacific/Norfolk:20200216T120000
DTEND;TZID=Pacific/Norfolk:20200216T150000
DTSTAMP:20260422T020926
CREATED:20200109T212648Z
LAST-MODIFIED:20200109T212648Z
UID:2604-1581854400-1581865200@harrisonbounds.com
SUMMARY:Chick's Oyster Roast
DESCRIPTION:
URL:https://harrisonbounds.com/event/chicks-oyster-roast/
END:VEVENT
BEGIN:VEVENT
DTSTART;TZID=Pacific/Norfolk:20200214T190000
DTEND;TZID=Pacific/Norfolk:20200214T220000
DTSTAMP:20260422T020926
CREATED:20200206T235217Z
LAST-MODIFIED:20200206T235217Z
UID:2631-1581706800-1581717600@harrisonbounds.com
SUMMARY:Acoustic at Burger Theory
DESCRIPTION:
URL:https://harrisonbounds.com/event/acoustic-at-burger-theory/
END:VEVENT
BEGIN:VEVENT
DTSTART;TZID=Pacific/Norfolk:20200212T180000
DTEND;TZID=Pacific/Norfolk:20200212T210000
DTSTAMP:20260422T020926
CREATED:20191107T232450Z
LAST-MODIFIED:20191107T232450Z
UID:2425-1581530400-1581541200@harrisonbounds.com
SUMMARY:Cactus Jacks Acoustic
DESCRIPTION:
URL:https://harrisonbounds.com/event/cactus-jacks-acoustic-3/
END:VEVENT
BEGIN:VEVENT
DTSTART;TZID=Pacific/Norfolk:20200208T210000
DTEND;TZID=Pacific/Norfolk:20200208T233000
DTSTAMP:20260422T020926
CREATED:20200109T212513Z
LAST-MODIFIED:20200109T212513Z
UID:2602-1581195600-1581204600@harrisonbounds.com
SUMMARY:The LifeHacks at Ballyhoos
DESCRIPTION:
URL:https://harrisonbounds.com/event/the-lifehacks-at-ballyhoos/
END:VEVENT
BEGIN:VEVENT
DTSTART;TZID=Pacific/Norfolk:20200207T210000
DTEND;TZID=Pacific/Norfolk:20200207T233000
DTSTAMP:20260422T020926
CREATED:20191213T144131Z
LAST-MODIFIED:20191214T071054Z
UID:2593-1581109200-1581118200@harrisonbounds.com
SUMMARY:The LifeHacks at Keagans
DESCRIPTION:
URL:https://harrisonbounds.com/event/the-lifehacks-at-keagans-2/
END:VEVENT
BEGIN:VEVENT
DTSTART;TZID=Pacific/Norfolk:20200201T180000
DTEND;TZID=Pacific/Norfolk:20200201T230000
DTSTAMP:20260422T020926
CREATED:20191004T192306Z
LAST-MODIFIED:20191004T192306Z
UID:2390-1580580000-1580598000@harrisonbounds.com
SUMMARY:Private Event with The LifeHacks
DESCRIPTION:
URL:https://harrisonbounds.com/event/private-event-lifehacks/
END:VEVENT
BEGIN:VEVENT
DTSTART;TZID=Pacific/Norfolk:20200131T210000
DTEND;TZID=Pacific/Norfolk:20200131T233000
DTSTAMP:20260422T020926
CREATED:20190924T211418Z
LAST-MODIFIED:20190924T211418Z
UID:2378-1580504400-1580513400@harrisonbounds.com
SUMMARY:The LifeHacks at BCBC
DESCRIPTION:
URL:https://harrisonbounds.com/event/the-lifehacks-at-bcbc/
END:VEVENT
BEGIN:VEVENT
DTSTART;TZID=Pacific/Norfolk:20200125T213000
DTEND;TZID=Pacific/Norfolk:20200125T233000
DTSTAMP:20260422T020926
CREATED:20191214T071218Z
LAST-MODIFIED:20191214T071424Z
UID:2596-1579987800-1579995000@harrisonbounds.com
SUMMARY:Old Spruce Brewing Acoustic
DESCRIPTION:
URL:https://harrisonbounds.com/event/old-spruce-brewing-acoustic/
END:VEVENT
BEGIN:VEVENT
DTSTART;TZID=Pacific/Norfolk:20200125T163000
DTEND;TZID=Pacific/Norfolk:20200125T183000
DTSTAMP:20260422T020926
CREATED:20190912T221038Z
LAST-MODIFIED:20190912T221038Z
UID:2353-1579969800-1579977000@harrisonbounds.com
SUMMARY:Tuque's Happy Hour Acoustic
DESCRIPTION:
URL:https://harrisonbounds.com/event/tuques-happy-hour-acoustic-4/
END:VEVENT
BEGIN:VEVENT
DTSTART;TZID=Pacific/Norfolk:20200124T163000
DTEND;TZID=Pacific/Norfolk:20200124T183000
DTSTAMP:20260422T020926
CREATED:20190912T220928Z
LAST-MODIFIED:20190912T220928Z
UID:2351-1579883400-1579890600@harrisonbounds.com
SUMMARY:Tuque's Happy Hour Acoustic
DESCRIPTION:
URL:https://harrisonbounds.com/event/tuques-happy-hour-acoustic-3/
END:VEVENT
BEGIN:VEVENT
DTSTART;TZID=Pacific/Norfolk:20200122T180000
DTEND;TZID=Pacific/Norfolk:20200122T210000
DTSTAMP:20260422T020926
CREATED:20191107T232314Z
LAST-MODIFIED:20191107T232330Z
UID:2422-1579716000-1579726800@harrisonbounds.com
SUMMARY:Cactus Jack's Acoustic
DESCRIPTION:
URL:https://harrisonbounds.com/event/cactus-jacks-acoustic-2/
END:VEVENT
BEGIN:VEVENT
DTSTART;TZID=Pacific/Norfolk:20200118T220000
DTEND;TZID=Pacific/Norfolk:20200118T233000
DTSTAMP:20260422T020926
CREATED:20191114T174123Z
LAST-MODIFIED:20191114T174123Z
UID:2434-1579384800-1579390200@harrisonbounds.com
SUMMARY:Outer Banks Brewing Station with The LifeHacks
DESCRIPTION:
URL:https://harrisonbounds.com/event/outer-banks-brewing-station-lifehacks-2/
END:VEVENT
BEGIN:VEVENT
DTSTART;TZID=Pacific/Norfolk:20200117T220000
DTEND;TZID=Pacific/Norfolk:20200117T233000
DTSTAMP:20260422T020926
CREATED:20191121T154856Z
LAST-MODIFIED:20191121T154856Z
UID:2442-1579298400-1579303800@harrisonbounds.com
SUMMARY:All That at HK on the Bay
DESCRIPTION:
URL:https://harrisonbounds.com/event/all-that-at-hk-on-the-bay-2/
END:VEVENT
BEGIN:VEVENT
DTSTART;TZID=Pacific/Norfolk:20200115T190000
DTEND;TZID=Pacific/Norfolk:20200115T220000
DTSTAMP:20260422T020926
CREATED:20190924T203238Z
LAST-MODIFIED:20190924T203238Z
UID:2364-1579114800-1579125600@harrisonbounds.com
SUMMARY:Acoustic at BCBC
DESCRIPTION:
URL:https://harrisonbounds.com/event/acoustic-at-bcbc/
END:VEVENT
BEGIN:VEVENT
DTSTART;TZID=Pacific/Norfolk:20200111T210000
DTEND;TZID=Pacific/Norfolk:20200111T233000
DTSTAMP:20260422T020926
CREATED:20200116T153700Z
LAST-MODIFIED:20200116T153700Z
UID:2619-1578776400-1578785400@harrisonbounds.com
SUMMARY:Acoustic Duo at Grain
DESCRIPTION:
URL:https://harrisonbounds.com/event/acoustic-duo-at-grain/
END:VEVENT
BEGIN:VEVENT
DTSTART;TZID=Pacific/Norfolk:20200110T213000
DTEND;TZID=Pacific/Norfolk:20200110T233000
DTSTAMP:20260422T020926
CREATED:20191208T165058Z
LAST-MODIFIED:20191208T165058Z
UID:2581-1578691800-1578699000@harrisonbounds.com
SUMMARY:The LifeHacks at Stuft
DESCRIPTION:
URL:https://harrisonbounds.com/event/the-lifehacks-at-stuft/
END:VEVENT
BEGIN:VEVENT
DTSTART;TZID=Pacific/Norfolk:20200103T180000
DTEND;TZID=Pacific/Norfolk:20200103T220000
DTSTAMP:20260422T020926
CREATED:20191213T144044Z
LAST-MODIFIED:20191213T144218Z
UID:2591-1578074400-1578088800@harrisonbounds.com
SUMMARY:The LifeHacks at Calypso
DESCRIPTION:
URL:https://harrisonbounds.com/event/the-lifehacks-at-calypso-3/
END:VEVENT
BEGIN:VEVENT
DTSTART;TZID=Pacific/Norfolk:20200102T180000
DTEND;TZID=Pacific/Norfolk:20200102T203000
DTSTAMP:20260422T020926
CREATED:20191213T143953Z
LAST-MODIFIED:20191213T143953Z
UID:2589-1577988000-1577997000@harrisonbounds.com
SUMMARY:Vibrant Shores Brewing Acoustic
DESCRIPTION:
URL:https://harrisonbounds.com/event/vibrant-shores-brewing-acoustic/
END:VEVENT
BEGIN:VEVENT
DTSTART;TZID=Pacific/Norfolk:20191228T193000
DTEND;TZID=Pacific/Norfolk:20191228T213000
DTSTAMP:20260422T020926
CREATED:20191208T190634Z
LAST-MODIFIED:20191208T190634Z
UID:2587-1577561400-1577568600@harrisonbounds.com
SUMMARY:Old Spruce Brewery
DESCRIPTION:
URL:https://harrisonbounds.com/event/old-spruce-brewery/
END:VEVENT
BEGIN:VEVENT
DTSTART;TZID=Pacific/Norfolk:20191228T163000
DTEND;TZID=Pacific/Norfolk:20191228T183000
DTSTAMP:20260422T020926
CREATED:20190912T220756Z
LAST-MODIFIED:20190912T220756Z
UID:2349-1577550600-1577557800@harrisonbounds.com
SUMMARY:Tuque's Happy Hour Acoustic
DESCRIPTION:
URL:https://harrisonbounds.com/event/tuques-happy-hour-acoustic-2/
END:VEVENT
BEGIN:VEVENT
DTSTART;TZID=Pacific/Norfolk:20191227T163000
DTEND;TZID=Pacific/Norfolk:20191227T183000
DTSTAMP:20260422T020926
CREATED:20190912T220724Z
LAST-MODIFIED:20190912T220724Z
UID:2347-1577464200-1577471400@harrisonbounds.com
SUMMARY:Tuque's Happy Hour Acoustic
DESCRIPTION:
URL:https://harrisonbounds.com/event/tuques-happy-hour-acoustic/
END:VEVENT
BEGIN:VEVENT
DTSTART;TZID=Pacific/Norfolk:20191226T210000
DTEND;TZID=Pacific/Norfolk:20191226T233000
DTSTAMP:20260422T020926
CREATED:20191114T165623Z
LAST-MODIFIED:20191114T165623Z
UID:2432-1577394000-1577403000@harrisonbounds.com
SUMMARY:Keagans Irish Pub Acoustic
DESCRIPTION:
URL:https://harrisonbounds.com/event/keagans-irish-pub-acoustic/
END:VEVENT
BEGIN:VEVENT
DTSTART;TZID=Pacific/Norfolk:20191221T213000
DTEND;TZID=Pacific/Norfolk:20191221T233000
DTSTAMP:20260422T020926
CREATED:20190103T004500Z
LAST-MODIFIED:20190103T004500Z
UID:2108-1576963800-1576971000@harrisonbounds.com
SUMMARY:Hot Tuna with The LifeHacks
DESCRIPTION:
URL:https://harrisonbounds.com/event/hot-tuna-lifehacks-8/
END:VEVENT
BEGIN:VEVENT
DTSTART;TZID=Pacific/Norfolk:20191220T220000
DTEND;TZID=Pacific/Norfolk:20191220T233000
DTSTAMP:20260422T020926
CREATED:20191208T165339Z
LAST-MODIFIED:20191208T165339Z
UID:2585-1576879200-1576884600@harrisonbounds.com
SUMMARY:Ben and Friends at Chicho's Backstage
DESCRIPTION:
URL:https://harrisonbounds.com/event/ben-and-friends-at-chichos-backstage/
END:VEVENT
END:VCALENDAR